Workbook
Name Datum_OTE: "30. 4. 2026"
Name Datum_OTE: "2. 5. 2017"

Sheet COVER PAGE
B3: YEARLY REPORT ON THE OPERATION OF CZECH HEAT SUPPLY SYSTEMS
B6: 2025
B11: Energy Regulatory Office Masarykovo náměstí 91/5, 586 01 Jihlava IČO: 70894451, T: +420 564 578 666, ID DS: eeuaau7 eru.gov.cz

Sheet CONTENTS
A1: CONTENTS
A3: 1 | B3: ABBREVIATIONS, DEFINITIONS AND KEY RELATIONSHIPS | K3: 4
A4: 2 | B4: COMMENTARY | K4: 5
A5: 3 | B5: HEAT BALANCE | K5: 6
A6: 4 | B6: HEAT PRODUCTION | K6: 7
A7: 4.1 | B7: Gross heat production by fuel | K7: 7
A8: 4.2 | B8: Gross heat production in Czech Regions | K8: 8
A9: 4.3 | B9: Gross heat production by fuel in Czech Regions | K9: 9
A10: 5 | B10: HEAT SUPPLY | K10: 10
A11: 5.1 | B11: Heat supply by fuel | K11: 10
A12: 5.2 | B12: Heat supply in Czech Regions | K12: 11
A13: 5.3 | B13: Heat supply by fuel in Czech Regions | K13: 12
A14: 5.4 | B14: Supply of heat from coal, biomass and biogas | K14: 13
... A42: 11 | B42: ADDITIONAL GRAPHS AND THE HEAT BALANCE DIAGRAM FOR 2025 | K42: 38

Sheet INTRODUCTION
A1: INTRODUCTION
A3: Under Section 17(7)(m) of Act No 458/2000 as amended (the Energy Act), the Energy Regulatory Office (ERO) publishes the Yearly Report on the Operation of Heat Supply Systems in the Czech Republic for 2025. The statistics contained herein are mainly intended for Czech governmental authorities and institutions and those of the European Union, and the expert circles. The ERO obtains data for the yearly report under ERO Public Notice 404/2016 on the particulars and structure of the returns required for preparing reports on the operation of systems in energy industries, including the dates, scope and rules for preparing the returns (the Statistics Public Notice), as amended, which came into effect on 1 January 2017. All the details of the methodology for reporting data for the ERO statistics are specified in the ERO’s Explanatory Statement 8/2018 of 14 September 2018 on the method of completing the returns under the Statistics Public Notice for the electricity and heat supply industries. The Explanatory Statement and the current returns are posted on the ERO’s website. All information for this yearly report has been obtained from licensed entities: electricity and heat producers and operators of heat distribution facilities. The Yearly Report on the Operation of Heat Supply Systems in the Czech Republic for 2025 follows up on the yearly reports released in preceding years and provides information about the heat supply industry’s key statistics for 2025, thereby complementing the Yearly Report on the Operation of the Czech Electricity Grid for 2025, which also contains data on combined heat & power generation (CHP). The present report covers all heat produced in licensed activities, including CHP, and also statistics on heat balance, supply, and consumption by category. The report also offers an overview of the installed capacities in the Czech heat producing plants and some Region-specific evaluations. The yearly report for 2025 is based on the data in the report for 4Q 2025 and contains some more accurate data. You are welcome to send your questions and comments to the Quality Statistics and Monitoring Unit at teplo.statistika@eru.gov.cz

Sheet 1
A1: 1 ABBREVIATIONS, DEFINITIONS AND KEY RELATIONSHIPS
A3: CZ-NACE | B3: Classification of economic activities, CZ-NACE, in accordance with the Czech Statistical Office
A4: CHP | B4: Combined heat and power generation
A5: SZT | B5: Heat supply system
A7: Qnet | B7: Net heat production
A8: QCHP | B8: Supply of useful heat from CHP
A10: PHA | B10: Prague
A11: JHČ | B11: Jihočeský (South Bohemian) Region
A12: JHM | B12: Jihomoravský (South Moravian) Region
A13: KVK | B13: Karlovarský (Karlovy Vary) Region
A14: VYS | B14: Vysočina Region
A15: HKK | B15: Královéhradecký (Hradec Králové) Region
A16: LBK | B16: Liberecký (Liberec) Region
... A23: ZLK | B23: Zlínský (Zlín) Region
A25: Gross heat production =
A26: Gross heat production in plants, without heat used for electricity generation
A27: Net heat production =
A28: Gross heat production without own use (process only) heat consumption
A29: Own use (process only) of heat =
A30: Heat consumption for heat and power generation, which is required for operating the process of heat and power generation
A31: Losses =
A32: Losses in heat production and distribution losses (in heat distribution)
A33: Own use of heat =
A34: Heat consumption for the producer’s own consumption (without own use (process only) of heat)
A35: Heat supply =
A36: Thermal energy quantity supplied into heat supply systems
... A40: Final heat consumption in each of the sectors of the national economy

Sheet 2
A1: 2 COMMENTARY
A3: The basic chapter contains the heat balance; it shows that gross heat production totalled 137,334.5 TJ in 2025 and 3.4% more heat was produced compared with 2024 (132,836.9 TJ). Approximately 29% of gross production was consumed in the entity’s own enterprise or facility (these are mostly works’ own CHP plants that are not included in the classification of economic activities (CZ-NACE) in group 35 Electricity, gas, steam, and air conditioning supply). Heat supply amounted to 77,093.1 TJ, up by 5.6% on 2024 (73,002.6 TJ). Heat supply accounted for approximately 56%, own use for process purposes accounted for 6%, and losses accounted for 9% of gross heat production. Most of the heat was produced from brown coal (34%), followed by natural gas (22%) and biomass (21%). The largest quantity of heat was produced in the Ústecký Region (23%), followed by the Středočeský Region (17.3%) and the Moravskoslezský Region (17.2%). The structure of heat production by fuel differs in each of the Regions depending on fuel availability. The decline in gross heat production from coal continues; compared with 2017, the decline for brown coal was by 34% and for hard coal by 61%. On the other hand, in the case of biomass it increased by 61%. Almost all heat from hard coal was produced in the Moravskoslezský Region. The largest quantity of heat from brown coal was produced in the Ústecký Region (36%), from natural gas in the Středočeský Region (19%), from biomass in the Ústecký Region (37%), and from biogas in the Vysočina Region (15%). The structure of heat supply by fuel is similar to that of gross heat production (41% from brown coal, 27% from natural gas, and 14% from biomass); in terms of the structure of heat supply by Region, the Středočeský Region is placed first, followed by the Ústecký Region and the Moravskoslezský Region. In 2025, heat supply from biomass surged the most, by 18%. At the end of 2025, the installed thermal capacity of heat production plants totalled 38,567.7 MWt. Chapter 7 shows a heat consumption breakdown by sector of the national economy. In 2025, households consumed 32,885.4 TJ, accounting for 48% of total consumption, industry consumed 14,734.8 TJ (22% of total consumption), and the trade and service sector consumed 16,571.8 TJ (24% of total consumption). Chapter 8 summarises gross heat production, and heat supply and consumption in the Czech Regions. Combined heat and power generation (CHP) produced 85,172.7 TJ of useful heat, accounting for 66% of net heat production. Most of useful heat from CHP was produced from brown coal (45%), followed by biomass (24%) and natural gas (13%). The small share of useful heat from natural gas in net heat (38%) is attributable to the larger number of natural gas heating plants (substations) than cogeneration units. In 2025, CHP produced 5.7% more heat than in 2024. A comparison of each of the quarters of the two years shows an increase in gross heat production every quarter compared with 2024 (most of all in the first quarter, by 6.2%), due to the colder weather during the year. Year-on-year, heat production dropped the most in the Karlovarský Region, due to decreased own use of heat at Sokolovská uhelná coal mining company.

Sheet 3
A1: 3 HEAT BALANCE [TJ] | N1: 2022
B3: First quarter | E3: Second quarter | H3: Third quarter | K3: Fourth quarter | N3: Total
B4: January | C4: February | D4: March | E4: April | F4: May | G4: June | H4: July | I4: August | J4: September | K4: October | L4: November | M4: December
A5: Gross heat production | B5: =SUM(B6:D6) -> 47740.327 | E5: =SUM(E6:G6) -> 26025.743 | H5: =SUM(H6:J6) -> 21016.829 | K5: =SUM(K6:M6) -> 42551.557 | N5: =SUM(B6:M6) -> 137334.46
B6: ='[1]Podklady RZ'!B6 -> 17776.669 | C6: ='[1]Podklady RZ'!C6 -> 16072.979 | D6: ='[1]Podklady RZ'!D6 -> 13890.679 | E6: ='[1]Podklady RZ'!E6 -> 10129.228 | F6: ='[1]Podklady RZ'!F6 -> 9074.5859 | G6: ='[1]Podklady RZ'!G6 -> 6821.9288 | H6: ='[1]Podklady RZ'!H6 -> 6698.5726 | I6: ='[1]Podklady RZ'!I6 -> 6715.0381 | ... M6: ='[1]Podklady RZ'!M6 -> 16406.202
A7: Own use (process only) of heat | B7: =SUM(B8:D8) -> 2721.6814 | E7: =SUM(E8:G8) -> 1790.8054 | H7: =SUM(H8:J8) -> 1738.0842 | K7: =SUM(K8:M8) -> 2001.728 | N7: =SUM(B8:M8) -> 8252.2989
B8: ='[1]Podklady RZ'!B8 -> 960.26153 | C8: ='[1]Podklady RZ'!C8 -> 873.41144 | D8: ='[1]Podklady RZ'!D8 -> 888.00841 | E8: ='[1]Podklady RZ'!E8 -> 627.70269 | F8: ='[1]Podklady RZ'!F8 -> 613.35914 | G8: ='[1]Podklady RZ'!G8 -> 549.74357 | H8: ='[1]Podklady RZ'!H8 -> 585.81627 | I8: ='[1]Podklady RZ'!I8 -> 568.94967 | ... M8: ='[1]Podklady RZ'!M8 -> 772.32481
A9: Losses | B9: =SUM(B10:D10) -> 3413.4691 | E9: =SUM(E10:G10) -> 2642.9074 | H9: =SUM(H10:J10) -> 2385.79 | K9: =SUM(K10:M10) -> 3307.6803 | N9: =SUM(B10:M10) -> 11749.847
B10: ='[1]Podklady RZ'!B10 -> 1205.2531 | C10: ='[1]Podklady RZ'!C10 -> 1091.341 | D10: ='[1]Podklady RZ'!D10 -> 1116.8749 | E10: ='[1]Podklady RZ'!E10 -> 942.78564 | F10: ='[1]Podklady RZ'!F10 -> 895.60694 | G10: ='[1]Podklady RZ'!G10 -> 804.51485 | H10: ='[1]Podklady RZ'!H10 -> 770.20404 | I10: ='[1]Podklady RZ'!I10 -> 786.57357 | ... M10: ='[1]Podklady RZ'!M10 -> 1160.1989
A11: Own use of heat | B11: =SUM(B12:D12) -> 11531.34 | E11: =SUM(E12:G12) -> 9046.7858 | H11: =SUM(H12:J12) -> 8435.7163 | K11: =SUM(K12:M12) -> 10972.006 | N11: =SUM(B12:M12) -> 39985.848
B12: ='[1]Podklady RZ'!B12 -> 4248.4491 | C12: ='[1]Podklady RZ'!C12 -> 3673.1395 | D12: ='[1]Podklady RZ'!D12 -> 3609.7513 | E12: ='[1]Podklady RZ'!E12 -> 3156.7241 | F12: ='[1]Podklady RZ'!F12 -> 3117.279 | G12: ='[1]Podklady RZ'!G12 -> 2772.7827 | H12: ='[1]Podklady RZ'!H12 -> 2796.673 | I12: ='[1]Podklady RZ'!I12 -> 2763.5835 | ... M12: ='[1]Podklady RZ'!M12 -> 3956.8483
A13: Heat supply | B13: =SUM(B14:D14) -> 30010.319 | E13: =SUM(E14:G14) -> 12492.291 | H13: =SUM(H14:J14) -> 8395.3319 | K13: =SUM(K14:M14) -> 26195.149 | N13: =SUM(B14:M14) -> 77093.091
B14: ='[1]Podklady RZ'!B14 -> 11343.689 | C14: ='[1]Podklady RZ'!C14 -> 10404.305 | D14: ='[1]Podklady RZ'!D14 -> 8262.3241 | E14: ='[1]Podklady RZ'!E14 -> 5385.6958 | F14: ='[1]Podklady RZ'!F14 -> 4431.3835 | G14: ='[1]Podklady RZ'!G14 -> 2675.2117 | H14: ='[1]Podklady RZ'!H14 -> 2529.183 | I14: ='[1]Podklady RZ'!I14 -> 2578.0161 | ... M14: ='[1]Podklady RZ'!M14 -> 10502.239
A15: Balancing difference | B15: =SUM(B16:D16) -> 63.517941 | E15: =SUM(E16:G16) -> 52.953404 | H15: =SUM(H16:J16) -> 61.906965 | K15: =SUM(K16:M16) -> 74.993962 | N15: =SUM(B16:M16) -> 253.37227
B16: ='[1]Podklady RZ'!B16 -> 19.016051 | C16: ='[1]Podklady RZ'!C16 -> 30.781568 | D16: ='[1]Podklady RZ'!D16 -> 13.720322 | E16: ='[1]Podklady RZ'!E16 -> 16.320151 | F16: ='[1]Podklady RZ'!F16 -> 16.957302 | G16: ='[1]Podklady RZ'!G16 -> 19.675951 | H16: ='[1]Podklady RZ'!H16 -> 16.696224 | I16: ='[1]Podklady RZ'!I16 -> 17.915244 | ... M16: ='[1]Podklady RZ'!M16 -> 14.591167
A18: =A5 -> Gross heat production | B18: =B6 -> 17776.669 | C18: =C6 -> 16072.979 | D18: =D6 -> 13890.679 | E18: =E6 -> 10129.228 | F18: =F6 -> 9074.5859 | G18: =G6 -> 6821.9288 | H18: =H6 -> 6698.5726 | I18: =I6 -> 6715.0381 | ... M18: =M6 -> 16406.202
A19: =A7 -> Own use (process only) of heat | B19: =-B8 -> -960.26153 | C19: =-C8 -> -873.41144 | D19: =-D8 -> -888.00841 | E19: =-E8 -> -627.70269 | F19: =-F8 -> -613.35914 | G19: =-G8 -> -549.74357 | H19: =-H8 -> -585.81627 | I19: =-I8 -> -568.94967 | ... M19: =-M8 -> -772.32481
A20: =A9 -> Losses | B20: =-B10 -> -1205.2531 | C20: =-C10 -> -1091.341 | D20: =-D10 -> -1116.8749 | E20: =-E10 -> -942.78564 | F20: =-F10 -> -895.60694 | G20: =-G10 -> -804.51485 | H20: =-H10 -> -770.20404 | I20: =-I10 -> -786.57357 | ... M20: =-M10 -> -1160.1989
A21: =A11 -> Own use of heat | B21: =-B12 -> -4248.4491 | C21: =-C12 -> -3673.1395 | D21: =-D12 -> -3609.7513 | E21: =-E12 -> -3156.7241 | F21: =-F12 -> -3117.279 | G21: =-G12 -> -2772.7827 | H21: =-H12 -> -2796.673 | I21: =-I12 -> -2763.5835 | ... M21: =-M12 -> -3956.8483
A22: =A13 -> Heat supply | B22: =-B14 -> -11343.689 | C22: =-C14 -> -10404.305 | D22: =-D14 -> -8262.3241 | E22: =-E14 -> -5385.6958 | F22: =-F14 -> -4431.3835 | G22: =-G14 -> -2675.2117 | H22: =-H14 -> -2529.183 | I22: =-I14 -> -2578.0161 | ... M22: =-M14 -> -10502.239
A23: =A15 -> Balancing difference | B23: =-B16 -> -19.016051 | C23: =-C16 -> -30.781568 | D23: =-D16 -> -13.720322 | E23: =-E16 -> -16.320151 | F23: =-F16 -> -16.957302 | G23: =-G16 -> -19.675951 | H23: =-H16 -> -16.696224 | I23: =-I16 -> -17.915244 | ... M23: =-M16 -> -14.591167

Sheet 4.1
A1: 4 HEAT PRODUCTION | N1: ='3'!N1 -> 2022
A2: 4.1 Gross heat production by fuel [TJ]
B4: First quarter | E4: Second quarter | H4: Third quarter | K4: Fourth quarter | N4: Total
B5: January | C5: February | D5: March | E5: April | F5: May | G5: June | H5: July | I5: August | J5: September | K5: October | L5: November | M5: December
A6: Gross heat production | B6: =SUM(B7:D7) -> 47740.327 | E6: =SUM(E7:G7) -> 26025.743 | H6: =SUM(H7:J7) -> 21016.829 | K6: =SUM(K7:M7) -> 42551.557 | N6: =SUM(N8:N23) -> 137334.46
B7: =SUM(B8:B23) -> 17776.669 | C7: =SUM(C8:C23) -> 16072.979 | D7: =SUM(D8:D23) -> 13890.679 | E7: =SUM(E8:E23) -> 10129.228 | F7: =SUM(F8:F23) -> 9074.5859 | G7: =SUM(G8:G23) -> 6821.9288 | H7: =SUM(H8:H23) -> 6698.5726 | I7: =SUM(I8:I23) -> 6715.0381 | ... M7: =SUM(M8:M23) -> 16406.202
A8: Biomass | B8: ='[1]Podklady RZ'!B24 -> 2886.194 | C8: ='[1]Podklady RZ'!C24 -> 2780.8423 | D8: ='[1]Podklady RZ'!D24 -> 2839.9331 | E8: ='[1]Podklady RZ'!E24 -> 2271.3723 | F8: ='[1]Podklady RZ'!F24 -> 2331.6238 | G8: ='[1]Podklady RZ'!G24 -> 1960.5269 | H8: ='[1]Podklady RZ'!H24 -> 1843.2878 | I8: ='[1]Podklady RZ'!I24 -> 1821.5613 | ... M8: ='[1]Podklady RZ'!M24 -> 2999.7368 | N8: =SUM(B8:M8) -> 28452.722
A9: Biogas | B9: ='[1]Podklady RZ'!B25 -> 428.8234 | C9: ='[1]Podklady RZ'!C25 -> 381.6378 | D9: ='[1]Podklady RZ'!D25 -> 388.2821 | E9: ='[1]Podklady RZ'!E25 -> 339.11876 | F9: ='[1]Podklady RZ'!F25 -> 327.0538 | G9: ='[1]Podklady RZ'!G25 -> 280.03359 | H9: ='[1]Podklady RZ'!H25 -> 284.1021 | I9: ='[1]Podklady RZ'!I25 -> 286.69029 | ... M9: ='[1]Podklady RZ'!M25 -> 415.66325 | N9: =SUM(B9:M9) -> 4176.0989
A10: Hard coal | B10: ='[1]Podklady RZ'!B26 -> 1191.9834 | C10: ='[1]Podklady RZ'!C26 -> 1068.406 | D10: ='[1]Podklady RZ'!D26 -> 840.06755 | E10: ='[1]Podklady RZ'!E26 -> 535.10351 | F10: ='[1]Podklady RZ'!F26 -> 389.87119 | G10: ='[1]Podklady RZ'!G26 -> 238.64381 | H10: ='[1]Podklady RZ'!H26 -> 218.97863 | I10: ='[1]Podklady RZ'!I26 -> 309.58034 | ... M10: ='[1]Podklady RZ'!M26 -> 885.22837 | N10: =SUM(B10:M10) -> 7600.4706
A11: Electrical energy | B11: ='[1]Podklady RZ'!B27 -> 8.4642 | C11: ='[1]Podklady RZ'!C27 -> 6.536297 | D11: ='[1]Podklady RZ'!D27 -> 9.555779 | E11: ='[1]Podklady RZ'!E27 -> 9.020686 | F11: ='[1]Podklady RZ'!F27 -> 7.200483 | G11: ='[1]Podklady RZ'!G27 -> 8.978333 | H11: ='[1]Podklady RZ'!H27 -> 5.197945 | I11: ='[1]Podklady RZ'!I27 -> 6.983475 | ... M11: ='[1]Podklady RZ'!M27 -> 3.10257 | N11: =SUM(B11:M11) -> 78.381289
A12: Ambient energy (heat pump) | B12: ='[1]Podklady RZ'!B28 -> 10.092826 | C12: ='[1]Podklady RZ'!C28 -> 9.8115971 | D12: ='[1]Podklady RZ'!D28 -> 8.5647441 | E12: ='[1]Podklady RZ'!E28 -> 7.5743114 | F12: ='[1]Podklady RZ'!F28 -> 7.2180908 | G12: ='[1]Podklady RZ'!G28 -> 7.1020725 | H12: ='[1]Podklady RZ'!H28 -> 6.6643423 | I12: ='[1]Podklady RZ'!I28 -> 6.3150251 | ... M12: ='[1]Podklady RZ'!M28 -> 9.2325501 | N12: =SUM(B12:M12) -> 94.892472
A13: Solar energy (solar panel) | B13: ='[1]Podklady RZ'!B29 -> 0.132393 | C13: ='[1]Podklady RZ'!C29 -> 0.091897 | D13: ='[1]Podklady RZ'!D29 -> 0.086683 | E13: ='[1]Podklady RZ'!E29 -> 0.268176 | F13: ='[1]Podklady RZ'!F29 -> 0.081819 | G13: ='[1]Podklady RZ'!G29 -> 0.103688 | H13: ='[1]Podklady RZ'!H29 -> 0.081396 | I13: ='[1]Podklady RZ'!I29 -> 0.084159 | ... M13: ='[1]Podklady RZ'!M29 -> 0.009115 | N13: =SUM(B13:M13) -> 1.050976
A14: Brown coal | B14: ='[1]Podklady RZ'!B30 -> 6729.1287 | C14: ='[1]Podklady RZ'!C30 -> 6118.3899 | D14: ='[1]Podklady RZ'!D30 -> 5100.5717 | E14: ='[1]Podklady RZ'!E30 -> 3504.3321 | F14: ='[1]Podklady RZ'!F30 -> 2775.3962 | G14: ='[1]Podklady RZ'!G30 -> 1678.1365 | H14: ='[1]Podklady RZ'!H30 -> 1648.3997 | I14: ='[1]Podklady RZ'!I30 -> 1698.3893 | ... M14: ='[1]Podklady RZ'!M30 -> 6068.4467 | N14: =SUM(B14:M14) -> 46538.174
A15: Nuclear fuel | B15: ='[1]Podklady RZ'!B31 -> 288.739 | C15: ='[1]Podklady RZ'!C31 -> 255.243 | D15: ='[1]Podklady RZ'!D31 -> 163.875 | E15: ='[1]Podklady RZ'!E31 -> 121.599 | F15: ='[1]Podklady RZ'!F31 -> 105.85 | G15: ='[1]Podklady RZ'!G31 -> 54.954 | H15: ='[1]Podklady RZ'!H31 -> 47.25 | I15: ='[1]Podklady RZ'!I31 -> 28.913 | ... M15: ='[1]Podklady RZ'!M31 -> 205.114 | N15: =SUM(B15:M15) -> 1698.106
A16: Coke | B16: ='[1]Podklady RZ'!B32 -> 0 | C16: ='[1]Podklady RZ'!C32 -> 0 | D16: ='[1]Podklady RZ'!D32 -> 0 | E16: ='[1]Podklady RZ'!E32 -> 0 | F16: ='[1]Podklady RZ'!F32 -> 0 | G16: ='[1]Podklady RZ'!G32 -> 0 | H16: ='[1]Podklady RZ'!H32 -> 0 | I16: ='[1]Podklady RZ'!I32 -> 0 | ... M16: ='[1]Podklady RZ'!M32 -> 0 | N16: =SUM(B16:M16) -> 0
A17: Waste heat | B17: ='[1]Podklady RZ'!B33 -> 649.42891 | C17: ='[1]Podklady RZ'!C33 -> 547.52116 | D17: ='[1]Podklady RZ'!D33 -> 597.77223 | E17: ='[1]Podklady RZ'!E33 -> 567.41801 | F17: ='[1]Podklady RZ'!F33 -> 599.49592 | G17: ='[1]Podklady RZ'!G33 -> 596.68909 | H17: ='[1]Podklady RZ'!H33 -> 510.80502 | I17: ='[1]Podklady RZ'!I33 -> 465.37849 | ... M17: ='[1]Podklady RZ'!M33 -> 665.68715 | N17: =SUM(B17:M17) -> 6918.4667
A18: Other liquid fuels | B18: ='[1]Podklady RZ'!B34 -> 2.674198 | C18: ='[1]Podklady RZ'!C34 -> 2.831218 | D18: ='[1]Podklady RZ'!D34 -> 2.336406 | E18: ='[1]Podklady RZ'!E34 -> 0.635531 | F18: ='[1]Podklady RZ'!F34 -> 0.673571 | G18: ='[1]Podklady RZ'!G34 -> 0.585978 | H18: ='[1]Podklady RZ'!H34 -> 0.526812 | I18: ='[1]Podklady RZ'!I34 -> 0.682558 | ... M18: ='[1]Podklady RZ'!M34 -> 43.51844 | N18: =SUM(B18:M18) -> 111.24891
A19: Other solid fuels | B19: ='[1]Podklady RZ'!B35 -> 513.64988 | C19: ='[1]Podklady RZ'!C35 -> 464.83387 | D19: ='[1]Podklady RZ'!D35 -> 446.25829 | E19: ='[1]Podklady RZ'!E35 -> 430.8091 | F19: ='[1]Podklady RZ'!F35 -> 397.9352 | G19: ='[1]Podklady RZ'!G35 -> 351.49277 | H19: ='[1]Podklady RZ'!H35 -> 305.2479 | I19: ='[1]Podklady RZ'!I35 -> 323.37363 | ... M19: ='[1]Podklady RZ'!M35 -> 438.1909 | N19: =SUM(B19:M19) -> 4800.8261
... A23: Natural gas | B23: ='[1]Podklady RZ'!B39 -> 4455.1462 | C23: ='[1]Podklady RZ'!C39 -> 3867.7773 | D23: ='[1]Podklady RZ'!D39 -> 2935.3864 | E23: ='[1]Podklady RZ'!E39 -> 1815.8591 | F23: ='[1]Podklady RZ'!F39 -> 1550.157 | G23: ='[1]Podklady RZ'!G39 -> 1157.7276 | H23: ='[1]Podklady RZ'!H39 -> 1317.6735 | I23: ='[1]Podklady RZ'!I39 -> 1275.0596 | ... M23: ='[1]Podklady RZ'!M39 -> 4072.3305 | N23: =SUM(B23:M23) -> 30287.946
A25: Biomasa | B25: =+N8 -> 28452.722
A26: Bioplyn | B26: =+N9 -> 4176.0989
A27: Černé uhlí | B27: =+N10 -> 7600.4706
A28: Elektrická energie | B28: =+N11 -> 78.381289
A29: Energie prostředí (tepelné čerpadlo) | B29: =+N12 -> 94.892472
A30: Energie Slunce (solární kolektor) | B30: =+N13 -> 1.050976
A31: Hnědé uhlí | B31: =+N14 -> 46538.174
A32: Jaderné palivo | B32: =+N15 -> 1698.106
A33: Koks | B33: =+N16 -> 0
A34: Odpadní teplo | B34: =+N17 -> 6918.4667
A35: Ostatní kapalná paliva | B35: =+N18 -> 111.24891
A36: Ostatní pevná paliva | B36: =+N19 -> 4800.8261
... A40: Zemní plyn | B40: =+N23 -> 30287.946

Sheet 4.2
A1: 4.2 Gross heat production in Czech Regions [TJ] | N1: ='3'!N1 -> 2022
B3: First quarter | E3: Second quarter | H3: Third quarter | K3: Fourth quarter | N3: Total
B4: January | C4: February | D4: March | E4: April | F4: May | G4: June | H4: July | I4: August | J4: September | K4: October | L4: November | M4: December
A5: Gross heat production | B5: =SUM(B6:D6) -> 47740.327 | E5: =SUM(E6:G6) -> 26025.743 | H5: =SUM(H6:J6) -> 21016.861 | K5: =SUM(K6:M6) -> 42551.557 | N5: =SUM(N7:N20) -> 137334.49
B6: =SUM(B7:B20) -> 17776.669 | C6: =SUM(C7:C20) -> 16072.979 | D6: =SUM(D7:D20) -> 13890.679 | E6: =SUM(E7:E20) -> 10129.228 | F6: =SUM(F7:F20) -> 9074.5859 | G6: =SUM(G7:G20) -> 6821.9288 | H6: =SUM(H7:H20) -> 6698.6043 | I6: =SUM(I7:I20) -> 6715.0381 | ... M6: =SUM(M7:M20) -> 16406.202
A7: Prague | B7: ='[1]Podklady RZ'!B47 -> 701.83384 | C7: ='[1]Podklady RZ'!C47 -> 647.42768 | D7: ='[1]Podklady RZ'!D47 -> 535.96928 | E7: ='[1]Podklady RZ'!E47 -> 350.22649 | F7: ='[1]Podklady RZ'!F47 -> 278.73125 | G7: ='[1]Podklady RZ'!G47 -> 212.67399 | H7: ='[1]Podklady RZ'!H47 -> 209.35099 | I7: ='[1]Podklady RZ'!I47 -> 219.42076 | ... M7: ='[1]Podklady RZ'!M47 -> 647.5837 | N7: =SUM(B7:M7) -> 4949.983
A8: Jihočeský Region | B8: ='[1]Podklady RZ'!B48 -> 941.83408 | C8: ='[1]Podklady RZ'!C48 -> 837.91944 | D8: ='[1]Podklady RZ'!D48 -> 700.63859 | E8: ='[1]Podklady RZ'!E48 -> 495.05723 | F8: ='[1]Podklady RZ'!F48 -> 409.36051 | G8: ='[1]Podklady RZ'!G48 -> 265.20984 | H8: ='[1]Podklady RZ'!H48 -> 257.11681 | I8: ='[1]Podklady RZ'!I48 -> 255.25568 | ... M8: ='[1]Podklady RZ'!M48 -> 857.76357 | N8: =SUM(B8:M8) -> 6673.2435
A9: Jihomoravský Region | B9: ='[1]Podklady RZ'!B49 -> 1106.8515 | C9: ='[1]Podklady RZ'!C49 -> 918.83924 | D9: ='[1]Podklady RZ'!D49 -> 675.92072 | E9: ='[1]Podklady RZ'!E49 -> 481.49775 | F9: ='[1]Podklady RZ'!F49 -> 395.53289 | G9: ='[1]Podklady RZ'!G49 -> 267.10594 | H9: ='[1]Podklady RZ'!H49 -> 255.97213 | I9: ='[1]Podklady RZ'!I49 -> 261.86375 | ... M9: ='[1]Podklady RZ'!M49 -> 929.96756 | N9: =SUM(B9:M9) -> 6965.1587
A10: Karlovarský Region | B10: ='[1]Podklady RZ'!B50 -> 761.06989 | C10: ='[1]Podklady RZ'!C50 -> 686.87835 | D10: ='[1]Podklady RZ'!D50 -> 633.1794 | E10: ='[1]Podklady RZ'!E50 -> 428.76314 | F10: ='[1]Podklady RZ'!F50 -> 381.84764 | G10: ='[1]Podklady RZ'!G50 -> 274.14865 | H10: ='[1]Podklady RZ'!H50 -> 222.32363 | I10: ='[1]Podklady RZ'!I50 -> 250.58323 | ... M10: ='[1]Podklady RZ'!M50 -> 655.62473 | N10: =SUM(B10:M10) -> 5743.146
A11: Vysočina Region | B11: ='[1]Podklady RZ'!B51 -> 494.95268 | C11: ='[1]Podklady RZ'!C51 -> 443.4881 | D11: ='[1]Podklady RZ'!D51 -> 377.33746 | E11: ='[1]Podklady RZ'!E51 -> 278.08765 | F11: ='[1]Podklady RZ'!F51 -> 246.05467 | G11: ='[1]Podklady RZ'!G51 -> 174.85272 | H11: ='[1]Podklady RZ'!H51 -> 153.48962 | I11: ='[1]Podklady RZ'!I51 -> 153.33978 | ... M11: ='[1]Podklady RZ'!M51 -> 449.61078 | N11: =SUM(B11:M11) -> 3622.2041
A12: Královéhradecký Region | B12: ='[1]Podklady RZ'!B52 -> 577.04799 | C12: ='[1]Podklady RZ'!C52 -> 466.03972 | D12: ='[1]Podklady RZ'!D52 -> 390.98163 | E12: ='[1]Podklady RZ'!E52 -> 290.69342 | F12: ='[1]Podklady RZ'!F52 -> 261.55406 | G12: ='[1]Podklady RZ'!G52 -> 183.29052 | H12: ='[1]Podklady RZ'!H52 -> 159.35952 | I12: ='[1]Podklady RZ'!I52 -> 172.03743 | ... M12: ='[1]Podklady RZ'!M52 -> 546.30764 | N12: =SUM(B12:M12) -> 4224.2585
A13: Liberecký Region | B13: ='[1]Podklady RZ'!B53 -> 320.51496 | C13: ='[1]Podklady RZ'!C53 -> 291.27962 | D13: ='[1]Podklady RZ'!D53 -> 233.2752 | E13: ='[1]Podklady RZ'!E53 -> 169.58791 | F13: ='[1]Podklady RZ'!F53 -> 139.49207 | G13: ='[1]Podklady RZ'!G53 -> 108.26815 | H13: ='[1]Podklady RZ'!H53 -> 108.78135 | I13: ='[1]Podklady RZ'!I53 -> 111.67088 | ... M13: ='[1]Podklady RZ'!M53 -> 286.93005 | N13: =SUM(B13:M13) -> 2337.1339
A14: Moravskoslezský Region | B14: ='[1]Podklady RZ'!B54 -> 2898.5001 | C14: ='[1]Podklady RZ'!C54 -> 2596.5933 | D14: ='[1]Podklady RZ'!D54 -> 2278.9672 | E14: ='[1]Podklady RZ'!E54 -> 1797.4504 | F14: ='[1]Podklady RZ'!F54 -> 1727.073 | G14: ='[1]Podklady RZ'!G54 -> 1361.2338 | H14: ='[1]Podklady RZ'!H54 -> 1365.6938 | I14: ='[1]Podklady RZ'!I54 -> 1281.7342 | ... M14: ='[1]Podklady RZ'!M54 -> 2617.2329 | N14: =SUM(B14:M14) -> 23572.454
A15: Olomoucký Region | B15: ='[1]Podklady RZ'!B55 -> 840.45303 | C15: ='[1]Podklady RZ'!C55 -> 731.69727 | D15: ='[1]Podklady RZ'!D55 -> 609.35652 | E15: ='[1]Podklady RZ'!E55 -> 433.18756 | F15: ='[1]Podklady RZ'!F55 -> 396.20481 | G15: ='[1]Podklady RZ'!G55 -> 291.52869 | H15: ='[1]Podklady RZ'!H55 -> 297.36585 | I15: ='[1]Podklady RZ'!I55 -> 298.99764 | ... M15: ='[1]Podklady RZ'!M55 -> 763.33287 | N15: =SUM(B15:M15) -> 6363.224
A16: Pardubický Region | B16: ='[1]Podklady RZ'!B56 -> 883.34505 | C16: ='[1]Podklady RZ'!C56 -> 798.98018 | D16: ='[1]Podklady RZ'!D56 -> 654.18327 | E16: ='[1]Podklady RZ'!E56 -> 447.53759 | F16: ='[1]Podklady RZ'!F56 -> 390.67997 | G16: ='[1]Podklady RZ'!G56 -> 242.71413 | H16: ='[1]Podklady RZ'!H56 -> 232.6344 | I16: ='[1]Podklady RZ'!I56 -> 217.42562 | ... M16: ='[1]Podklady RZ'!M56 -> 811.21239 | N16: =SUM(B16:M16) -> 6228.4352
A17: Plzeňský Region | B17: ='[1]Podklady RZ'!B57 -> 802.96832 | C17: ='[1]Podklady RZ'!C57 -> 749.67213 | D17: ='[1]Podklady RZ'!D57 -> 599.70778 | E17: ='[1]Podklady RZ'!E57 -> 409.47026 | F17: ='[1]Podklady RZ'!F57 -> 327.26889 | G17: ='[1]Podklady RZ'!G57 -> 204.52695 | H17: ='[1]Podklady RZ'!H57 -> 199.27452 | I17: ='[1]Podklady RZ'!I57 -> 167.58932 | ... M17: ='[1]Podklady RZ'!M57 -> 727.06913 | N17: =SUM(B17:M17) -> 5563.1681
A18: Středočeský Region | B18: ='[1]Podklady RZ'!B58 -> 3296.4961 | C18: ='[1]Podklady RZ'!C58 -> 2948.441 | D18: ='[1]Podklady RZ'!D58 -> 2475.4287 | E18: ='[1]Podklady RZ'!E58 -> 1578.0504 | F18: ='[1]Podklady RZ'!F58 -> 1394.5286 | G18: ='[1]Podklady RZ'!G58 -> 1015.1108 | H18: ='[1]Podklady RZ'!H58 -> 892.64356 | I18: ='[1]Podklady RZ'!I58 -> 956.15824 | ... M18: ='[1]Podklady RZ'!M58 -> 3115.2165 | N18: =SUM(B18:M18) -> 23817.494
... A20: Zlínský Region | B20: ='[1]Podklady RZ'!B60 -> 832.50887 | C20: ='[1]Podklady RZ'!C60 -> 729.2654 | D20: ='[1]Podklady RZ'!D60 -> 620.10341 | E20: ='[1]Podklady RZ'!E60 -> 468.87547 | F20: ='[1]Podklady RZ'!F60 -> 445.18638 | G20: ='[1]Podklady RZ'!G60 -> 333.22789 | H20: ='[1]Podklady RZ'!H60 -> 338.68866 | I20: ='[1]Podklady RZ'!I60 -> 304.00059 | ... M20: ='[1]Podklady RZ'!M60 -> 694.42661 | N20: =SUM(B20:M20) -> 6284.5151
A22: Hlavní město Praha | B22: =SUM(INDEX(B7:M7,,MONTH('[1]Podklady RZ'!$O$1)):INDEX(B7:M7,,MONTH('[1]Podklady RZ'!$Q$1))) -> 4949.983
A23: Jihočeský kraj | B23: =SUM(INDEX(B8:M8,,MONTH('[1]Podklady RZ'!$O$1)):INDEX(B8:M8,,MONTH('[1]Podklady RZ'!$Q$1))) -> 6673.2435
A24: Jihomoravský kraj | B24: =SUM(INDEX(B9:M9,,MONTH('[1]Podklady RZ'!$O$1)):INDEX(B9:M9,,MONTH('[1]Podklady RZ'!$Q$1))) -> 6965.1587
A25: Karlovarský kraj | B25: =SUM(INDEX(B10:M10,,MONTH('[1]Podklady RZ'!$O$1)):INDEX(B10:M10,,MONTH('[1]Podklady RZ'!$Q$1))) -> 5743.146
A26: Kraj Vysočina | B26: =SUM(INDEX(B11:M11,,MONTH('[1]Podklady RZ'!$O$1)):INDEX(B11:M11,,MONTH('[1]Podklady RZ'!$Q$1))) -> 3622.2041
A27: Královéhradecký kraj | B27: =SUM(INDEX(B12:M12,,MONTH('[1]Podklady RZ'!$O$1)):INDEX(B12:M12,,MONTH('[1]Podklady RZ'!$Q$1))) -> 4224.2585
A28: Liberecký kraj | B28: =SUM(INDEX(B13:M13,,MONTH('[1]Podklady RZ'!$O$1)):INDEX(B13:M13,,MONTH('[1]Podklady RZ'!$Q$1))) -> 2337.1339
A29: Moravskoslezský kraj | B29: =SUM(INDEX(B14:M14,,MONTH('[1]Podklady RZ'!$O$1)):INDEX(B14:M14,,MONTH('[1]Podklady RZ'!$Q$1))) -> 23572.454
A30: Olomoucký kraj | B30: =SUM(INDEX(B15:M15,,MONTH('[1]Podklady RZ'!$O$1)):INDEX(B15:M15,,MONTH('[1]Podklady RZ'!$Q$1))) -> 6363.224
A31: Pardubický kraj | B31: =SUM(INDEX(B16:M16,,MONTH('[1]Podklady RZ'!$O$1)):INDEX(B16:M16,,MONTH('[1]Podklady RZ'!$Q$1))) -> 6228.4352
A32: Plzeňský kraj | B32: =SUM(INDEX(B17:M17,,MONTH('[1]Podklady RZ'!$O$1)):INDEX(B17:M17,,MONTH('[1]Podklady RZ'!$Q$1))) -> 5563.1681
A33: Středočeský kraj | B33: =SUM(INDEX(B18:M18,,MONTH('[1]Podklady RZ'!$O$1)):INDEX(B18:M18,,MONTH('[1]Podklady RZ'!$Q$1))) -> 23817.494
... A35: Zlínský kraj | B35: =SUM(INDEX(B20:M20,,MONTH('[1]Podklady RZ'!$O$1)):INDEX(B20:M20,,MONTH('[1]Podklady RZ'!$Q$1))) -> 6284.5151

Sheet 4.3
A1: 4.3. Gross heat production by fuel in Czech Regions [TJ] | P1: ='3'!N1 -> 2022
B3: PHA | C3: JHČ | D3: JHM | E3: KVK | F3: VYS | G3: HKK | H3: LBK | I3: MSK | J3: OLK | K3: PAK | L3: PLK | M3: STČ | N3: ULK | O3: ZLK | P3: Total
A4: Gross heat production | B4: =SUM(B5:B20) -> 4949.983 | C4: =SUM(C5:C20) -> 6673.2117 | D4: =SUM(D5:D20) -> 6965.1587 | E4: =SUM(E5:E20) -> 5743.146 | F4: =SUM(F5:F20) -> 3622.2041 | G4: =SUM(G5:G20) -> 4224.2585 | H4: =SUM(H5:H20) -> 2337.1339 | I4: =SUM(I5:I20) -> 23572.454 | ... P4: =SUM(P5:P20) -> 137334.46
A5: Biomass | B5: ='[1]Podklady RZ'!B66 -> 0 | C5: ='[1]Podklady RZ'!C66 -> 2659.0153 | D5: ='[1]Podklady RZ'!D66 -> 570.72123 | E5: ='[1]Podklady RZ'!E66 -> 469.79233 | F5: ='[1]Podklady RZ'!F66 -> 1465.7979 | G5: ='[1]Podklady RZ'!G66 -> 998.8331 | H5: ='[1]Podklady RZ'!H66 -> 6.103365 | I5: ='[1]Podklady RZ'!I66 -> 6577.1924 | ... O5: ='[1]Podklady RZ'!O66 -> 867.63689 | P5: =SUM(B5:O5) -> 28452.722
A6: Biogas | B6: ='[1]Podklady RZ'!B67 -> 190.2496 | C6: ='[1]Podklady RZ'!C67 -> 409.99302 | D6: ='[1]Podklady RZ'!D67 -> 306.72936 | E6: ='[1]Podklady RZ'!E67 -> 48.861753 | F6: ='[1]Podklady RZ'!F67 -> 614.22622 | G6: ='[1]Podklady RZ'!G67 -> 402.18448 | H6: ='[1]Podklady RZ'!H67 -> 39.666316 | I6: ='[1]Podklady RZ'!I67 -> 320.50371 | ... O6: ='[1]Podklady RZ'!O67 -> 159.88547 | P6: =SUM(B6:O6) -> 4176.0989
A7: Hard coal | B7: ='[1]Podklady RZ'!B68 -> 0 | C7: ='[1]Podklady RZ'!C68 -> 32.392 | D7: ='[1]Podklady RZ'!D68 -> 0.14817 | E7: ='[1]Podklady RZ'!E68 -> 0 | F7: ='[1]Podklady RZ'!F68 -> 0 | G7: ='[1]Podklady RZ'!G68 -> 0.20103 | H7: ='[1]Podklady RZ'!H68 -> 0 | I7: ='[1]Podklady RZ'!I68 -> 7413.0344 | ... O7: ='[1]Podklady RZ'!O68 -> 151.49278 | P7: =SUM(B7:O7) -> 7600.4706
A8: Electrical energy | B8: ='[1]Podklady RZ'!B69 -> 2.048 | C8: ='[1]Podklady RZ'!C69 -> 0.12404 | D8: ='[1]Podklady RZ'!D69 -> 5.944424 | E8: ='[1]Podklady RZ'!E69 -> 0 | F8: ='[1]Podklady RZ'!F69 -> 1.97111 | G8: ='[1]Podklady RZ'!G69 -> 2.4188 | H8: ='[1]Podklady RZ'!H69 -> 3.01957 | I8: ='[1]Podklady RZ'!I69 -> 0.777934 | ... O8: ='[1]Podklady RZ'!O69 -> 0 | P8: =SUM(B8:O8) -> 78.381289
A9: Ambient energy (heat pump) | B9: ='[1]Podklady RZ'!B70 -> 35.3532 | C9: ='[1]Podklady RZ'!C70 -> 0 | D9: ='[1]Podklady RZ'!D70 -> 0.245308 | E9: ='[1]Podklady RZ'!E70 -> 3.339634 | F9: ='[1]Podklady RZ'!F70 -> 3.31471 | G9: ='[1]Podklady RZ'!G70 -> 0 | H9: ='[1]Podklady RZ'!H70 -> 0.908 | I9: ='[1]Podklady RZ'!I70 -> 0 | ... O9: ='[1]Podklady RZ'!O70 -> 4.21012 | P9: =SUM(B9:O9) -> 94.892472
A10: Solar energy (solar panel) | B10: ='[1]Podklady RZ'!B71 -> 0 | C10: ='[1]Podklady RZ'!C71 -> 0 | D10: ='[1]Podklady RZ'!D71 -> 0.117429 | E10: ='[1]Podklady RZ'!E71 -> 0.515347 | F10: ='[1]Podklady RZ'!F71 -> 0.158 | G10: ='[1]Podklady RZ'!G71 -> 0.0112 | H10: ='[1]Podklady RZ'!H71 -> 0 | I10: ='[1]Podklady RZ'!I71 -> 0 | ... O10: ='[1]Podklady RZ'!O71 -> 0 | P10: =SUM(B10:O10) -> 1.050976
A11: Brown coal | B11: ='[1]Podklady RZ'!B72 -> 0 | C11: ='[1]Podklady RZ'!C72 -> 1430.37 | D11: ='[1]Podklady RZ'!D72 -> 16.85756 | E11: ='[1]Podklady RZ'!E72 -> 3974.9698 | F11: ='[1]Podklady RZ'!F72 -> 307.18638 | G11: ='[1]Podklady RZ'!G72 -> 1077.5156 | H11: ='[1]Podklady RZ'!H72 -> 84.486385 | I11: ='[1]Podklady RZ'!I72 -> 410.52562 | ... O11: ='[1]Podklady RZ'!O72 -> 1453.3083 | P11: =SUM(B11:O11) -> 46538.174
A12: Nuclear fuel | B12: ='[1]Podklady RZ'!B73 -> 0 | C12: ='[1]Podklady RZ'!C73 -> 1308.769 | D12: ='[1]Podklady RZ'!D73 -> 0 | E12: ='[1]Podklady RZ'!E73 -> 0 | F12: ='[1]Podklady RZ'!F73 -> 389.337 | G12: ='[1]Podklady RZ'!G73 -> 0 | H12: ='[1]Podklady RZ'!H73 -> 0 | I12: ='[1]Podklady RZ'!I73 -> 0 | ... O12: ='[1]Podklady RZ'!O73 -> 0 | P12: =SUM(B12:O12) -> 1698.106
A13: Coke | B13: ='[1]Podklady RZ'!B74 -> 0 | C13: ='[1]Podklady RZ'!C74 -> 0 | D13: ='[1]Podklady RZ'!D74 -> 0 | E13: ='[1]Podklady RZ'!E74 -> 0 | F13: ='[1]Podklady RZ'!F74 -> 0 | G13: ='[1]Podklady RZ'!G74 -> 0 | H13: ='[1]Podklady RZ'!H74 -> 0 | I13: ='[1]Podklady RZ'!I74 -> 0 | ... O13: ='[1]Podklady RZ'!O74 -> 0 | P13: =SUM(B13:O13) -> 0
A14: Waste heat | B14: ='[1]Podklady RZ'!B75 -> 0 | C14: ='[1]Podklady RZ'!C75 -> 0 | D14: ='[1]Podklady RZ'!D75 -> 81.457923 | E14: ='[1]Podklady RZ'!E75 -> 9.1568 | F14: ='[1]Podklady RZ'!F75 -> 28.808 | G14: ='[1]Podklady RZ'!G75 -> 0 | H14: ='[1]Podklady RZ'!H75 -> 10.74153 | I14: ='[1]Podklady RZ'!I75 -> 1669.7017 | ... O14: ='[1]Podklady RZ'!O75 -> 305.647 | P14: =SUM(B14:O14) -> 6918.4667
A15: Other liquid fuels | B15: ='[1]Podklady RZ'!B76 -> 0 | C15: ='[1]Podklady RZ'!C76 -> 0 | D15: ='[1]Podklady RZ'!D76 -> 0 | E15: ='[1]Podklady RZ'!E76 -> 0 | F15: ='[1]Podklady RZ'!F76 -> 0 | G15: ='[1]Podklady RZ'!G76 -> 0 | H15: ='[1]Podklady RZ'!H76 -> 0 | I15: ='[1]Podklady RZ'!I76 -> 0 | ... O15: ='[1]Podklady RZ'!O76 -> 91.629 | P15: =SUM(B15:O15) -> 111.24891
A16: Other solid fuels | B16: ='[1]Podklady RZ'!B77 -> 1106.2128 | C16: ='[1]Podklady RZ'!C77 -> 9.782545 | D16: ='[1]Podklady RZ'!D77 -> 1797.921 | E16: ='[1]Podklady RZ'!E77 -> 0.013133 | F16: ='[1]Podklady RZ'!F77 -> 12.649195 | G16: ='[1]Podklady RZ'!G77 -> 3.40115 | H16: ='[1]Podklady RZ'!H77 -> 723.33541 | I16: ='[1]Podklady RZ'!I77 -> 152.98 | ... O16: ='[1]Podklady RZ'!O77 -> 84.5884 | P16: =SUM(B16:O16) -> 4800.8261
... A20: Natural gas | B20: ='[1]Podklady RZ'!B81 -> 3616.0803 | C20: ='[1]Podklady RZ'!C81 -> 784.20184 | D20: ='[1]Podklady RZ'!D81 -> 4180.9133 | E20: ='[1]Podklady RZ'!E81 -> 1236.4363 | F20: ='[1]Podklady RZ'!F81 -> 797.78245 | G20: ='[1]Podklady RZ'!G81 -> 1734.5734 | H20: ='[1]Podklady RZ'!H81 -> 1466.6171 | I20: ='[1]Podklady RZ'!I81 -> 3373.0599 | ... O20: ='[1]Podklady RZ'!O81 -> 1851.5349 | P20: =SUM(B20:O20) -> 30287.946

Sheet 5.1
A1: 5 HEAT SUPPLY | N1: ='3'!N1 -> 2022
A2: 5.1 Heat supply by fuel [TJ]
B4: First quarter | E4: Second quarter | H4: Third quarter | K4: Fourth quarter | N4: Total
B5: January | C5: February | D5: March | E5: April | F5: May | G5: June | H5: July | I5: August | J5: September | K5: October | L5: November | M5: December
A6: Heat supply | B6: =SUM(B7:D7) -> 30010.319 | E6: =SUM(E7:G7) -> 12492.291 | H6: =SUM(H7:J7) -> 8395.3319 | K6: =SUM(K7:M7) -> 26195.149 | N6: =SUM(B7:M7) -> 77093.091
B7: =SUM(B8:B23) -> 11343.689 | C7: =SUM(C8:C23) -> 10404.305 | D7: =SUM(D8:D23) -> 8262.3241 | E7: =SUM(E8:E23) -> 5385.6958 | F7: =SUM(F8:F23) -> 4431.3835 | G7: =SUM(G8:G23) -> 2675.2117 | H7: =SUM(H8:H23) -> 2529.183 | I7: =SUM(I8:I23) -> 2578.0161 | ... M7: =SUM(M8:M23) -> 10502.239
A8: Biomass | B8: ='[1]Podklady RZ'!B89 -> 1363.7117 | C8: ='[1]Podklady RZ'!C89 -> 1284.9581 | D8: ='[1]Podklady RZ'!D89 -> 1203.6147 | E8: ='[1]Podklady RZ'!E89 -> 783.8918 | F8: ='[1]Podklady RZ'!F89 -> 734.31773 | G8: ='[1]Podklady RZ'!G89 -> 485.6126 | H8: ='[1]Podklady RZ'!H89 -> 406.06166 | I8: ='[1]Podklady RZ'!I89 -> 381.53843 | ... M8: ='[1]Podklady RZ'!M89 -> 1377.3426 | N8: =SUM(B8:M8) -> 10705.834
A9: Biogas | B9: ='[1]Podklady RZ'!B90 -> 65.403719 | C9: ='[1]Podklady RZ'!C90 -> 57.42331 | D9: ='[1]Podklady RZ'!D90 -> 54.509626 | E9: ='[1]Podklady RZ'!E90 -> 42.920927 | F9: ='[1]Podklady RZ'!F90 -> 42.126554 | G9: ='[1]Podklady RZ'!G90 -> 27.285051 | H9: ='[1]Podklady RZ'!H90 -> 27.065645 | I9: ='[1]Podklady RZ'!I90 -> 27.461017 | ... M9: ='[1]Podklady RZ'!M90 -> 62.972554 | N9: =SUM(B9:M9) -> 538.08377
A10: Hard coal | B10: ='[1]Podklady RZ'!B91 -> 870.35347 | C10: ='[1]Podklady RZ'!C91 -> 810.05853 | D10: ='[1]Podklady RZ'!D91 -> 600.44884 | E10: ='[1]Podklady RZ'!E91 -> 337.64337 | F10: ='[1]Podklady RZ'!F91 -> 257.04708 | G10: ='[1]Podklady RZ'!G91 -> 101.68695 | H10: ='[1]Podklady RZ'!H91 -> 87.044272 | I10: ='[1]Podklady RZ'!I91 -> 139.6915 | ... M10: ='[1]Podklady RZ'!M91 -> 706.05445 | N10: =SUM(B10:M10) -> 5230.2623
A11: Electrical energy | B11: ='[1]Podklady RZ'!B92 -> 6.360715 | C11: ='[1]Podklady RZ'!C92 -> 4.708791 | D11: ='[1]Podklady RZ'!D92 -> 6.914003 | E11: ='[1]Podklady RZ'!E92 -> 6.760884 | F11: ='[1]Podklady RZ'!F92 -> 4.227638 | G11: ='[1]Podklady RZ'!G92 -> 5.440607 | H11: ='[1]Podklady RZ'!H92 -> 3.580248 | I11: ='[1]Podklady RZ'!I92 -> 4.655305 | ... M11: ='[1]Podklady RZ'!M92 -> 1.20855 | N11: =SUM(B11:M11) -> 52.897338
A12: Ambient energy (heat pump) | B12: ='[1]Podklady RZ'!B93 -> 9.5330251 | C12: ='[1]Podklady RZ'!C93 -> 9.3342341 | D12: ='[1]Podklady RZ'!D93 -> 8.0064011 | E12: ='[1]Podklady RZ'!E93 -> 7.0968054 | F12: ='[1]Podklady RZ'!F93 -> 6.7816648 | G12: ='[1]Podklady RZ'!G93 -> 6.2585455 | H12: ='[1]Podklady RZ'!H93 -> 6.0420483 | I12: ='[1]Podklady RZ'!I93 -> 5.6196771 | ... M12: ='[1]Podklady RZ'!M93 -> 8.6379511 | N12: =SUM(B12:M12) -> 88.124173
A13: Solar energy (solar panel) | B13: ='[1]Podklady RZ'!B94 -> 0.127393 | C13: ='[1]Podklady RZ'!C94 -> 0.091897 | D13: ='[1]Podklady RZ'!D94 -> 0.056683 | E13: ='[1]Podklady RZ'!E94 -> 0.268176 | F13: ='[1]Podklady RZ'!F94 -> 0.081819 | G13: ='[1]Podklady RZ'!G94 -> 0.103688 | H13: ='[1]Podklady RZ'!H94 -> 0.080396 | I13: ='[1]Podklady RZ'!I94 -> 0.083159 | ... M13: ='[1]Podklady RZ'!M94 -> 0.009115 | N13: =SUM(B13:M13) -> 1.013976
A14: Brown coal | B14: ='[1]Podklady RZ'!B95 -> 4955.4071 | C14: ='[1]Podklady RZ'!C95 -> 4489.5338 | D14: ='[1]Podklady RZ'!D95 -> 3455.9127 | E14: ='[1]Podklady RZ'!E95 -> 2272.0009 | F14: ='[1]Podklady RZ'!F95 -> 1692.8292 | G14: ='[1]Podklady RZ'!G95 -> 800.11365 | H14: ='[1]Podklady RZ'!H95 -> 750.97698 | I14: ='[1]Podklady RZ'!I95 -> 789.16678 | ... M14: ='[1]Podklady RZ'!M95 -> 4506.4847 | N14: =SUM(B14:M14) -> 31364.734
A15: Nuclear fuel | B15: ='[1]Podklady RZ'!B96 -> 165.86682 | C15: ='[1]Podklady RZ'!C96 -> 151.68985 | D15: ='[1]Podklady RZ'!D96 -> 87.45108 | E15: ='[1]Podklady RZ'!E96 -> 66.52384 | F15: ='[1]Podklady RZ'!F96 -> 59.34796 | G15: ='[1]Podklady RZ'!G96 -> 33.01053 | H15: ='[1]Podklady RZ'!H96 -> 31.63292 | I15: ='[1]Podklady RZ'!I96 -> 17.29127 | ... M15: ='[1]Podklady RZ'!M96 -> 102.88159 | N15: =SUM(B15:M15) -> 968.59416
A16: Coke | B16: ='[1]Podklady RZ'!B97 -> 0 | C16: ='[1]Podklady RZ'!C97 -> 0 | D16: ='[1]Podklady RZ'!D97 -> 0 | E16: ='[1]Podklady RZ'!E97 -> 0 | F16: ='[1]Podklady RZ'!F97 -> 0 | G16: ='[1]Podklady RZ'!G97 -> 0 | H16: ='[1]Podklady RZ'!H97 -> 0 | I16: ='[1]Podklady RZ'!I97 -> 0 | ... M16: ='[1]Podklady RZ'!M97 -> 0 | N16: =SUM(B16:M16) -> 0
A17: Waste heat | B17: ='[1]Podklady RZ'!B98 -> 129.15386 | C17: ='[1]Podklady RZ'!C98 -> 135.4307 | D17: ='[1]Podklady RZ'!D98 -> 137.94096 | E17: ='[1]Podklady RZ'!E98 -> 103.97586 | F17: ='[1]Podklady RZ'!F98 -> 125.52646 | G17: ='[1]Podklady RZ'!G98 -> 127.20836 | H17: ='[1]Podklady RZ'!H98 -> 103.18008 | I17: ='[1]Podklady RZ'!I98 -> 91.426521 | ... M17: ='[1]Podklady RZ'!M98 -> 176.78682 | N17: =SUM(B17:M17) -> 1513.1571
A18: Other liquid fuels | B18: ='[1]Podklady RZ'!B99 -> 1.383619 | C18: ='[1]Podklady RZ'!C99 -> 1.779254 | D18: ='[1]Podklady RZ'!D99 -> 1.354318 | E18: ='[1]Podklady RZ'!E99 -> 0.616544 | F18: ='[1]Podklady RZ'!F99 -> 0.645886 | G18: ='[1]Podklady RZ'!G99 -> 0.251114 | H18: ='[1]Podklady RZ'!H99 -> 0.336222 | I18: ='[1]Podklady RZ'!I99 -> 0.369438 | ... M18: ='[1]Podklady RZ'!M99 -> 8.276522 | N18: =SUM(B18:M18) -> 25.973734
A19: Other solid fuels | B19: ='[1]Podklady RZ'!B100 -> 368.46905 | C19: ='[1]Podklady RZ'!C100 -> 330.72718 | D19: ='[1]Podklady RZ'!D100 -> 307.92089 | E19: ='[1]Podklady RZ'!E100 -> 310.97607 | F19: ='[1]Podklady RZ'!F100 -> 282.30615 | G19: ='[1]Podklady RZ'!G100 -> 200.38242 | H19: ='[1]Podklady RZ'!H100 -> 170.72439 | I19: ='[1]Podklady RZ'!I100 -> 193.40669 | ... M19: ='[1]Podklady RZ'!M100 -> 340.25682 | N19: =SUM(B19:M19) -> 3287.7583
... A23: Natural gas | B23: ='[1]Podklady RZ'!B104 -> 3173.3371 | C23: ='[1]Podklady RZ'!C104 -> 2894.6748 | D23: ='[1]Podklady RZ'!D104 -> 2190.8172 | E23: ='[1]Podklady RZ'!E104 -> 1286.1388 | F23: ='[1]Podklady RZ'!F104 -> 1044.7197 | G23: ='[1]Podklady RZ'!G104 -> 753.09379 | H23: ='[1]Podklady RZ'!H104 -> 823.85493 | I23: ='[1]Podklady RZ'!I104 -> 806.42146 | ... M23: ='[1]Podklady RZ'!M104 -> 2957.5504 | N23: =SUM(B23:M23) -> 21065.044
A26: Biomasa | B26: =SUM(INDEX(B8:M8,,MONTH('[1]Podklady RZ'!$O$1)):INDEX(B8:M8,,MONTH('[1]Podklady RZ'!$Q$1))) -> 10705.834
A27: Bioplyn | B27: =SUM(INDEX(B9:M9,,MONTH('[1]Podklady RZ'!$O$1)):INDEX(B9:M9,,MONTH('[1]Podklady RZ'!$Q$1))) -> 538.08377
A28: Černé uhlí | B28: =SUM(INDEX(B10:M10,,MONTH('[1]Podklady RZ'!$O$1)):INDEX(B10:M10,,MONTH('[1]Podklady RZ'!$Q$1))) -> 5230.2623
A29: Elektrická energie | B29: =SUM(INDEX(B11:M11,,MONTH('[1]Podklady RZ'!$O$1)):INDEX(B11:M11,,MONTH('[1]Podklady RZ'!$Q$1))) -> 52.897338
A30: Energie prostředí (tepelné čerpadlo) | B30: =SUM(INDEX(B12:M12,,MONTH('[1]Podklady RZ'!$O$1)):INDEX(B12:M12,,MONTH('[1]Podklady RZ'!$Q$1))) -> 88.124173
A31: Energie Slunce (solární kolektor) | B31: =SUM(INDEX(B13:M13,,MONTH('[1]Podklady RZ'!$O$1)):INDEX(B13:M13,,MONTH('[1]Podklady RZ'!$Q$1))) -> 1.013976
A32: Hnědé uhlí | B32: =SUM(INDEX(B14:M14,,MONTH('[1]Podklady RZ'!$O$1)):INDEX(B14:M14,,MONTH('[1]Podklady RZ'!$Q$1))) -> 31364.734
A33: Jaderné palivo | B33: =SUM(INDEX(B15:M15,,MONTH('[1]Podklady RZ'!$O$1)):INDEX(B15:M15,,MONTH('[1]Podklady RZ'!$Q$1))) -> 968.59416
A34: Koks | B34: =SUM(INDEX(B16:M16,,MONTH('[1]Podklady RZ'!$O$1)):INDEX(B16:M16,,MONTH('[1]Podklady RZ'!$Q$1))) -> 0
A35: Odpadní teplo | B35: =SUM(INDEX(B17:M17,,MONTH('[1]Podklady RZ'!$O$1)):INDEX(B17:M17,,MONTH('[1]Podklady RZ'!$Q$1))) -> 1513.1571
A36: Ostatní kapalná paliva | B36: =SUM(INDEX(B18:M18,,MONTH('[1]Podklady RZ'!$O$1)):INDEX(B18:M18,,MONTH('[1]Podklady RZ'!$Q$1))) -> 25.973734
A37: Ostatní pevná paliva | B37: =SUM(INDEX(B19:M19,,MONTH('[1]Podklady RZ'!$O$1)):INDEX(B19:M19,,MONTH('[1]Podklady RZ'!$Q$1))) -> 3287.7583
... A41: Zemní plyn | B41: =SUM(INDEX(B23:M23,,MONTH('[1]Podklady RZ'!$O$1)):INDEX(B23:M23,,MONTH('[1]Podklady RZ'!$Q$1))) -> 21065.044

Sheet 5.2
A1: 5.2 Heat supply in Czech Regions [TJ] | N1: ='3'!N1 -> 2022
B3: First quarter | E3: Second quarter | H3: Third quarter | K3: Fourth quarter | N3: Total
B4: January | C4: February | D4: March | E4: April | F4: May | G4: June | H4: July | I4: August | J4: September | K4: October | L4: November | M4: December
A5: Heat supply | B5: =SUM(B6:D6) -> 30010.319 | E5: =SUM(E6:G6) -> 12492.291 | H5: =SUM(H6:J6) -> 8395.3409 | K5: =SUM(K6:M6) -> 26195.149 | N5: =SUM(N7:N20) -> 77093.1
B6: =SUM(B7:B20) -> 11343.689 | C6: =SUM(C7:C20) -> 10404.305 | D6: =SUM(D7:D20) -> 8262.3241 | E6: =SUM(E7:E20) -> 5385.6958 | F6: =SUM(F7:F20) -> 4431.3835 | G6: =SUM(G7:G20) -> 2675.2117 | H6: =SUM(H7:H20) -> 2529.192 | I6: =SUM(I7:I20) -> 2578.0161 | ... M6: =SUM(M7:M20) -> 10502.239
A7: Prague | B7: ='[1]Podklady RZ'!B112 -> 526.42672 | C7: ='[1]Podklady RZ'!C112 -> 494.20352 | D7: ='[1]Podklady RZ'!D112 -> 390.97342 | E7: ='[1]Podklady RZ'!E112 -> 271.60922 | F7: ='[1]Podklady RZ'!F112 -> 207.38529 | G7: ='[1]Podklady RZ'!G112 -> 154.0092 | H7: ='[1]Podklady RZ'!H112 -> 161.02092 | I7: ='[1]Podklady RZ'!I112 -> 169.46294 | ... M7: ='[1]Podklady RZ'!M112 -> 518.56904 | N7: =SUM(B7:M7) -> 3789.7069
A8: Jihočeský Region | B8: ='[1]Podklady RZ'!B113 -> 642.0153 | C8: ='[1]Podklady RZ'!C113 -> 573.74972 | D8: ='[1]Podklady RZ'!D113 -> 457.58052 | E8: ='[1]Podklady RZ'!E113 -> 301.40174 | F8: ='[1]Podklady RZ'!F113 -> 235.57677 | G8: ='[1]Podklady RZ'!G113 -> 131.86365 | H8: ='[1]Podklady RZ'!H113 -> 126.08428 | I8: ='[1]Podklady RZ'!I113 -> 123.96739 | ... M8: ='[1]Podklady RZ'!M113 -> 586.30737 | N8: =SUM(B8:M8) -> 4226.2877
A9: Jihomoravský Region | B9: ='[1]Podklady RZ'!B114 -> 793.70024 | C9: ='[1]Podklady RZ'!C114 -> 701.97275 | D9: ='[1]Podklady RZ'!D114 -> 502.85702 | E9: ='[1]Podklady RZ'!E114 -> 335.89383 | F9: ='[1]Podklady RZ'!F114 -> 274.05056 | G9: ='[1]Podklady RZ'!G114 -> 174.64561 | H9: ='[1]Podklady RZ'!H114 -> 161.69757 | I9: ='[1]Podklady RZ'!I114 -> 165.74094 | ... M9: ='[1]Podklady RZ'!M114 -> 720.66871 | N9: =SUM(B9:M9) -> 5047.0758
A10: Karlovarský Region | B10: ='[1]Podklady RZ'!B115 -> 467.68341 | C10: ='[1]Podklady RZ'!C115 -> 432.157 | D10: ='[1]Podklady RZ'!D115 -> 350.15236 | E10: ='[1]Podklady RZ'!E115 -> 248.14667 | F10: ='[1]Podklady RZ'!F115 -> 199.92445 | G10: ='[1]Podklady RZ'!G115 -> 100.91122 | H10: ='[1]Podklady RZ'!H115 -> 101.83983 | I10: ='[1]Podklady RZ'!I115 -> 96.730957 | ... M10: ='[1]Podklady RZ'!M115 -> 435.04493 | N10: =SUM(B10:M10) -> 3260.2492
A11: Vysočina Region | B11: ='[1]Podklady RZ'!B116 -> 252.55243 | C11: ='[1]Podklady RZ'!C116 -> 225.4229 | D11: ='[1]Podklady RZ'!D116 -> 175.2888 | E11: ='[1]Podklady RZ'!E116 -> 115.58692 | F11: ='[1]Podklady RZ'!F116 -> 87.30693 | G11: ='[1]Podklady RZ'!G116 -> 43.525042 | H11: ='[1]Podklady RZ'!H116 -> 42.773473 | I11: ='[1]Podklady RZ'!I116 -> 42.87751 | ... M11: ='[1]Podklady RZ'!M116 -> 226.49223 | N11: =SUM(B11:M11) -> 1607.3658
A12: Královéhradecký Region | B12: ='[1]Podklady RZ'!B117 -> 387.37087 | C12: ='[1]Podklady RZ'!C117 -> 352.12165 | D12: ='[1]Podklady RZ'!D117 -> 294.40726 | E12: ='[1]Podklady RZ'!E117 -> 206.16687 | F12: ='[1]Podklady RZ'!F117 -> 181.03841 | G12: ='[1]Podklady RZ'!G117 -> 110.59151 | H12: ='[1]Podklady RZ'!H117 -> 89.130255 | I12: ='[1]Podklady RZ'!I117 -> 101.68974 | ... M12: ='[1]Podklady RZ'!M117 -> 337.66779 | N12: =SUM(B12:M12) -> 2741.306
A13: Liberecký Region | B13: ='[1]Podklady RZ'!B118 -> 285.88827 | C13: ='[1]Podklady RZ'!C118 -> 259.5313 | D13: ='[1]Podklady RZ'!D118 -> 203.36159 | E13: ='[1]Podklady RZ'!E118 -> 136.01511 | F13: ='[1]Podklady RZ'!F118 -> 108.01387 | G13: ='[1]Podklady RZ'!G118 -> 47.397124 | H13: ='[1]Podklady RZ'!H118 -> 45.368429 | I13: ='[1]Podklady RZ'!I118 -> 48.169672 | ... M13: ='[1]Podklady RZ'!M118 -> 254.04585 | N13: =SUM(B13:M13) -> 1833.9122
A14: Moravskoslezský Region | B14: ='[1]Podklady RZ'!B119 -> 1605.0513 | C14: ='[1]Podklady RZ'!C119 -> 1489.3657 | D14: ='[1]Podklady RZ'!D119 -> 1127.6537 | E14: ='[1]Podklady RZ'!E119 -> 716.18655 | F14: ='[1]Podklady RZ'!F119 -> 629.12455 | G14: ='[1]Podklady RZ'!G119 -> 312.9873 | H14: ='[1]Podklady RZ'!H119 -> 305.75703 | I14: ='[1]Podklady RZ'!I119 -> 312.08865 | ... M14: ='[1]Podklady RZ'!M119 -> 1521.1639 | N14: =SUM(B14:M14) -> 10679.197
A15: Olomoucký Region | B15: ='[1]Podklady RZ'!B120 -> 474.82686 | C15: ='[1]Podklady RZ'!C120 -> 426.1 | D15: ='[1]Podklady RZ'!D120 -> 325.25528 | E15: ='[1]Podklady RZ'!E120 -> 205.62472 | F15: ='[1]Podklady RZ'!F120 -> 171.54526 | G15: ='[1]Podklady RZ'!G120 -> 98.662651 | H15: ='[1]Podklady RZ'!H120 -> 102.20028 | I15: ='[1]Podklady RZ'!I120 -> 101.92857 | ... M15: ='[1]Podklady RZ'!M120 -> 431.25922 | N15: =SUM(B15:M15) -> 3100.453
A16: Pardubický Region | B16: ='[1]Podklady RZ'!B121 -> 626.41114 | C16: ='[1]Podklady RZ'!C121 -> 565.31727 | D16: ='[1]Podklady RZ'!D121 -> 421.1093 | E16: ='[1]Podklady RZ'!E121 -> 253.91788 | F16: ='[1]Podklady RZ'!F121 -> 198.22745 | G16: ='[1]Podklady RZ'!G121 -> 86.552706 | H16: ='[1]Podklady RZ'!H121 -> 77.995996 | I16: ='[1]Podklady RZ'!I121 -> 79.198507 | ... M16: ='[1]Podklady RZ'!M121 -> 584.60725 | N16: =SUM(B16:M16) -> 3871.9468
A17: Plzeňský Region | B17: ='[1]Podklady RZ'!B122 -> 619.12672 | C17: ='[1]Podklady RZ'!C122 -> 564.91614 | D17: ='[1]Podklady RZ'!D122 -> 435.75169 | E17: ='[1]Podklady RZ'!E122 -> 287.0064 | F17: ='[1]Podklady RZ'!F122 -> 204.55899 | G17: ='[1]Podklady RZ'!G122 -> 108.21251 | H17: ='[1]Podklady RZ'!H122 -> 106.02412 | I17: ='[1]Podklady RZ'!I122 -> 86.77486 | ... M17: ='[1]Podklady RZ'!M122 -> 571.39779 | N17: =SUM(B17:M17) -> 3955.0397
A18: Středočeský Region | B18: ='[1]Podklady RZ'!B123 -> 2649.4159 | C18: ='[1]Podklady RZ'!C123 -> 2447.7321 | D18: ='[1]Podklady RZ'!D123 -> 2024.1063 | E18: ='[1]Podklady RZ'!E123 -> 1202.3323 | F18: ='[1]Podklady RZ'!F123 -> 1012.2904 | G18: ='[1]Podklady RZ'!G123 -> 692.64515 | H18: ='[1]Podklady RZ'!H123 -> 579.87235 | I18: ='[1]Podklady RZ'!I123 -> 635.21835 | ... M18: ='[1]Podklady RZ'!M123 -> 2507.9323 | N18: =SUM(B18:M18) -> 18265.518
... A20: Zlínský Region | B20: ='[1]Podklady RZ'!B125 -> 455.1116 | C20: ='[1]Podklady RZ'!C125 -> 429.40012 | D20: ='[1]Podklady RZ'!D125 -> 331.54248 | E20: ='[1]Podklady RZ'!E125 -> 237.2393 | F20: ='[1]Podklady RZ'!F125 -> 198.70468 | G20: ='[1]Podklady RZ'!G125 -> 137.34144 | H20: ='[1]Podklady RZ'!H125 -> 145.12873 | I20: ='[1]Podklady RZ'!I125 -> 115.44217 | ... M20: ='[1]Podklady RZ'!M125 -> 401.7731 | N20: =SUM(B20:M20) -> 3248.3101
A22: Hlavní město Praha | B22: =SUM(INDEX(B7:M7,,MONTH('[1]Podklady RZ'!$O$1)):INDEX(B7:M7,,MONTH('[1]Podklady RZ'!$Q$1))) -> 3789.7069
A23: Jihočeský kraj | B23: =SUM(INDEX(B8:M8,,MONTH('[1]Podklady RZ'!$O$1)):INDEX(B8:M8,,MONTH('[1]Podklady RZ'!$Q$1))) -> 4226.2877
A24: Jihomoravský kraj | B24: =SUM(INDEX(B9:M9,,MONTH('[1]Podklady RZ'!$O$1)):INDEX(B9:M9,,MONTH('[1]Podklady RZ'!$Q$1))) -> 5047.0758
A25: Karlovarský kraj | B25: =SUM(INDEX(B10:M10,,MONTH('[1]Podklady RZ'!$O$1)):INDEX(B10:M10,,MONTH('[1]Podklady RZ'!$Q$1))) -> 3260.2492
A26: Kraj Vysočina | B26: =SUM(INDEX(B11:M11,,MONTH('[1]Podklady RZ'!$O$1)):INDEX(B11:M11,,MONTH('[1]Podklady RZ'!$Q$1))) -> 1607.3658
A27: Královéhradecký kraj | B27: =SUM(INDEX(B12:M12,,MONTH('[1]Podklady RZ'!$O$1)):INDEX(B12:M12,,MONTH('[1]Podklady RZ'!$Q$1))) -> 2741.306
A28: Liberecký kraj | B28: =SUM(INDEX(B13:M13,,MONTH('[1]Podklady RZ'!$O$1)):INDEX(B13:M13,,MONTH('[1]Podklady RZ'!$Q$1))) -> 1833.9122
A29: Moravskoslezský kraj | B29: =SUM(INDEX(B14:M14,,MONTH('[1]Podklady RZ'!$O$1)):INDEX(B14:M14,,MONTH('[1]Podklady RZ'!$Q$1))) -> 10679.197
A30: Olomoucký kraj | B30: =SUM(INDEX(B15:M15,,MONTH('[1]Podklady RZ'!$O$1)):INDEX(B15:M15,,MONTH('[1]Podklady RZ'!$Q$1))) -> 3100.453
A31: Pardubický kraj | B31: =SUM(INDEX(B16:M16,,MONTH('[1]Podklady RZ'!$O$1)):INDEX(B16:M16,,MONTH('[1]Podklady RZ'!$Q$1))) -> 3871.9468
A32: Plzeňský kraj | B32: =SUM(INDEX(B17:M17,,MONTH('[1]Podklady RZ'!$O$1)):INDEX(B17:M17,,MONTH('[1]Podklady RZ'!$Q$1))) -> 3955.0397
A33: Středočeský kraj | B33: =SUM(INDEX(B18:M18,,MONTH('[1]Podklady RZ'!$O$1)):INDEX(B18:M18,,MONTH('[1]Podklady RZ'!$Q$1))) -> 18265.518
... A35: Zlínský kraj | B35: =SUM(INDEX(B20:M20,,MONTH('[1]Podklady RZ'!$O$1)):INDEX(B20:M20,,MONTH('[1]Podklady RZ'!$Q$1))) -> 3248.3101

Sheet 5.3
A1: 5.3 Heat supply by fuel in Czech Regions [TJ] | P1: ='3'!N1 -> 2022
B3: PHA | C3: JHČ | D3: JHM | E3: KVK | F3: VYS | G3: HKK | H3: LBK | I3: MSK | J3: OLK | K3: PAK | L3: PLK | M3: STČ | N3: ULK | O3: ZLK | P3: Total
A4: Heat supply | B4: =SUM(B5:B20) -> 3789.7069 | C4: =SUM(C5:C20) -> 4226.2787 | D4: =SUM(D5:D20) -> 5047.0758 | E4: =SUM(E5:E20) -> 3260.2492 | F4: =SUM(F5:F20) -> 1607.3658 | G4: =SUM(G5:G20) -> 2741.306 | H4: =SUM(H5:H20) -> 1833.9122 | I4: =SUM(I5:I20) -> 10679.197 | ... P4: =SUM(P5:P20) -> 77093.091
A5: Biomass | B5: ='[1]Podklady RZ'!B131 -> 0 | C5: ='[1]Podklady RZ'!C131 -> 1750.5754 | D5: ='[1]Podklady RZ'!D131 -> 528.96412 | E5: ='[1]Podklady RZ'!E131 -> 402.4136 | F5: ='[1]Podklady RZ'!F131 -> 689.35164 | G5: ='[1]Podklady RZ'!G131 -> 819.86729 | H5: ='[1]Podklady RZ'!H131 -> 4.00384 | I5: ='[1]Podklady RZ'!I131 -> 873.87769 | ... O5: ='[1]Podklady RZ'!O131 -> 741.22177 | P5: =SUM(B5:O5) -> 10705.834
A6: Biogas | B6: ='[1]Podklady RZ'!B132 -> 71.02976 | C6: ='[1]Podklady RZ'!C132 -> 94.346277 | D6: ='[1]Podklady RZ'!D132 -> 64.935269 | E6: ='[1]Podklady RZ'!E132 -> 4.937 | F6: ='[1]Podklady RZ'!F132 -> 40.96044 | G6: ='[1]Podklady RZ'!G132 -> 32.771 | H6: ='[1]Podklady RZ'!H132 -> 8.27863 | I6: ='[1]Podklady RZ'!I132 -> 3.652273 | ... O6: ='[1]Podklady RZ'!O132 -> 7.8143 | P6: =SUM(B6:O6) -> 538.08377
A7: Hard coal | B7: ='[1]Podklady RZ'!B133 -> 0 | C7: ='[1]Podklady RZ'!C133 -> 18.496655 | D7: ='[1]Podklady RZ'!D133 -> 0.1433 | E7: ='[1]Podklady RZ'!E133 -> 0 | F7: ='[1]Podklady RZ'!F133 -> 0 | G7: ='[1]Podklady RZ'!G133 -> 0.19534 | H7: ='[1]Podklady RZ'!H133 -> 0 | I7: ='[1]Podklady RZ'!I133 -> 5087.1682 | ... O7: ='[1]Podklady RZ'!O133 -> 121.17229 | P7: =SUM(B7:O7) -> 5230.2623
A8: Electrical energy | B8: ='[1]Podklady RZ'!B134 -> 1.619 | C8: ='[1]Podklady RZ'!C134 -> 0.12404 | D8: ='[1]Podklady RZ'!D134 -> 5.886824 | E8: ='[1]Podklady RZ'!E134 -> 0 | F8: ='[1]Podklady RZ'!F134 -> 1.470966 | G8: ='[1]Podklady RZ'!G134 -> 1.7112 | H8: ='[1]Podklady RZ'!H134 -> 1.82157 | I8: ='[1]Podklady RZ'!I134 -> 0.231264 | ... O8: ='[1]Podklady RZ'!O134 -> 0 | P8: =SUM(B8:O8) -> 52.897338
A9: Ambient energy (heat pump) | B9: ='[1]Podklady RZ'!B135 -> 29.13715 | C9: ='[1]Podklady RZ'!C135 -> 0 | D9: ='[1]Podklady RZ'!D135 -> 0.245308 | E9: ='[1]Podklady RZ'!E135 -> 3.339634 | F9: ='[1]Podklady RZ'!F135 -> 3.30628 | G9: ='[1]Podklady RZ'!G135 -> 0 | H9: ='[1]Podklady RZ'!H135 -> 0.908 | I9: ='[1]Podklady RZ'!I135 -> 0 | ... O9: ='[1]Podklady RZ'!O135 -> 3.666301 | P9: =SUM(B9:O9) -> 88.124173
A10: Solar energy (solar panel) | B10: ='[1]Podklady RZ'!B136 -> 0 | C10: ='[1]Podklady RZ'!C136 -> 0 | D10: ='[1]Podklady RZ'!D136 -> 0.117429 | E10: ='[1]Podklady RZ'!E136 -> 0.478347 | F10: ='[1]Podklady RZ'!F136 -> 0.158 | G10: ='[1]Podklady RZ'!G136 -> 0.0112 | H10: ='[1]Podklady RZ'!H136 -> 0 | I10: ='[1]Podklady RZ'!I136 -> 0 | ... O10: ='[1]Podklady RZ'!O136 -> 0 | P10: =SUM(B10:O10) -> 1.013976
A11: Brown coal | B11: ='[1]Podklady RZ'!B137 -> 0 | C11: ='[1]Podklady RZ'!C137 -> 848.58661 | D11: ='[1]Podklady RZ'!D137 -> 16.229371 | E11: ='[1]Podklady RZ'!E137 -> 2130.9803 | F11: ='[1]Podklady RZ'!F137 -> 180.95243 | G11: ='[1]Podklady RZ'!G137 -> 907.63295 | H11: ='[1]Podklady RZ'!H137 -> 63.414596 | I11: ='[1]Podklady RZ'!I137 -> 202.41467 | ... O11: ='[1]Podklady RZ'!O137 -> 1077.0313 | P11: =SUM(B11:O11) -> 31364.734
A12: Nuclear fuel | B12: ='[1]Podklady RZ'!B138 -> 0 | C12: ='[1]Podklady RZ'!C138 -> 929.55046 | D12: ='[1]Podklady RZ'!D138 -> 0 | E12: ='[1]Podklady RZ'!E138 -> 0 | F12: ='[1]Podklady RZ'!F138 -> 39.0437 | G12: ='[1]Podklady RZ'!G138 -> 0 | H12: ='[1]Podklady RZ'!H138 -> 0 | I12: ='[1]Podklady RZ'!I138 -> 0 | ... O12: ='[1]Podklady RZ'!O138 -> 0 | P12: =SUM(B12:O12) -> 968.59416
A13: Coke | B13: ='[1]Podklady RZ'!B139 -> 0 | C13: ='[1]Podklady RZ'!C139 -> 0 | D13: ='[1]Podklady RZ'!D139 -> 0 | E13: ='[1]Podklady RZ'!E139 -> 0 | F13: ='[1]Podklady RZ'!F139 -> 0 | G13: ='[1]Podklady RZ'!G139 -> 0 | H13: ='[1]Podklady RZ'!H139 -> 0 | I13: ='[1]Podklady RZ'!I139 -> 0 | ... O13: ='[1]Podklady RZ'!O139 -> 0 | P13: =SUM(B13:O13) -> 0
A14: Waste heat | B14: ='[1]Podklady RZ'!B140 -> 0 | C14: ='[1]Podklady RZ'!C140 -> 0 | D14: ='[1]Podklady RZ'!D140 -> 65.019661 | E14: ='[1]Podklady RZ'!E140 -> 0.070849 | F14: ='[1]Podklady RZ'!F140 -> 17.863561 | G14: ='[1]Podklady RZ'!G140 -> 0 | H14: ='[1]Podklady RZ'!H140 -> 2.912 | I14: ='[1]Podklady RZ'!I140 -> 587.97254 | ... O14: ='[1]Podklady RZ'!O140 -> 17.474 | P14: =SUM(B14:O14) -> 1513.1571
A15: Other liquid fuels | B15: ='[1]Podklady RZ'!B141 -> 0 | C15: ='[1]Podklady RZ'!C141 -> 0 | D15: ='[1]Podklady RZ'!D141 -> 0 | E15: ='[1]Podklady RZ'!E141 -> 0 | F15: ='[1]Podklady RZ'!F141 -> 0 | G15: ='[1]Podklady RZ'!G141 -> 0 | H15: ='[1]Podklady RZ'!H141 -> 0 | I15: ='[1]Podklady RZ'!I141 -> 0 | ... O15: ='[1]Podklady RZ'!O141 -> 13.302 | P15: =SUM(B15:O15) -> 25.973734
A16: Other solid fuels | B16: ='[1]Podklady RZ'!B142 -> 856.254 | C16: ='[1]Podklady RZ'!C142 -> 9.017783 | D16: ='[1]Podklady RZ'!D142 -> 1127.1747 | E16: ='[1]Podklady RZ'!E142 -> 0.011723 | F16: ='[1]Podklady RZ'!F142 -> 7.781226 | G16: ='[1]Podklady RZ'!G142 -> 3.29137 | H16: ='[1]Podklady RZ'!H142 -> 437.786 | I16: ='[1]Podklady RZ'!I142 -> 27.534 | ... O16: ='[1]Podklady RZ'!O142 -> 28.8354 | P16: =SUM(B16:O16) -> 3287.7583
... A20: Natural gas | B20: ='[1]Podklady RZ'!B146 -> 2831.628 | C20: ='[1]Podklady RZ'!C146 -> 553.50179 | D20: ='[1]Podklady RZ'!D146 -> 3235.0944 | E20: ='[1]Podklady RZ'!E146 -> 717.96205 | F20: ='[1]Podklady RZ'!F146 -> 626.32551 | G20: ='[1]Podklady RZ'!G146 -> 971.85385 | H20: ='[1]Podklady RZ'!H146 -> 1312.5796 | I20: ='[1]Podklady RZ'!I146 -> 2417.0716 | ... O20: ='[1]Podklady RZ'!O146 -> 1100.1221 | P20: =SUM(B20:O20) -> 21065.044

Sheet 5.4
A1: 5.4 Supply of heat from coal, biomass and biogas [TJ] | N1: ='3'!N1 -> 2022
B3: First quarter | E3: Second quarter | H3: Third quarter | K3: Fourth quarter | N3: Total
B4: January | C4: February | D4: March | E4: April | F4: May | G4: June | H4: July | I4: August | J4: September | K4: October | L4: November | M4: December
A5: Supply of heat from coal | B5: =SUM(B6:B13) -> 5825.7606 | C5: =SUM(C6:C13) -> 5299.5923 | D5: =SUM(D6:D13) -> 4056.3616 | E5: =SUM(E6:E13) -> 2609.6443 | F5: =SUM(F6:F13) -> 1949.8763 | G5: =SUM(G6:G13) -> 901.8006 | H5: =SUM(H6:H13) -> 838.02125 | I5: =SUM(I6:I13) -> 928.85827 | ... N5: =SUM(N6:N13) -> 36594.996
A6: Sized hard coal | B6: ='[1]Podklady RZ'!B153 -> 66.77232 | C6: ='[1]Podklady RZ'!C153 -> 49.0984 | D6: ='[1]Podklady RZ'!D153 -> 33.60309 | E6: ='[1]Podklady RZ'!E153 -> 21.16725 | F6: ='[1]Podklady RZ'!F153 -> 8.51329 | G6: ='[1]Podklady RZ'!G153 -> 0.02752 | H6: ='[1]Podklady RZ'!H153 -> 2.24847 | I6: ='[1]Podklady RZ'!I153 -> 4.5308 | ... M6: ='[1]Podklady RZ'!M153 -> 26.07886 | N6: =SUM(B6:M6) -> 295.27958
A7: Industrial hard coal | B7: ='[1]Podklady RZ'!B154 -> 803.58115 | C7: ='[1]Podklady RZ'!C154 -> 760.96013 | D7: ='[1]Podklady RZ'!D154 -> 566.84575 | E7: ='[1]Podklady RZ'!E154 -> 316.47612 | F7: ='[1]Podklady RZ'!F154 -> 248.53379 | G7: ='[1]Podklady RZ'!G154 -> 101.65943 | H7: ='[1]Podklady RZ'!H154 -> 84.795802 | I7: ='[1]Podklady RZ'!I154 -> 135.1607 | ... M7: ='[1]Podklady RZ'!M154 -> 679.97559 | N7: =SUM(B7:M7) -> 4934.9827
A8: Hard coal sludge and granulated | B8: ='[1]Podklady RZ'!B155 -> 0 | C8: ='[1]Podklady RZ'!C155 -> 0 | D8: ='[1]Podklady RZ'!D155 -> 0 | E8: ='[1]Podklady RZ'!E155 -> 0 | F8: ='[1]Podklady RZ'!F155 -> 0 | G8: ='[1]Podklady RZ'!G155 -> 0 | H8: ='[1]Podklady RZ'!H155 -> 0 | I8: ='[1]Podklady RZ'!I155 -> 0 | ... M8: ='[1]Podklady RZ'!M155 -> 0 | N8: =SUM(B8:M8) -> 0
A9: Sized brown coal | B9: ='[1]Podklady RZ'!B156 -> 377.50076 | C9: ='[1]Podklady RZ'!C156 -> 365.04138 | D9: ='[1]Podklady RZ'!D156 -> 285.9393 | E9: ='[1]Podklady RZ'!E156 -> 171.91882 | F9: ='[1]Podklady RZ'!F156 -> 127.60845 | G9: ='[1]Podklady RZ'!G156 -> 37.257022 | H9: ='[1]Podklady RZ'!H156 -> 47.676761 | I9: ='[1]Podklady RZ'!I156 -> 74.423388 | ... M9: ='[1]Podklady RZ'!M156 -> 491.5321 | N9: =SUM(B9:M9) -> 2710.8955
A10: Industrial brown coal | B10: ='[1]Podklady RZ'!B157 -> 4577.6604 | C10: ='[1]Podklady RZ'!C157 -> 4124.2814 | D10: ='[1]Podklady RZ'!D157 -> 3169.8894 | E10: ='[1]Podklady RZ'!E157 -> 2100.0821 | F10: ='[1]Podklady RZ'!F157 -> 1565.2207 | G10: ='[1]Podklady RZ'!G157 -> 762.85663 | H10: ='[1]Podklady RZ'!H157 -> 703.30022 | I10: ='[1]Podklady RZ'!I157 -> 714.74339 | ... M10: ='[1]Podklady RZ'!M157 -> 4014.7226 | N10: =SUM(B10:M10) -> 28652.865
A11: Brown coal - briquettes | B11: ='[1]Podklady RZ'!B158 -> 0.246 | C11: ='[1]Podklady RZ'!C158 -> 0.211 | D11: ='[1]Podklady RZ'!D158 -> 0.084 | E11: ='[1]Podklady RZ'!E158 -> 0 | F11: ='[1]Podklady RZ'!F158 -> 0 | G11: ='[1]Podklady RZ'!G158 -> 0 | H11: ='[1]Podklady RZ'!H158 -> 0 | I11: ='[1]Podklady RZ'!I158 -> 0 | ... M11: ='[1]Podklady RZ'!M158 -> 0.23 | N11: =SUM(B11:M11) -> 0.973
A12: Brown coal - lignite | B12: ='[1]Podklady RZ'!B159 -> 0 | C12: ='[1]Podklady RZ'!C159 -> 0 | D12: ='[1]Podklady RZ'!D159 -> 0 | E12: ='[1]Podklady RZ'!E159 -> 0 | F12: ='[1]Podklady RZ'!F159 -> 0 | G12: ='[1]Podklady RZ'!G159 -> 0 | H12: ='[1]Podklady RZ'!H159 -> 0 | I12: ='[1]Podklady RZ'!I159 -> 0 | ... M12: ='[1]Podklady RZ'!M159 -> 0 | N12: =SUM(B12:M12) -> 0
