Workbook
Name Datum_OTE: "30. 4. 2026"
Name Datum_OTE: "2. 5. 2017"

Sheet COVER PAGE
B3: YEARLY REPORT ON THE OPERATION OF CZECH HEAT SUPPLY SYSTEMS
B6: 2025
B11: Energy Regulatory Office Masarykovo náměstí 91/5, 586 01 Jihlava IČO: 70894451, T: +420 564 578 666, ID DS: eeuaau7 eru.gov.cz

Sheet CONTENTS
A1: CONTENTS
A3: 1 | B3: ABBREVIATIONS, DEFINITIONS AND KEY RELATIONSHIPS | K3: 4
A4: 2 | B4: COMMENTARY | K4: 5
A5: 3 | B5: HEAT BALANCE | K5: 6
A6: 4 | B6: HEAT PRODUCTION | K6: 7
A7: 4.1 | B7: Gross heat production by fuel | K7: 7
A8: 4.2 | B8: Gross heat production in Czech Regions | K8: 8
A9: 4.3 | B9: Gross heat production by fuel in Czech Regions | K9: 9
A10: 5 | B10: HEAT SUPPLY | K10: 10
A11: 5.1 | B11: Heat supply by fuel | K11: 10
A12: 5.2 | B12: Heat supply in Czech Regions | K12: 11
A13: 5.3 | B13: Heat supply by fuel in Czech Regions | K13: 12
A14: 5.4 | B14: Supply of heat from coal, biomass and biogas | K14: 13
... A42: 11 | B42: ADDITIONAL GRAPHS AND THE HEAT BALANCE DIAGRAM FOR 2025 | K42: 38

Sheet INTRODUCTION
A1: INTRODUCTION
A3: Under Section 17(7)(m) of Act No 458/2000 as amended (the Energy Act), the Energy Regulatory Office (ERO) publishes the Yearly Report on the Operation of Heat Supply Systems in the Czech Republic for 2025. The statistics contained herein are mainly intended for Czech governmental authorities and institutions and those of the European Union, and the expert circles. The ERO obtains data for the yearly report under ERO Public Notice 404/2016 on the particulars and structure of the returns required for preparing reports on the operation of systems in energy industries, including the dates, scope and rules for preparing the returns (the Statistics Public Notice), as amended, which came into effect on 1 January 2017. All the details of the methodology for reporting data for the ERO statistics are specified in the ERO’s Explanatory Statement 8/2018 of 14 September 2018 on the method of completing the returns under the Statistics Public Notice for the electricity and heat supply industries. The Explanatory Statement and the current returns are posted on the ERO’s website. All information for this yearly report has been obtained from licensed entities: electricity and heat producers and operators of heat distribution facilities. The Yearly Report on the Operation of Heat Supply Systems in the Czech Republic for 2025 follows up on the yearly reports released in preceding years and provides information about the heat supply industry’s key statistics for 2025, thereby complementing the Yearly Report on the Operation of the Czech Electricity Grid for 2025, which also contains data on combined heat & power generation (CHP). The present report covers all heat produced in licensed activities, including CHP, and also statistics on heat balance, supply, and consumption by category. The report also offers an overview of the installed capacities in the Czech heat producing plants and some Region-specific evaluations. The yearly report for 2025 is based on the data in the report for 4Q 2025 and contains some more accurate data. You are welcome to send your questions and comments to the Quality Statistics and Monitoring Unit at teplo.statistika@eru.gov.cz

Sheet 1
A1: 1 ABBREVIATIONS, DEFINITIONS AND KEY RELATIONSHIPS
A3: CZ-NACE | B3: Classification of economic activities, CZ-NACE, in accordance with the Czech Statistical Office
A4: CHP | B4: Combined heat and power generation
A5: SZT | B5: Heat supply system
A7: Qnet | B7: Net heat production
A8: QCHP | B8: Supply of useful heat from CHP
A10: PHA | B10: Prague
A11: JHČ | B11: Jihočeský (South Bohemian) Region
A12: JHM | B12: Jihomoravský (South Moravian) Region
A13: KVK | B13: Karlovarský (Karlovy Vary) Region
A14: VYS | B14: Vysočina Region
A15: HKK | B15: Královéhradecký (Hradec Králové) Region
A16: LBK | B16: Liberecký (Liberec) Region
... A23: ZLK | B23: Zlínský (Zlín) Region
A25: Gross heat production =
A26: Gross heat production in plants, without heat used for electricity generation
A27: Net heat production =
A28: Gross heat production without own use (process only) heat consumption
A29: Own use (process only) of heat =
A30: Heat consumption for heat and power generation, which is required for operating the process of heat and power generation
A31: Losses =
A32: Losses in heat production and distribution losses (in heat distribution)
A33: Own use of heat =
A34: Heat consumption for the producer’s own consumption (without own use (process only) of heat)
A35: Heat supply =
A36: Thermal energy quantity supplied into heat supply systems
... A40: Final heat consumption in each of the sectors of the national economy

Sheet 2
A1: 2 COMMENTARY
A3: The basic chapter contains the heat balance; it shows that gross heat production totalled 137,334.5 TJ in 2025 and 3.4% more heat was produced compared with 2024 (132,836.9 TJ). Approximately 29% of gross production was consumed in the entity’s own enterprise or facility (these are mostly works’ own CHP plants that are not included in the classification of economic activities (CZ-NACE) in group 35 Electricity, gas, steam, and air conditioning supply). Heat supply amounted to 77,093.1 TJ, up by 5.6% on 2024 (73,002.6 TJ). Heat supply accounted for approximately 56%, own use for process purposes accounted for 6%, and losses accounted for 9% of gross heat production. Most of the heat was produced from brown coal (34%), followed by natural gas (22%) and biomass (21%). The largest quantity of heat was produced in the Ústecký Region (23%), followed by the Středočeský Region (17.3%) and the Moravskoslezský Region (17.2%). The structure of heat production by fuel differs in each of the Regions depending on fuel availability. The decline in gross heat production from coal continues; compared with 2017, the decline for brown coal was by 34% and for hard coal by 61%. On the other hand, in the case of biomass it increased by 61%. Almost all heat from hard coal was produced in the Moravskoslezský Region. The largest quantity of heat from brown coal was produced in the Ústecký Region (36%), from natural gas in the Středočeský Region (19%), from biomass in the Ústecký Region (37%), and from biogas in the Vysočina Region (15%). The structure of heat supply by fuel is similar to that of gross heat production (41% from brown coal, 27% from natural gas, and 14% from biomass); in terms of the structure of heat supply by Region, the Středočeský Region is placed first, followed by the Ústecký Region and the Moravskoslezský Region. In 2025, heat supply from biomass surged the most, by 18%. At the end of 2025, the installed thermal capacity of heat production plants totalled 38,567.7 MWt. Chapter 7 shows a heat consumption breakdown by sector of the national economy. In 2025, households consumed 32,885.4 TJ, accounting for 48% of total consumption, industry consumed 14,734.8 TJ (22% of total consumption), and the trade and service sector consumed 16,571.8 TJ (24% of total consumption). Chapter 8 summarises gross heat production, and heat supply and consumption in the Czech Regions. Combined heat and power generation (CHP) produced 85,172.7 TJ of useful heat, accounting for 66% of net heat production. Most of useful heat from CHP was produced from brown coal (45%), followed by biomass (24%) and natural gas (13%). The small share of useful heat from natural gas in net heat (38%) is attributable to the larger number of natural gas heating plants (substations) than cogeneration units. In 2025, CHP produced 5.7% more heat than in 2024. A comparison of each of the quarters of the two years shows an increase in gross heat production every quarter compared with 2024 (most of all in the first quarter, by 6.2%), due to the colder weather during the year. Year-on-year, heat production dropped the most in the Karlovarský Region, due to decreased own use of heat at Sokolovská uhelná coal mining company.

Sheet 3
A1: 3 HEAT BALANCE [TJ] | N1: 2022
B3: First quarter | E3: Second quarter | H3: Third quarter | K3: Fourth quarter | N3: Total
B4: January | C4: February | D4: March | E4: April | F4: May | G4: June | H4: July | I4: August | J4: September | K4: October | L4: November | M4: December
A5: Gross heat production | B5: =SUM(B6:D6) -> 47740.327 | E5: =SUM(E6:G6) -> 26025.743 | H5: =SUM(H6:J6) -> 21016.829 | K5: =SUM(K6:M6) -> 42551.557 | N5: =SUM(B6:M6) -> 137334.46
B6: ='[1]Podklady RZ'!B6 -> 17776.669 | C6: ='[1]Podklady RZ'!C6 -> 16072.979 | D6: ='[1]Podklady RZ'!D6 -> 13890.679 | E6: ='[1]Podklady RZ'!E6 -> 10129.228 | F6: ='[1]Podklady RZ'!F6 -> 9074.5859 | G6: ='[1]Podklady RZ'!G6 -> 6821.9288 | H6: ='[1]Podklady RZ'!H6 -> 6698.5726 | I6: ='[1]Podklady RZ'!I6 -> 6715.0381 | ... M6: ='[1]Podklady RZ'!M6 -> 16406.202
A7: Own use (process only) of heat | B7: =SUM(B8:D8) -> 2721.6814 | E7: =SUM(E8:G8) -> 1790.8054 | H7: =SUM(H8:J8) -> 1738.0842 | K7: =SUM(K8:M8) -> 2001.728 | N7: =SUM(B8:M8) -> 8252.2989
B8: ='[1]Podklady RZ'!B8 -> 960.26153 | C8: ='[1]Podklady RZ'!C8 -> 873.41144 | D8: ='[1]Podklady RZ'!D8 -> 888.00841 | E8: ='[1]Podklady RZ'!E8 -> 627.70269 | F8: ='[1]Podklady RZ'!F8 -> 613.35914 | G8: ='[1]Podklady RZ'!G8 -> 549.74357 | H8: ='[1]Podklady RZ'!H8 -> 585.81627 | I8: ='[1]Podklady RZ'!I8 -> 568.94967 | ... M8: ='[1]Podklady RZ'!M8 -> 772.32481
A9: Losses | B9: =SUM(B10:D10) -> 3413.4691 | E9: =SUM(E10:G10) -> 2642.9074 | H9: =SUM(H10:J10) -> 2385.79 | K9: =SUM(K10:M10) -> 3307.6803 | N9: =SUM(B10:M10) -> 11749.847
B10: ='[1]Podklady RZ'!B10 -> 1205.2531 | C10: ='[1]Podklady RZ'!C10 -> 1091.341 | D10: ='[1]Podklady RZ'!D10 -> 1116.8749 | E10: ='[1]Podklady RZ'!E10 -> 942.78564 | F10: ='[1]Podklady RZ'!F10 -> 895.60694 | G10: ='[1]Podklady RZ'!G10 -> 804.51485 | H10: ='[1]Podklady RZ'!H10 -> 770.20404 | I10: ='[1]Podklady RZ'!I10 -> 786.57357 | ... M10: ='[1]Podklady RZ'!M10 -> 1160.1989
A11: Own use of heat | B11: =SUM(B12:D12) -> 11531.34 | E11: =SUM(E12:G12) -> 9046.7858 | H11: =SUM(H12:J12) -> 8435.7163 | K11: =SUM(K12:M12) -> 10972.006 | N11: =SUM(B12:M12) -> 39985.848
B12: ='[1]Podklady RZ'!B12 -> 4248.4491 | C12: ='[1]Podklady RZ'!C12 -> 3673.1395 | D12: ='[1]Podklady RZ'!D12 -> 3609.7513 | E12: ='[1]Podklady RZ'!E12 -> 3156.7241 | F12: ='[1]Podklady RZ'!F12 -> 3117.279 | G12: ='[1]Podklady RZ'!G12 -> 2772.7827 | H12: ='[1]Podklady RZ'!H12 -> 2796.673 | I12: ='[1]Podklady RZ'!I12 -> 2763.5835 | ... M12: ='[1]Podklady RZ'!M12 -> 3956.8483
A13: Heat supply | B13: =SUM(B14:D14) -> 30010.319 | E13: =SUM(E14:G14) -> 12492.291 | H13: =SUM(H14:J14) -> 8395.3319 | K13: =SUM(K14:M14) -> 26195.149 | N13: =SUM(B14:M14) -> 77093.091
B14: ='[1]Podklady RZ'!B14 -> 11343.689 | C14: ='[1]Podklady RZ'!C14 -> 10404.305 | D14: ='[1]Podklady RZ'!D14 -> 8262.3241 | E14: ='[1]Podklady RZ'!E14 -> 5385.6958 | F14: ='[1]Podklady RZ'!F14 -> 4431.3835 | G14: ='[1]Podklady RZ'!G14 -> 2675.2117 | H14: ='[1]Podklady RZ'!H14 -> 2529.183 | I14: ='[1]Podklady RZ'!I14 -> 2578.0161 | ... M14: ='[1]Podklady RZ'!M14 -> 10502.239
A15: Balancing difference | B15: =SUM(B16:D16) -> 63.517941 | E15: =SUM(E16:G16) -> 52.953404 | H15: =SUM(H16:J16) -> 61.906965 | K15: =SUM(K16:M16) -> 74.993962 | N15: =SUM(B16:M16) -> 253.37227
B16: ='[1]Podklady RZ'!B16 -> 19.016051 | C16: ='[1]Podklady RZ'!C16 -> 30.781568 | D16: ='[1]Podklady RZ'!D16 -> 13.720322 | E16: ='[1]Podklady RZ'!E16 -> 16.320151 | F16: ='[1]Podklady RZ'!F16 -> 16.957302 | G16: ='[1]Podklady RZ'!G16 -> 19.675951 | H16: ='[1]Podklady RZ'!H16 -> 16.696224 | I16: ='[1]Podklady RZ'!I16 -> 17.915244 | ... M16: ='[1]Podklady RZ'!M16 -> 14.591167
A18: =A5 -> Gross heat production | B18: =B6 -> 17776.669 | C18: =C6 -> 16072.979 | D18: =D6 -> 13890.679 | E18: =E6 -> 10129.228 | F18: =F6 -> 9074.5859 | G18: =G6 -> 6821.9288 | H18: =H6 -> 6698.5726 | I18: =I6 -> 6715.0381 | ... M18: =M6 -> 16406.202
A19: =A7 -> Own use (process only) of heat | B19: =-B8 -> -960.26153 | C19: =-C8 -> -873.41144 | D19: =-D8 -> -888.00841 | E19: =-E8 -> -627.70269 | F19: =-F8 -> -613.35914 | G19: =-G8 -> -549.74357 | H19: =-H8 -> -585.81627 | I19: =-I8 -> -568.94967 | ... M19: =-M8 -> -772.32481
A20: =A9 -> Losses | B20: =-B10 -> -1205.2531 | C20: =-C10 -> -1091.341 | D20: =-D10 -> -1116.8749 | E20: =-E10 -> -942.78564 | F20: =-F10 -> -895.60694 | G20: =-G10 -> -804.51485 | H20: =-H10 -> -770.20404 | I20: =-I10 -> -786.57357 | ... M20: =-M10 -> -1160.1989
A21: =A11 -> Own use of heat | B21: =-B12 -> -4248.4491 | C21: =-C12 -> -3673.1395 | D21: =-D12 -> -3609.7513 | E21: =-E12 -> -3156.7241 | F21: =-F12 -> -3117.279 | G21: =-G12 -> -2772.7827 | H21: =-H12 -> -2796.673 | I21: =-I12 -> -2763.5835 | ... M21: =-M12 -> -3956.8483
A22: =A13 -> Heat supply | B22: =-B14 -> -11343.689 | C22: =-C14 -> -10404.305 | D22: =-D14 -> -8262.3241 | E22: =-E14 -> -5385.6958 | F22: =-F14 -> -4431.3835 | G22: =-G14 -> -2675.2117 | H22: =-H14 -> -2529.183 | I22: =-I14 -> -2578.0161 | ... M22: =-M14 -> -10502.239
A23: =A15 -> Balancing difference | B23: =-B16 -> -19.016051 | C23: =-C16 -> -30.781568 | D23: =-D16 -> -13.720322 | E23: =-E16 -> -16.320151 | F23: =-F16 -> -16.957302 | G23: =-G16 -> -19.675951 | H23: =-H16 -> -16.696224 | I23: =-I16 -> -17.915244 | ... M23: =-M16 -> -14.591167

Sheet 4.1
A1: 4 HEAT PRODUCTION | N1: ='3'!N1 -> 2022
A2: 4.1 Gross heat production by fuel [TJ]
B4: First quarter | E4: Second quarter | H4: Third quarter | K4: Fourth quarter | N4: Total
B5: January | C5: February | D5: March | E5: April | F5: May | G5: June | H5: July | I5: August | J5: September | K5: October | L5: November | M5: December
A6: Gross heat production | B6: =SUM(B7:D7) -> 47740.327 | E6: =SUM(E7:G7) -> 26025.743 | H6: =SUM(H7:J7) -> 21016.829 | K6: =SUM(K7:M7) -> 42551.557 | N6: =SUM(N8:N23) -> 137334.46
B7: =SUM(B8:B23) -> 17776.669 | C7: =SUM(C8:C23) -> 16072.979 | D7: =SUM(D8:D23) -> 13890.679 | E7: =SUM(E8:E23) -> 10129.228 | F7: =SUM(F8:F23) -> 9074.5859 | G7: =SUM(G8:G23) -> 6821.9288 | H7: =SUM(H8:H23) -> 6698.5726 | I7: =SUM(I8:I23) -> 6715.0381 | ... M7: =SUM(M8:M23) -> 16406.202
A8: Biomass | B8: ='[1]Podklady RZ'!B24 -> 2886.194 | C8: ='[1]Podklady RZ'!C24 -> 2780.8423 | D8: ='[1]Podklady RZ'!D24 -> 2839.9331 | E8: ='[1]Podklady RZ'!E24 -> 2271.3723 | F8: ='[1]Podklady RZ'!F24 -> 2331.6238 | G8: ='[1]Podklady RZ'!G24 -> 1960.5269 | H8: ='[1]Podklady RZ'!H24 -> 1843.2878 | I8: ='[1]Podklady RZ'!I24 -> 1821.5613 | ... M8: ='[1]Podklady RZ'!M24 -> 2999.7368 | N8: =SUM(B8:M8) -> 28452.722
A9: Biogas | B9: ='[1]Podklady RZ'!B25 -> 428.8234 | C9: ='[1]Podklady RZ'!C25 -> 381.6378 | D9: ='[1]Podklady RZ'!D25 -> 388.2821 | E9: ='[1]Podklady RZ'!E25 -> 339.11876 | F9: ='[1]Podklady RZ'!F25 -> 327.0538 | G9: ='[1]Podklady RZ'!G25 -> 280.03359 | H9: ='[1]Podklady RZ'!H25 -> 284.1021 | I9: ='[1]Podklady RZ'!I25 -> 286.69029 | ... M9: ='[1]Podklady RZ'!M25 -> 415.66325 | N9: =SUM(B9:M9) -> 4176.0989
A10: Hard coal | B10: ='[1]Podklady RZ'!B26 -> 1191.9834 | C10: ='[1]Podklady RZ'!C26 -> 1068.406 | D10: ='[1]Podklady RZ'!D26 -> 840.06755 | E10: ='[1]Podklady RZ'!E26 -> 535.10351 | F10: ='[1]Podklady RZ'!F26 -> 389.87119 | G10: ='[1]Podklady RZ'!G26 -> 238.64381 | H10: ='[1]Podklady RZ'!H26 -> 218.97863 | I10: ='[1]Podklady RZ'!I26 -> 309.58034 | ... M10: ='[1]Podklady RZ'!M26 -> 885.22837 | N10: =SUM(B10:M10) -> 7600.4706
A11: Electrical energy | B11: ='[1]Podklady RZ'!B27 -> 8.4642 | C11: ='[1]Podklady RZ'!C27 -> 6.536297 | D11: ='[1]Podklady RZ'!D27 -> 9.555779 | E11: ='[1]Podklady RZ'!E27 -> 9.020686 | F11: ='[1]Podklady RZ'!F27 -> 7.200483 | G11: ='[1]Podklady RZ'!G27 -> 8.978333 | H11: ='[1]Podklady RZ'!H27 -> 5.197945 | I11: ='[1]Podklady RZ'!I27 -> 6.983475 | ... M11: ='[1]Podklady RZ'!M27 -> 3.10257 | N11: =SUM(B11:M11) -> 78.381289
A12: Ambient energy (heat pump) | B12: ='[1]Podklady RZ'!B28 -> 10.092826 | C12: ='[1]Podklady RZ'!C28 -> 9.8115971 | D12: ='[1]Podklady RZ'!D28 -> 8.5647441 | E12: ='[1]Podklady RZ'!E28 -> 7.5743114 | F12: ='[1]Podklady RZ'!F28 -> 7.2180908 | G12: ='[1]Podklady RZ'!G28 -> 7.1020725 | H12: ='[1]Podklady RZ'!H28 -> 6.6643423 | I12: ='[1]Podklady RZ'!I28 -> 6.3150251 | ... M12: ='[1]Podklady RZ'!M28 -> 9.2325501 | N12: =SUM(B12:M12) -> 94.892472
A13: Solar energy (solar panel) | B13: ='[1]Podklady RZ'!B29 -> 0.132393 | C13: ='[1]Podklady RZ'!C29 -> 0.091897 | D13: ='[1]Podklady RZ'!D29 -> 0.086683 | E13: ='[1]Podklady RZ'!E29 -> 0.268176 | F13: ='[1]Podklady RZ'!F29 -> 0.081819 | G13: ='[1]Podklady RZ'!G29 -> 0.103688 | H13: ='[1]Podklady RZ'!H29 -> 0.081396 | I13: ='[1]Podklady RZ'!I29 -> 0.084159 | ... M13: ='[1]Podklady RZ'!M29 -> 0.009115 | N13: =SUM(B13:M13) -> 1.050976
A14: Brown coal | B14: ='[1]Podklady RZ'!B30 -> 6729.1287 | C14: ='[1]Podklady RZ'!C30 -> 6118.3899 | D14: ='[1]Podklady RZ'!D30 -> 5100.5717 | E14: ='[1]Podklady RZ'!E30 -> 3504.3321 | F14: ='[1]Podklady RZ'!F30 -> 2775.3962 | G14: ='[1]Podklady RZ'!G30 -> 1678.1365 | H14: ='[1]Podklady RZ'!H30 -> 1648.3997 | I14: ='[1]Podklady RZ'!I30 -> 1698.3893 | ... M14: ='[1]Podklady RZ'!M30 -> 6068.4467 | N14: =SUM(B14:M14) -> 46538.174
A15: Nuclear fuel | B15: ='[1]Podklady RZ'!B31 -> 288.739 | C15: ='[1]Podklady RZ'!C31 -> 255.243 | D15: ='[1]Podklady RZ'!D31 -> 163.875 | E15: ='[1]Podklady RZ'!E31 -> 121.599 | F15: ='[1]Podklady RZ'!F31 -> 105.85 | G15: ='[1]Podklady RZ'!G31 -> 54.954 | H15: ='[1]Podklady RZ'!H31 -> 47.25 | I15: ='[1]Podklady RZ'!I31 -> 28.913 | ... M15: ='[1]Podklady RZ'!M31 -> 205.114 | N15: =SUM(B15:M15) -> 1698.106
A16: Coke | B16: ='[1]Podklady RZ'!B32 -> 0 | C16: ='[1]Podklady RZ'!C32 -> 0 | D16: ='[1]Podklady RZ'!D32 -> 0 | E16: ='[1]Podklady RZ'!E32 -> 0 | F16: ='[1]Podklady RZ'!F32 -> 0 | G16: ='[1]Podklady RZ'!G32 -> 0 | H16: ='[1]Podklady RZ'!H32 -> 0 | I16: ='[1]Podklady RZ'!I32 -> 0 | ... M16: ='[1]Podklady RZ'!M32 -> 0 | N16: =SUM(B16:M16) -> 0
A17: Waste heat | B17: ='[1]Podklady RZ'!B33 -> 649.42891 | C17: ='[1]Podklady RZ'!C33 -> 547.52116 | D17: ='[1]Podklady RZ'!D33 -> 597.77223 | E17: ='[1]Podklady RZ'!E33 -> 567.41801 | F17: ='[1]Podklady RZ'!F33 -> 599.49592 | G17: ='[1]Podklady RZ'!G33 -> 596.68909 | H17: ='[1]Podklady RZ'!H33 -> 510.80502 | I17: ='[1]Podklady RZ'!I33 -> 465.37849 | ... M17: ='[1]Podklady RZ'!M33 -> 665.68715 | N17: =SUM(B17:M17) -> 6918.4667
A18: Other liquid fuels | B18: ='[1]Podklady RZ'!B34 -> 2.674198 | C18: ='[1]Podklady RZ'!C34 -> 2.831218 | D18: ='[1]Podklady RZ'!D34 -> 2.336406 | E18: ='[1]Podklady RZ'!E34 -> 0.635531 | F18: ='[1]Podklady RZ'!F34 -> 0.673571 | G18: ='[1]Podklady RZ'!G34 -> 0.585978 | H18: ='[1]Podklady RZ'!H34 -> 0.526812 | I18: ='[1]Podklady RZ'!I34 -> 0.682558 | ... M18: ='[1]Podklady RZ'!M34 -> 43.51844 | N18: =SUM(B18:M18) -> 111.24891
A19: Other solid fuels | B19: ='[1]Podklady RZ'!B35 -> 513.64988 | C19: ='[1]Podklady RZ'!C35 -> 464.83387 | D19: ='[1]Podklady RZ'!D35 -> 446.25829 | E19: ='[1]Podklady RZ'!E35 -> 430.8091 | F19: ='[1]Podklady RZ'!F35 -> 397.9352 | G19: ='[1]Podklady RZ'!G35 -> 351.49277 | H19: ='[1]Podklady RZ'!H35 -> 305.2479 | I19: ='[1]Podklady RZ'!I35 -> 323.37363 | ... M19: ='[1]Podklady RZ'!M35 -> 438.1909 | N19: =SUM(B19:M19) -> 4800.8261
... A23: Natural gas | B23: ='[1]Podklady RZ'!B39 -> 4455.1462 | C23: ='[1]Podklady RZ'!C39 -> 3867.7773 | D23: ='[1]Podklady RZ'!D39 -> 2935.3864 | E23: ='[1]Podklady RZ'!E39 -> 1815.8591 | F23: ='[1]Podklady RZ'!F39 -> 1550.157 | G23: ='[1]Podklady RZ'!G39 -> 1157.7276 | H23: ='[1]Podklady RZ'!H39 -> 1317.6735 | I23: ='[1]Podklady RZ'!I39 -> 1275.0596 | ... M23: ='[1]Podklady RZ'!M39 -> 4072.3305 | N23: =SUM(B23:M23) -> 30287.946
A25: Biomasa | B25: =+N8 -> 28452.722
A26: Bioplyn | B26: =+N9 -> 4176.0989
A27: Černé uhlí | B27: =+N10 -> 7600.4706
A28: Elektrická energie | B28: =+N11 -> 78.381289
A29: Energie prostředí (tepelné čerpadlo) | B29: =+N12 -> 94.892472
A30: Energie Slunce (solární kolektor) | B30: =+N13 -> 1.050976
A31: Hnědé uhlí | B31: =+N14 -> 46538.174
A32: Jaderné palivo | B32: =+N15 -> 1698.106
A33: Koks | B33: =+N16 -> 0
A34: Odpadní teplo | B34: =+N17 -> 6918.4667
A35: Ostatní kapalná paliva | B35: =+N18 -> 111.24891
A36: Ostatní pevná paliva | B36: =+N19 -> 4800.8261
... A40: Zemní plyn | B40: =+N23 -> 30287.946

Sheet 4.2
A1: 4.2 Gross heat production in Czech Regions [TJ] | N1: ='3'!N1 -> 2022
B3: First quarter | E3: Second quarter | H3: Third quarter | K3: Fourth quarter | N3: Total
B4: January | C4: February | D4: March | E4: April | F4: May | G4: June | H4: July | I4: August | J4: September | K4: October | L4: November | M4: December
A5: Gross heat production | B5: =SUM(B6:D6) -> 47740.327 | E5: =SUM(E6:G6) -> 26025.743 | H5: =SUM(H6:J6) -> 21016.861 | K5: =SUM(K6:M6) -> 42551.557 | N5: =SUM(N7:N20) -> 137334.49
B6: =SUM(B7:B20) -> 17776.669 | C6: =SUM(C7:C20) -> 16072.979 | D6: =SUM(D7:D20) -> 13890.679 | E6: =SUM(E7:E20) -> 10129.228 | F6: =SUM(F7:F20) -> 9074.5859 | G6: =SUM(G7:G20) -> 6821.9288 | H6: =SUM(H7:H20) -> 6698.6043 | I6: =SUM(I7:I20) -> 6715.0381 | ... M6: =SUM(M7:M20) -> 16406.202
A7: Prague | B7: ='[1]Podklady RZ'!B47 -> 701.83384 | C7: ='[1]Podklady RZ'!C47 -> 647.42768 | D7: ='[1]Podklady RZ'!D47 -> 535.96928 | E7: ='[1]Podklady RZ'!E47 -> 350.22649 | F7: ='[1]Podklady RZ'!F47 -> 278.73125 | G7: ='[1]Podklady RZ'!G47 -> 212.67399 | H7: ='[1]Podklady RZ'!H47 -> 209.35099 | I7: ='[1]Podklady RZ'!I47 -> 219.42076 | ... M7: ='[1]Podklady RZ'!M47 -> 647.5837 | N7: =SUM(B7:M7) -> 4949.983
A8: Jihočeský Region | B8: ='[1]Podklady RZ'!B48 -> 941.83408 | C8: ='[1]Podklady RZ'!C48 -> 837.91944 | D8: ='[1]Podklady RZ'!D48 -> 700.63859 | E8: ='[1]Podklady RZ'!E48 -> 495.05723 | F8: ='[1]Podklady RZ'!F48 -> 409.36051 | G8: ='[1]Podklady RZ'!G48 -> 265.20984 | H8: ='[1]Podklady RZ'!H48 -> 257.11681 | I8: ='[1]Podklady RZ'!I48 -> 255.25568 | ... M8: ='[1]Podklady RZ'!M48 -> 857.76357 | N8: =SUM(B8:M8) -> 6673.2435
A9: Jihomoravský Region | B9: ='[1]Podklady RZ'!B49 -> 1106.8515 | C9: ='[1]Podklady RZ'!C49 -> 918.83924 | D9: ='[1]Podklady RZ'!D49 -> 675.92072 | E9: ='[1]Podklady RZ'!E49 -> 481.49775 | F9: ='[1]Podklady RZ'!F49 -> 395.53289 | G9: ='[1]Podklady RZ'!G49 -> 267.10594 | H9: ='[1]Podklady RZ'!H49 -> 255.97213 | I9: ='[1]Podklady RZ'!I49 -> 261.86375 | ... M9: ='[1]Podklady RZ'!M49 -> 929.96756 | N9: =SUM(B9:M9) -> 6965.1587
A10: Karlovarský Region | B10: ='[1]Podklady RZ'!B50 -> 761.06989 | C10: ='[1]Podklady RZ'!C50 -> 686.87835 | D10: ='[1]Podklady RZ'!D50 -> 633.1794 | E10: ='[1]Podklady RZ'!E50 -> 428.76314 | F10: ='[1]Podklady RZ'!F50 -> 381.84764 | G10: ='[1]Podklady RZ'!G50 -> 274.14865 | H10: ='[1]Podklady RZ'!H50 -> 222.32363 | I10: ='[1]Podklady RZ'!I50 -> 250.58323 | ... M10: ='[1]Podklady RZ'!M50 -> 655.62473 | N10: =SUM(B10:M10) -> 5743.146
A11: Vysočina Region | B11: ='[1]Podklady RZ'!B51 -> 494.95268 | C11: ='[1]Podklady RZ'!C51 -> 443.4881 | D11: ='[1]Podklady RZ'!D51 -> 377.33746 | E11: ='[1]Podklady RZ'!E51 -> 278.08765 | F11: ='[1]Podklady RZ'!F51 -> 246.05467 | G11: ='[1]Podklady RZ'!G51 -> 174.85272 | H11: ='[1]Podklady RZ'!H51 -> 153.48962 | I11: ='[1]Podklady RZ'!I51 -> 153.33978 | ... M11: ='[1]Podklady RZ'!M51 -> 449.61078 | N11: =SUM(B11:M11) -> 3622.2041
A12: Královéhradecký Region | B12: ='[1]Podklady RZ'!B52 -> 577.04799 | C12: ='[1]Podklady RZ'!C52 -> 466.03972 | D12: ='[1]Podklady RZ'!D52 -> 390.98163 | E12: ='[1]Podklady RZ'!E52 -> 290.69342 | F12: ='[1]Podklady RZ'!F52 -> 261.55406 | G12: ='[1]Podklady RZ'!G52 -> 183.29052 | H12: ='[1]Podklady RZ'!H52 -> 159.35952 | I12: ='[1]Podklady RZ'!I52 -> 172.03743 | ... M12: ='[1]Podklady RZ'!M52 -> 546.30764 | N12: =SUM(B12:M12) -> 4224.2585
A13: Liberecký Region | B13: ='[1]Podklady RZ'!B53 -> 320.51496 | C13: ='[1]Podklady RZ'!C53 -> 291.27962 | D13: ='[1]Podklady RZ'!D53 -> 233.2752 | E13: ='[1]Podklady RZ'!E53 -> 169.58791 | F13: ='[1]Podklady RZ'!F53 -> 139.49207 | G13: ='[1]Podklady RZ'!G53 -> 108.26815 | H13: ='[1]Podklady RZ'!H53 -> 108.78135 | I13: ='[1]Podklady RZ'!I53 -> 111.67088 | ... M13: ='[1]Podklady RZ'!M53 -> 286.93005 | N13: =SUM(B13:M13) -> 2337.1339
A14: Moravskoslezský Region | B14: ='[1]Podklady RZ'!B54 -> 2898.5001 | C14: ='[1]Podklady RZ'!C54 -> 2596.5933 | D14: ='[1]Podklady RZ'!D54 -> 2278.9672 | E14: ='[1]Podklady RZ'!E54 -> 1797.4504 | F14: ='[1]Podklady RZ'!F54 -> 1727.073 | G14: ='[1]Podklady RZ'!G54 -> 1361.2338 | H14: ='[1]Podklady RZ'!H54 -> 1365.6938 | I14: ='[1]Podklady RZ'!I54 -> 1281.7342 | ... M14: ='[1]Podklady RZ'!M54 -> 2617.2329 | N14: =SUM(B14:M14) -> 23572.454
A15: Olomoucký Region | B15: ='[1]Podklady RZ'!B55 -> 840.45303 | C15: ='[1]Podklady RZ'!C55 -> 731.69727 | D15: ='[1]Podklady RZ'!D55 -> 609.35652 | E15: ='[1]Podklady RZ'!E55 -> 433.18756 | F15: ='[1]Podklady RZ'!F55 -> 396.20481 | G15: ='[1]Podklady RZ'!G55 -> 291.52869 | H15: ='[1]Podklady RZ'!H55 -> 297.36585 | I15: ='[1]Podklady RZ'!I55 -> 298.99764 | ... M15: ='[1]Podklady RZ'!M55 -> 763.33287 | N15: =SUM(B15:M15) -> 6363.224
A16: Pardubický Region | B16: ='[1]Podklady RZ'!B56 -> 883.34505 | C16: ='[1]Podklady RZ'!C56 -> 798.98018 | D16: ='[1]Podklady RZ'!D56 -> 654.18327 | E16: ='[1]Podklady RZ'!E56 -> 447.53759 | F16: ='[1]Podklady RZ'!F56 -> 390.67997 | G16: ='[1]Podklady RZ'!G56 -> 242.71413 | H16: ='[1]Podklady RZ'!H56 -> 232.6344 | I16: ='[1]Podklady RZ'!I56 -> 217.42562 | ... M16: ='[1]Podklady RZ'!M56 -> 811.21239 | N16: =SUM(B16:M16) -> 6228.4352
A17: Plzeňský Region | B17: ='[1]Podklady RZ'!B57 -> 802.96832 | C17: ='[1]Podklady RZ'!C57 -> 749.67213 | D17: ='[1]Podklady RZ'!D57 -> 599.70778 | E17: ='[1]Podklady RZ'!E57 -> 409.47026 | F17: ='[1]Podklady RZ'!F57 -> 327.26889 | G17: ='[1]Podklady RZ'!G57 -> 204.52695 | H17: ='[1]Podklady RZ'!H57 -> 199.27452 | I17: ='[1]Podklady RZ'!I57 -> 167.58932 | ... M17: ='[1]Podklady RZ'!M57 -> 727.06913 | N17: =SUM(B17:M17) -> 5563.1681
A18: Středočeský Region | B18: ='[1]Podklady RZ'!B58 -> 3296.4961 | C18: ='[1]Podklady RZ'!C58 -> 2948.441 | D18: ='[1]Podklady RZ'!D58 -> 2475.4287 | E18: ='[1]Podklady RZ'!E58 -> 1578.0504 | F18: ='[1]Podklady RZ'!F58 -> 1394.5286 | G18: ='[1]Podklady RZ'!G58 -> 1015.1108 | H18: ='[1]Podklady RZ'!H58 -> 892.64356 | I18: ='[1]Podklady RZ'!I58 -> 956.15824 | ... M18: ='[1]Podklady RZ'!M58 -> 3115.2165 | N18: =SUM(B18:M18) -> 23817.494
... A20: Zlínský Region | B20: ='[1]Podklady RZ'!B60 -> 832.50887 | C20: ='[1]Podklady RZ'!C60 -> 729.2654 | D20: ='[1]Podklady RZ'!D60 -> 620.10341 | E20: ='[1]Podklady RZ'!E60 -> 468.87547 | F20: ='[1]Podklady RZ'!F60 -> 445.18638 | G20: ='[1]Podklady RZ'!G60 -> 333.22789 | H20: ='[1]Podklady RZ'!H60 -> 338.68866 | I20: ='[1]Podklady RZ'!I60 -> 304.00059 | ... M20: ='[1]Podklady RZ'!M60 -> 694.42661 | N20: =SUM(B20:M20) -> 6284.5151
A22: Hlavní město Praha | B22: =SUM(INDEX(B7:M7,,MONTH('[1]Podklady RZ'!$O$1)):INDEX(B7:M7,,MONTH('[1]Podklady RZ'!$Q$1))) -> 4949.983
A23: Jihočeský kraj | B23: =SUM(INDEX(B8:M8,,MONTH('[1]Podklady RZ'!$O$1)):INDEX(B8:M8,,MONTH('[1]Podklady RZ'!$Q$1))) -> 6673.2435
A24: Jihomoravský kraj | B24: =SUM(INDEX(B9:M9,,MONTH('[1]Podklady RZ'!$O$1)):INDEX(B9:M9,,MONTH('[1]Podklady RZ'!$Q$1))) -> 6965.1587
A25: Karlovarský kraj | B25: =SUM(INDEX(B10:M10,,MONTH('[1]Podklady RZ'!$O$1)):INDEX(B10:M10,,MONTH('[1]Podklady RZ'!$Q$1))) -> 5743.146
A26: Kraj Vysočina | B26: =SUM(INDEX(B11:M11,,MONTH('[1]Podklady RZ'!$O$1)):INDEX(B11:M11,,MONTH('[1]Podklady RZ'!$Q$1))) -> 3622.2041
A27: Královéhradecký kraj | B27: =SUM(INDEX(B12:M12,,MONTH('[1]Podklady RZ'!$O$1)):INDEX(B12:M12,,MONTH('[1]Podklady RZ'!$Q$1))) -> 4224.2585
A28: Liberecký kraj | B28: =SUM(INDEX(B13:M13,,MONTH('[1]Podklady RZ'!$O$1)):INDEX(B13:M13,,MONTH('[1]Podklady RZ'!$Q$1))) -> 2337.1339
A29: Moravskoslezský kraj | B29: =SUM(INDEX(B14:M14,,MONTH('[1]Podklady RZ'!$O$1)):INDEX(B14:M14,,MONTH('[1]Podklady RZ'!$Q$1))) -> 23572.454
A30: Olomoucký kraj | B30: =SUM(INDEX(B15:M15,,MONTH('[1]Podklady RZ'!$O$1)):INDEX(B15:M15,,MONTH('[1]Podklady RZ'!$Q$1))) -> 6363.224
A31: Pardubický kraj | B31: =SUM(INDEX(B16:M16,,MONTH('[1]Podklady RZ'!$O$1)):INDEX(B16:M16,,MONTH('[1]Podklady RZ'!$Q$1))) -> 6228.4352
A32: Plzeňský kraj | B32: =SUM(INDEX(B17:M17,,MONTH('[1]Podklady RZ'!$O$1)):INDEX(B17:M17,,MONTH('[1]Podklady RZ'!$Q$1))) -> 5563.1681
A33: Středočeský kraj | B33: =SUM(INDEX(B18:M18,,MONTH('[1]Podklady RZ'!$O$1)):INDEX(B18:M18,,MONTH('[1]Podklady RZ'!$Q$1))) -> 23817.494
... A35: Zlínský kraj | B35: =SUM(INDEX(B20:M20,,MONTH('[1]Podklady RZ'!$O$1)):INDEX(B20:M20,,MONTH('[1]Podklady RZ'!$Q$1))) -> 6284.5151

Sheet 4.3
A1: 4.3. Gross heat production by fuel in Czech Regions [TJ] | P1: ='3'!N1 -> 2022
B3: PHA | C3: JHČ | D3: JHM | E3: KVK | F3: VYS | G3: HKK | H3: LBK | I3: MSK | J3: OLK | K3: PAK | L3: PLK | M3: STČ | N3: ULK | O3: ZLK | P3: Total
A4: Gross heat production | B4: =SUM(B5:B20) -> 4949.983 | C4: =SUM(C5:C20) -> 6673.2117 | D4: =SUM(D5:D20) -> 6965.1587 | E4: =SUM(E5:E20) -> 5743.146 | F4: =SUM(F5:F20) -> 3622.2041 | G4: =SUM(G5:G20) -> 4224.2585 | H4: =SUM(H5:H20) -> 2337.1339 | I4: =SUM(I5:I20) -> 23572.454 | ... P4: =SUM(P5:P20) -> 137334.46
A5: Biomass | B5: ='[1]Podklady RZ'!B66 -> 0 | C5: ='[1]Podklady RZ'!C66 -> 2659.0153 | D5: ='[1]Podklady RZ'!D66 -> 570.72123 | E5: ='[1]Podklady RZ'!E66 -> 469.79233 | F5: ='[1]Podklady RZ'!F66 -> 1465.7979 | G5: ='[1]Podklady RZ'!G66 -> 998.8331 | H5: ='[1]Podklady RZ'!H66 -> 6.103365 | I5: ='[1]Podklady RZ'!I66 -> 6577.1924 | ... O5: ='[1]Podklady RZ'!O66 -> 867.63689 | P5: =SUM(B5:O5) -> 28452.722
A6: Biogas | B6: ='[1]Podklady RZ'!B67 -> 190.2496 | C6: ='[1]Podklady RZ'!C67 -> 409.99302 | D6: ='[1]Podklady RZ'!D67 -> 306.72936 | E6: ='[1]Podklady RZ'!E67 -> 48.861753 | F6: ='[1]Podklady RZ'!F67 -> 614.22622 | G6: ='[1]Podklady RZ'!G67 -> 402.18448 | H6: ='[1]Podklady RZ'!H67 -> 39.666316 | I6: ='[1]Podklady RZ'!I67 -> 320.50371 | ... O6: ='[1]Podklady RZ'!O67 -> 159.88547 | P6: =SUM(B6:O6) -> 4176.0989
A7: Hard coal | B7: ='[1]Podklady RZ'!B68 -> 0 | C7: ='[1]Podklady RZ'!C68 -> 32.392 | D7: ='[1]Podklady RZ'!D68 -> 0.14817 | E7: ='[1]Podklady RZ'!E68 -> 0 | F7: ='[1]Podklady RZ'!F68 -> 0 | G7: ='[1]Podklady RZ'!G68 -> 0.20103 | H7: ='[1]Podklady RZ'!H68 -> 0 | I7: ='[1]Podklady RZ'!I68 -> 7413.0344 | ... O7: ='[1]Podklady RZ'!O68 -> 151.49278 | P7: =SUM(B7:O7) -> 7600.4706
A8: Electrical energy | B8: ='[1]Podklady RZ'!B69 -> 2.048 | C8: ='[1]Podklady RZ'!C69 -> 0.12404 | D8: ='[1]Podklady RZ'!D69 -> 5.944424 | E8: ='[1]Podklady RZ'!E69 -> 0 | F8: ='[1]Podklady RZ'!F69 -> 1.97111 | G8: ='[1]Podklady RZ'!G69 -> 2.4188 | H8: ='[1]Podklady RZ'!H69 -> 3.01957 | I8: ='[1]Podklady RZ'!I69 -> 0.777934 | ... O8: ='[1]Podklady RZ'!O69 -> 0 | P8: =SUM(B8:O8) -> 78.381289
A9: Ambient energy (heat pump) | B9: ='[1]Podklady RZ'!B70 -> 35.3532 | C9: ='[1]Podklady RZ'!C70 -> 0 | D9: ='[1]Podklady RZ'!D70 -> 0.245308 | E9: ='[1]Podklady RZ'!E70 -> 3.339634 | F9: ='[1]Podklady RZ'!F70 -> 3.31471 | G9: ='[1]Podklady RZ'!G70 -> 0 | H9: ='[1]Podklady RZ'!H70 -> 0.908 | I9: ='[1]Podklady RZ'!I70 -> 0 | ... O9: ='[1]Podklady RZ'!O70 -> 4.21012 | P9: =SUM(B9:O9) -> 94.892472
A10: Solar energy (solar panel) | B10: ='[1]Podklady RZ'!B71 -> 0 | C10: ='[1]Podklady RZ'!C71 -> 0 | D10: ='[1]Podklady RZ'!D71 -> 0.117429 | E10: ='[1]Podklady RZ'!E71 -> 0.515347 | F10: ='[1]Podklady RZ'!F71 -> 0.158 | G10: ='[1]Podklady RZ'!G71 -> 0.0112 | H10: ='[1]Podklady RZ'!H71 -> 0 | I10: ='[1]Podklady RZ'!I71 -> 0 | ... O10: ='[1]Podklady RZ'!O71 -> 0 | P10: =SUM(B10:O10) -> 1.050976
A11: Brown coal | B11: ='[1]Podklady RZ'!B72 -> 0 | C11: ='[1]Podklady RZ'!C72 -> 1430.37 | D11: ='[1]Podklady RZ'!D72 -> 16.85756 | E11: ='[1]Podklady RZ'!E72 -> 3974.9698 | F11: ='[1]Podklady RZ'!F72 -> 307.18638 | G11: ='[1]Podklady RZ'!G72 -> 1077.5156 | H11: ='[1]Podklady RZ'!H72 -> 84.486385 | I11: ='[1]Podklady RZ'!I72 -> 410.52562 | ... O11: ='[1]Podklady RZ'!O72 -> 1453.3083 | P11: =SUM(B11:O11) -> 46538.174
A12: Nuclear fuel | B12: ='[1]Podklady RZ'!B73 -> 0 | C12: ='[1]Podklady RZ'!C73 -> 1308.769 | D12: ='[1]Podklady RZ'!D73 -> 0 | E12: ='[1]Podklady RZ'!E73 -> 0 | F12: ='[1]Podklady RZ'!F73 -> 389.337 | G12: ='[1]Podklady RZ'!G73 -> 0 | H12: ='[1]Podklady RZ'!H73 -> 0 | I12: ='[1]Podklady RZ'!I73 -> 0 | ... O12: ='[1]Podklady RZ'!O73 -> 0 | P12: =SUM(B12:O12) -> 1698.106
A13: Coke | B13: ='[1]Podklady RZ'!B74 -> 0 | C13: ='[1]Podklady RZ'!C74 -> 0 | D13: ='[1]Podklady RZ'!D74 -> 0 | E13: ='[1]Podklady RZ'!E74 -> 0 | F13: ='[1]Podklady RZ'!F74 -> 0 | G13: ='[1]Podklady RZ'!G74 -> 0 | H13: ='[1]Podklady RZ'!H74 -> 0 | I13: ='[1]Podklady RZ'!I74 -> 0 | ... O13: ='[1]Podklady RZ'!O74 -> 0 | P13: =SUM(B13:O13) -> 0
A14: Waste heat | B14: ='[1]Podklady RZ'!B75 -> 0 | C14: ='[1]Podklady RZ'!C75 -> 0 | D14: ='[1]Podklady RZ'!D75 -> 81.457923 | E14: ='[1]Podklady RZ'!E75 -> 9.1568 | F14: ='[1]Podklady RZ'!F75 -> 28.808 | G14: ='[1]Podklady RZ'!G75 -> 0 | H14: ='[1]Podklady RZ'!H75 -> 10.74153 | I14: ='[1]Podklady RZ'!I75 -> 1669.7017 | ... O14: ='[1]Podklady RZ'!O75 -> 305.647 | P14: =SUM(B14:O14) -> 6918.4667
A15: Other liquid fuels | B15: ='[1]Podklady RZ'!B76 -> 0 | C15: ='[1]Podklady RZ'!C76 -> 0 | D15: ='[1]Podklady RZ'!D76 -> 0 | E15: ='[1]Podklady RZ'!E76 -> 0 | F15: ='[1]Podklady RZ'!F76 -> 0 | G15: ='[1]Podklady RZ'!G76 -> 0 | H15: ='[1]Podklady RZ'!H76 -> 0 | I15: ='[1]Podklady RZ'!I76 -> 0 | ... O15: ='[1]Podklady RZ'!O76 -> 91.629 | P15: =SUM(B15:O15) -> 111.24891
A16: Other solid fuels | B16: ='[1]Podklady RZ'!B77 -> 1106.2128 | C16: ='[1]Podklady RZ'!C77 -> 9.782545 | D16: ='[1]Podklady RZ'!D77 -> 1797.921 | E16: ='[1]Podklady RZ'!E77 -> 0.013133 | F16: ='[1]Podklady RZ'!F77 -> 12.649195 | G16: ='[1]Podklady RZ'!G77 -> 3.40115 | H16: ='[1]Podklady RZ'!H77 -> 723.33541 | I16: ='[1]Podklady RZ'!I77 -> 152.98 | ... O16: ='[1]Podklady RZ'!O77 -> 84.5884 | P16: =SUM(B16:O16) -> 4800.8261
... A20: Natural gas | B20: ='[1]Podklady RZ'!B81 -> 3616.0803 | C20: ='[1]Podklady RZ'!C81 -> 784.20184 | D20: ='[1]Podklady RZ'!D81 -> 4180.9133 | E20: ='[1]Podklady RZ'!E81 -> 1236.4363 | F20: ='[1]Podklady RZ'!F81 -> 797.78245 | G20: ='[1]Podklady RZ'!G81 -> 1734.5734 | H20: ='[1]Podklady RZ'!H81 -> 1466.6171 | I20: ='[1]Podklady RZ'!I81 -> 3373.0599 | ... O20: ='[1]Podklady RZ'!O81 -> 1851.5349 | P20: =SUM(B20:O20) -> 30287.946

Sheet 5.1
A1: 5 HEAT SUPPLY | N1: ='3'!N1 -> 2022
A2: 5.1 Heat supply by fuel [TJ]
B4: First quarter | E4: Second quarter | H4: Third quarter | K4: Fourth quarter | N4: Total
B5: January | C5: February | D5: March | E5: April | F5: May | G5: June | H5: July | I5: August | J5: September | K5: October | L5: November | M5: December
A6: Heat supply | B6: =SUM(B7:D7) -> 30010.319 | E6: =SUM(E7:G7) -> 12492.291 | H6: =SUM(H7:J7) -> 8395.3319 | K6: =SUM(K7:M7) -> 26195.149 | N6: =SUM(B7:M7) -> 77093.091
B7: =SUM(B8:B23) -> 11343.689 | C7: =SUM(C8:C23) -> 10404.305 | D7: =SUM(D8:D23) -> 8262.3241 | E7: =SUM(E8:E23) -> 5385.6958 | F7: =SUM(F8:F23) -> 4431.3835 | G7: =SUM(G8:G23) -> 2675.2117 | H7: =SUM(H8:H23) -> 2529.183 | I7: =SUM(I8:I23) -> 2578.0161 | ... M7: =SUM(M8:M23) -> 10502.239
A8: Biomass | B8: ='[1]Podklady RZ'!B89 -> 1363.7117 | C8: ='[1]Podklady RZ'!C89 -> 1284.9581 | D8: ='[1]Podklady RZ'!D89 -> 1203.6147 | E8: ='[1]Podklady RZ'!E89 -> 783.8918 | F8: ='[1]Podklady RZ'!F89 -> 734.31773 | G8: ='[1]Podklady RZ'!G89 -> 485.6126 | H8: ='[1]Podklady RZ'!H89 -> 406.06166 | I8: ='[1]Podklady RZ'!I89 -> 381.53843 | ... M8: ='[1]Podklady RZ'!M89 -> 1377.3426 | N8: =SUM(B8:M8) -> 10705.834
A9: Biogas | B9: ='[1]Podklady RZ'!B90 -> 65.403719 | C9: ='[1]Podklady RZ'!C90 -> 57.42331 | D9: ='[1]Podklady RZ'!D90 -> 54.509626 | E9: ='[1]Podklady RZ'!E90 -> 42.920927 | F9: ='[1]Podklady RZ'!F90 -> 42.126554 | G9: ='[1]Podklady RZ'!G90 -> 27.285051 | H9: ='[1]Podklady RZ'!H90 -> 27.065645 | I9: ='[1]Podklady RZ'!I90 -> 27.461017 | ... M9: ='[1]Podklady RZ'!M90 -> 62.972554 | N9: =SUM(B9:M9) -> 538.08377
A10: Hard coal | B10: ='[1]Podklady RZ'!B91 -> 870.35347 | C10: ='[1]Podklady RZ'!C91 -> 810.05853 | D10: ='[1]Podklady RZ'!D91 -> 600.44884 | E10: ='[1]Podklady RZ'!E91 -> 337.64337 | F10: ='[1]Podklady RZ'!F91 -> 257.04708 | G10: ='[1]Podklady RZ'!G91 -> 101.68695 | H10: ='[1]Podklady RZ'!H91 -> 87.044272 | I10: ='[1]Podklady RZ'!I91 -> 139.6915 | ... M10: ='[1]Podklady RZ'!M91 -> 706.05445 | N10: =SUM(B10:M10) -> 5230.2623
A11: Electrical energy | B11: ='[1]Podklady RZ'!B92 -> 6.360715 | C11: ='[1]Podklady RZ'!C92 -> 4.708791 | D11: ='[1]Podklady RZ'!D92 -> 6.914003 | E11: ='[1]Podklady RZ'!E92 -> 6.760884 | F11: ='[1]Podklady RZ'!F92 -> 4.227638 | G11: ='[1]Podklady RZ'!G92 -> 5.440607 | H11: ='[1]Podklady RZ'!H92 -> 3.580248 | I11: ='[1]Podklady RZ'!I92 -> 4.655305 | ... M11: ='[1]Podklady RZ'!M92 -> 1.20855 | N11: =SUM(B11:M11) -> 52.897338
A12: Ambient energy (heat pump) | B12: ='[1]Podklady RZ'!B93 -> 9.5330251 | C12: ='[1]Podklady RZ'!C93 -> 9.3342341 | D12: ='[1]Podklady RZ'!D93 -> 8.0064011 | E12: ='[1]Podklady RZ'!E93 -> 7.0968054 | F12: ='[1]Podklady RZ'!F93 -> 6.7816648 | G12: ='[1]Podklady RZ'!G93 -> 6.2585455 | H12: ='[1]Podklady RZ'!H93 -> 6.0420483 | I12: ='[1]Podklady RZ'!I93 -> 5.6196771 | ... M12: ='[1]Podklady RZ'!M93 -> 8.6379511 | N12: =SUM(B12:M12) -> 88.124173
A13: Solar energy (solar panel) | B13: ='[1]Podklady RZ'!B94 -> 0.127393 | C13: ='[1]Podklady RZ'!C94 -> 0.091897 | D13: ='[1]Podklady RZ'!D94 -> 0.056683 | E13: ='[1]Podklady RZ'!E94 -> 0.268176 | F13: ='[1]Podklady RZ'!F94 -> 0.081819 | G13: ='[1]Podklady RZ'!G94 -> 0.103688 | H13: ='[1]Podklady RZ'!H94 -> 0.080396 | I13: ='[1]Podklady RZ'!I94 -> 0.083159 | ... M13: ='[1]Podklady RZ'!M94 -> 0.009115 | N13: =SUM(B13:M13) -> 1.013976
A14: Brown coal | B14: ='[1]Podklady RZ'!B95 -> 4955.4071 | C14: ='[1]Podklady RZ'!C95 -> 4489.5338 | D14: ='[1]Podklady RZ'!D95 -> 3455.9127 | E14: ='[1]Podklady RZ'!E95 -> 2272.0009 | F14: ='[1]Podklady RZ'!F95 -> 1692.8292 | G14: ='[1]Podklady RZ'!G95 -> 800.11365 | H14: ='[1]Podklady RZ'!H95 -> 750.97698 | I14: ='[1]Podklady RZ'!I95 -> 789.16678 | ... M14: ='[1]Podklady RZ'!M95 -> 4506.4847 | N14: =SUM(B14:M14) -> 31364.734
A15: Nuclear fuel | B15: ='[1]Podklady RZ'!B96 -> 165.86682 | C15: ='[1]Podklady RZ'!C96 -> 151.68985 | D15: ='[1]Podklady RZ'!D96 -> 87.45108 | E15: ='[1]Podklady RZ'!E96 -> 66.52384 | F15: ='[1]Podklady RZ'!F96 -> 59.34796 | G15: ='[1]Podklady RZ'!G96 -> 33.01053 | H15: ='[1]Podklady RZ'!H96 -> 31.63292 | I15: ='[1]Podklady RZ'!I96 -> 17.29127 | ... M15: ='[1]Podklady RZ'!M96 -> 102.88159 | N15: =SUM(B15:M15) -> 968.59416
A16: Coke | B16: ='[1]Podklady RZ'!B97 -> 0 | C16: ='[1]Podklady RZ'!C97 -> 0 | D16: ='[1]Podklady RZ'!D97 -> 0 | E16: ='[1]Podklady RZ'!E97 -> 0 | F16: ='[1]Podklady RZ'!F97 -> 0 | G16: ='[1]Podklady RZ'!G97 -> 0 | H16: ='[1]Podklady RZ'!H97 -> 0 | I16: ='[1]Podklady RZ'!I97 -> 0 | ... M16: ='[1]Podklady RZ'!M97 -> 0 | N16: =SUM(B16:M16) -> 0
A17: Waste heat | B17: ='[1]Podklady RZ'!B98 -> 129.15386 | C17: ='[1]Podklady RZ'!C98 -> 135.4307 | D17: ='[1]Podklady RZ'!D98 -> 137.94096 | E17: ='[1]Podklady RZ'!E98 -> 103.97586 | F17: ='[1]Podklady RZ'!F98 -> 125.52646 | G17: ='[1]Podklady RZ'!G98 -> 127.20836 | H17: ='[1]Podklady RZ'!H98 -> 103.18008 | I17: ='[1]Podklady RZ'!I98 -> 91.426521 | ... M17: ='[1]Podklady RZ'!M98 -> 176.78682 | N17: =SUM(B17:M17) -> 1513.1571
A18: Other liquid fuels | B18: ='[1]Podklady RZ'!B99 -> 1.383619 | C18: ='[1]Podklady RZ'!C99 -> 1.779254 | D18: ='[1]Podklady RZ'!D99 -> 1.354318 | E18: ='[1]Podklady RZ'!E99 -> 0.616544 | F18: ='[1]Podklady RZ'!F99 -> 0.645886 | G18: ='[1]Podklady RZ'!G99 -> 0.251114 | H18: ='[1]Podklady RZ'!H99 -> 0.336222 | I18: ='[1]Podklady RZ'!I99 -> 0.369438 | ... M18: ='[1]Podklady RZ'!M99 -> 8.276522 | N18: =SUM(B18:M18) -> 25.973734
A19: Other solid fuels | B19: ='[1]Podklady RZ'!B100 -> 368.46905 | C19: ='[1]Podklady RZ'!C100 -> 330.72718 | D19: ='[1]Podklady RZ'!D100 -> 307.92089 | E19: ='[1]Podklady RZ'!E100 -> 310.97607 | F19: ='[1]Podklady RZ'!F100 -> 282.30615 | G19: ='[1]Podklady RZ'!G100 -> 200.38242 | H19: ='[1]Podklady RZ'!H100 -> 170.72439 | I19: ='[1]Podklady RZ'!I100 -> 193.40669 | ... M19: ='[1]Podklady RZ'!M100 -> 340.25682 | N19: =SUM(B19:M19) -> 3287.7583
... A23: Natural gas | B23: ='[1]Podklady RZ'!B104 -> 3173.3371 | C23: ='[1]Podklady RZ'!C104 -> 2894.6748 | D23: ='[1]Podklady RZ'!D104 -> 2190.8172 | E23: ='[1]Podklady RZ'!E104 -> 1286.1388 | F23: ='[1]Podklady RZ'!F104 -> 1044.7197 | G23: ='[1]Podklady RZ'!G104 -> 753.09379 | H23: ='[1]Podklady RZ'!H104 -> 823.85493 | I23: ='[1]Podklady RZ'!I104 -> 806.42146 | ... M23: ='[1]Podklady RZ'!M104 -> 2957.5504 | N23: =SUM(B23:M23) -> 21065.044
A26: Biomasa | B26: =SUM(INDEX(B8:M8,,MONTH('[1]Podklady RZ'!$O$1)):INDEX(B8:M8,,MONTH('[1]Podklady RZ'!$Q$1))) -> 10705.834
A27: Bioplyn | B27: =SUM(INDEX(B9:M9,,MONTH('[1]Podklady RZ'!$O$1)):INDEX(B9:M9,,MONTH('[1]Podklady RZ'!$Q$1))) -> 538.08377
A28: Černé uhlí | B28: =SUM(INDEX(B10:M10,,MONTH('[1]Podklady RZ'!$O$1)):INDEX(B10:M10,,MONTH('[1]Podklady RZ'!$Q$1))) -> 5230.2623
A29: Elektrická energie | B29: =SUM(INDEX(B11:M11,,MONTH('[1]Podklady RZ'!$O$1)):INDEX(B11:M11,,MONTH('[1]Podklady RZ'!$Q$1))) -> 52.897338
A30: Energie prostředí (tepelné čerpadlo) | B30: =SUM(INDEX(B12:M12,,MONTH('[1]Podklady RZ'!$O$1)):INDEX(B12:M12,,MONTH('[1]Podklady RZ'!$Q$1))) -> 88.124173
A31: Energie Slunce (solární kolektor) | B31: =SUM(INDEX(B13:M13,,MONTH('[1]Podklady RZ'!$O$1)):INDEX(B13:M13,,MONTH('[1]Podklady RZ'!$Q$1))) -> 1.013976
A32: Hnědé uhlí | B32: =SUM(INDEX(B14:M14,,MONTH('[1]Podklady RZ'!$O$1)):INDEX(B14:M14,,MONTH('[1]Podklady RZ'!$Q$1))) -> 31364.734
A33: Jaderné palivo | B33: =SUM(INDEX(B15:M15,,MONTH('[1]Podklady RZ'!$O$1)):INDEX(B15:M15,,MONTH('[1]Podklady RZ'!$Q$1))) -> 968.59416
A34: Koks | B34: =SUM(INDEX(B16:M16,,MONTH('[1]Podklady RZ'!$O$1)):INDEX(B16:M16,,MONTH('[1]Podklady RZ'!$Q$1))) -> 0
A35: Odpadní teplo | B35: =SUM(INDEX(B17:M17,,MONTH('[1]Podklady RZ'!$O$1)):INDEX(B17:M17,,MONTH('[1]Podklady RZ'!$Q$1))) -> 1513.1571
A36: Ostatní kapalná paliva | B36: =SUM(INDEX(B18:M18,,MONTH('[1]Podklady RZ'!$O$1)):INDEX(B18:M18,,MONTH('[1]Podklady RZ'!$Q$1))) -> 25.973734
A37: Ostatní pevná paliva | B37: =SUM(INDEX(B19:M19,,MONTH('[1]Podklady RZ'!$O$1)):INDEX(B19:M19,,MONTH('[1]Podklady RZ'!$Q$1))) -> 3287.7583
... A41: Zemní plyn | B41: =SUM(INDEX(B23:M23,,MONTH('[1]Podklady RZ'!$O$1)):INDEX(B23:M23,,MONTH('[1]Podklady RZ'!$Q$1))) -> 21065.044

Sheet 5.2
A1: 5.2 Heat supply in Czech Regions [TJ] | N1: ='3'!N1 -> 2022
B3: First quarter | E3: Second quarter | H3: Third quarter | K3: Fourth quarter | N3: Total
B4: January | C4: February | D4: March | E4: April | F4: May | G4: June | H4: July | I4: August | J4: September | K4: October | L4: November | M4: December
A5: Heat supply | B5: =SUM(B6:D6) -> 30010.319 | E5: =SUM(E6:G6) -> 12492.291 | H5: =SUM(H6:J6) -> 8395.3409 | K5: =SUM(K6:M6) -> 26195.149 | N5: =SUM(N7:N20) -> 77093.1
B6: =SUM(B7:B20) -> 11343.689 | C6: =SUM(C7:C20) -> 10404.305 | D6: =SUM(D7:D20) -> 8262.3241 | E6: =SUM(E7:E20) -> 5385.6958 | F6: =SUM(F7:F20) -> 4431.3835 | G6: =SUM(G7:G20) -> 2675.2117 | H6: =SUM(H7:H20) -> 2529.192 | I6: =SUM(I7:I20) -> 2578.0161 | ... M6: =SUM(M7:M20) -> 10502.239
A7: Prague | B7: ='[1]Podklady RZ'!B112 -> 526.42672 | C7: ='[1]Podklady RZ'!C112 -> 494.20352 | D7: ='[1]Podklady RZ'!D112 -> 390.97342 | E7: ='[1]Podklady RZ'!E112 -> 271.60922 | F7: ='[1]Podklady RZ'!F112 -> 207.38529 | G7: ='[1]Podklady RZ'!G112 -> 154.0092 | H7: ='[1]Podklady RZ'!H112 -> 161.02092 | I7: ='[1]Podklady RZ'!I112 -> 169.46294 | ... M7: ='[1]Podklady RZ'!M112 -> 518.56904 | N7: =SUM(B7:M7) -> 3789.7069
A8: Jihočeský Region | B8: ='[1]Podklady RZ'!B113 -> 642.0153 | C8: ='[1]Podklady RZ'!C113 -> 573.74972 | D8: ='[1]Podklady RZ'!D113 -> 457.58052 | E8: ='[1]Podklady RZ'!E113 -> 301.40174 | F8: ='[1]Podklady RZ'!F113 -> 235.57677 | G8: ='[1]Podklady RZ'!G113 -> 131.86365 | H8: ='[1]Podklady RZ'!H113 -> 126.08428 | I8: ='[1]Podklady RZ'!I113 -> 123.96739 | ... M8: ='[1]Podklady RZ'!M113 -> 586.30737 | N8: =SUM(B8:M8) -> 4226.2877
A9: Jihomoravský Region | B9: ='[1]Podklady RZ'!B114 -> 793.70024 | C9: ='[1]Podklady RZ'!C114 -> 701.97275 | D9: ='[1]Podklady RZ'!D114 -> 502.85702 | E9: ='[1]Podklady RZ'!E114 -> 335.89383 | F9: ='[1]Podklady RZ'!F114 -> 274.05056 | G9: ='[1]Podklady RZ'!G114 -> 174.64561 | H9: ='[1]Podklady RZ'!H114 -> 161.69757 | I9: ='[1]Podklady RZ'!I114 -> 165.74094 | ... M9: ='[1]Podklady RZ'!M114 -> 720.66871 | N9: =SUM(B9:M9) -> 5047.0758
A10: Karlovarský Region | B10: ='[1]Podklady RZ'!B115 -> 467.68341 | C10: ='[1]Podklady RZ'!C115 -> 432.157 | D10: ='[1]Podklady RZ'!D115 -> 350.15236 | E10: ='[1]Podklady RZ'!E115 -> 248.14667 | F10: ='[1]Podklady RZ'!F115 -> 199.92445 | G10: ='[1]Podklady RZ'!G115 -> 100.91122 | H10: ='[1]Podklady RZ'!H115 -> 101.83983 | I10: ='[1]Podklady RZ'!I115 -> 96.730957 | ... M10: ='[1]Podklady RZ'!M115 -> 435.04493 | N10: =SUM(B10:M10) -> 3260.2492
A11: Vysočina Region | B11: ='[1]Podklady RZ'!B116 -> 252.55243 | C11: ='[1]Podklady RZ'!C116 -> 225.4229 | D11: ='[1]Podklady RZ'!D116 -> 175.2888 | E11: ='[1]Podklady RZ'!E116 -> 115.58692 | F11: ='[1]Podklady RZ'!F116 -> 87.30693 | G11: ='[1]Podklady RZ'!G116 -> 43.525042 | H11: ='[1]Podklady RZ'!H116 -> 42.773473 | I11: ='[1]Podklady RZ'!I116 -> 42.87751 | ... M11: ='[1]Podklady RZ'!M116 -> 226.49223 | N11: =SUM(B11:M11) -> 1607.3658
A12: Královéhradecký Region | B12: ='[1]Podklady RZ'!B117 -> 387.37087 | C12: ='[1]Podklady RZ'!C117 -> 352.12165 | D12: ='[1]Podklady RZ'!D117 -> 294.40726 | E12: ='[1]Podklady RZ'!E117 -> 206.16687 | F12: ='[1]Podklady RZ'!F117 -> 181.03841 | G12: ='[1]Podklady RZ'!G117 -> 110.59151 | H12: ='[1]Podklady RZ'!H117 -> 89.130255 | I12: ='[1]Podklady RZ'!I117 -> 101.68974 | ... M12: ='[1]Podklady RZ'!M117 -> 337.66779 | N12: =SUM(B12:M12) -> 2741.306
A13: Liberecký Region | B13: ='[1]Podklady RZ'!B118 -> 285.88827 | C13: ='[1]Podklady RZ'!C118 -> 259.5313 | D13: ='[1]Podklady RZ'!D118 -> 203.36159 | E13: ='[1]Podklady RZ'!E118 -> 136.01511 | F13: ='[1]Podklady RZ'!F118 -> 108.01387 | G13: ='[1]Podklady RZ'!G118 -> 47.397124 | H13: ='[1]Podklady RZ'!H118 -> 45.368429 | I13: ='[1]Podklady RZ'!I118 -> 48.169672 | ... M13: ='[1]Podklady RZ'!M118 -> 254.04585 | N13: =SUM(B13:M13) -> 1833.9122
A14: Moravskoslezský Region | B14: ='[1]Podklady RZ'!B119 -> 1605.0513 | C14: ='[1]Podklady RZ'!C119 -> 1489.3657 | D14: ='[1]Podklady RZ'!D119 -> 1127.6537 | E14: ='[1]Podklady RZ'!E119 -> 716.18655 | F14: ='[1]Podklady RZ'!F119 -> 629.12455 | G14: ='[1]Podklady RZ'!G119 -> 312.9873 | H14: ='[1]Podklady RZ'!H119 -> 305.75703 | I14: ='[1]Podklady RZ'!I119 -> 312.08865 | ... M14: ='[1]Podklady RZ'!M119 -> 1521.1639 | N14: =SUM(B14:M14) -> 10679.197
A15: Olomoucký Region | B15: ='[1]Podklady RZ'!B120 -> 474.82686 | C15: ='[1]Podklady RZ'!C120 -> 426.1 | D15: ='[1]Podklady RZ'!D120 -> 325.25528 | E15: ='[1]Podklady RZ'!E120 -> 205.62472 | F15: ='[1]Podklady RZ'!F120 -> 171.54526 | G15: ='[1]Podklady RZ'!G120 -> 98.662651 | H15: ='[1]Podklady RZ'!H120 -> 102.20028 | I15: ='[1]Podklady RZ'!I120 -> 101.92857 | ... M15: ='[1]Podklady RZ'!M120 -> 431.25922 | N15: =SUM(B15:M15) -> 3100.453
A16: Pardubický Region | B16: ='[1]Podklady RZ'!B121 -> 626.41114 | C16: ='[1]Podklady RZ'!C121 -> 565.31727 | D16: ='[1]Podklady RZ'!D121 -> 421.1093 | E16: ='[1]Podklady RZ'!E121 -> 253.91788 | F16: ='[1]Podklady RZ'!F121 -> 198.22745 | G16: ='[1]Podklady RZ'!G121 -> 86.552706 | H16: ='[1]Podklady RZ'!H121 -> 77.995996 | I16: ='[1]Podklady RZ'!I121 -> 79.198507 | ... M16: ='[1]Podklady RZ'!M121 -> 584.60725 | N16: =SUM(B16:M16) -> 3871.9468
A17: Plzeňský Region | B17: ='[1]Podklady RZ'!B122 -> 619.12672 | C17: ='[1]Podklady RZ'!C122 -> 564.91614 | D17: ='[1]Podklady RZ'!D122 -> 435.75169 | E17: ='[1]Podklady RZ'!E122 -> 287.0064 | F17: ='[1]Podklady RZ'!F122 -> 204.55899 | G17: ='[1]Podklady RZ'!G122 -> 108.21251 | H17: ='[1]Podklady RZ'!H122 -> 106.02412 | I17: ='[1]Podklady RZ'!I122 -> 86.77486 | ... M17: ='[1]Podklady RZ'!M122 -> 571.39779 | N17: =SUM(B17:M17) -> 3955.0397
A18: Středočeský Region | B18: ='[1]Podklady RZ'!B123 -> 2649.4159 | C18: ='[1]Podklady RZ'!C123 -> 2447.7321 | D18: ='[1]Podklady RZ'!D123 -> 2024.1063 | E18: ='[1]Podklady RZ'!E123 -> 1202.3323 | F18: ='[1]Podklady RZ'!F123 -> 1012.2904 | G18: ='[1]Podklady RZ'!G123 -> 692.64515 | H18: ='[1]Podklady RZ'!H123 -> 579.87235 | I18: ='[1]Podklady RZ'!I123 -> 635.21835 | ... M18: ='[1]Podklady RZ'!M123 -> 2507.9323 | N18: =SUM(B18:M18) -> 18265.518
... A20: Zlínský Region | B20: ='[1]Podklady RZ'!B125 -> 455.1116 | C20: ='[1]Podklady RZ'!C125 -> 429.40012 | D20: ='[1]Podklady RZ'!D125 -> 331.54248 | E20: ='[1]Podklady RZ'!E125 -> 237.2393 | F20: ='[1]Podklady RZ'!F125 -> 198.70468 | G20: ='[1]Podklady RZ'!G125 -> 137.34144 | H20: ='[1]Podklady RZ'!H125 -> 145.12873 | I20: ='[1]Podklady RZ'!I125 -> 115.44217 | ... M20: ='[1]Podklady RZ'!M125 -> 401.7731 | N20: =SUM(B20:M20) -> 3248.3101
A22: Hlavní město Praha | B22: =SUM(INDEX(B7:M7,,MONTH('[1]Podklady RZ'!$O$1)):INDEX(B7:M7,,MONTH('[1]Podklady RZ'!$Q$1))) -> 3789.7069
A23: Jihočeský kraj | B23: =SUM(INDEX(B8:M8,,MONTH('[1]Podklady RZ'!$O$1)):INDEX(B8:M8,,MONTH('[1]Podklady RZ'!$Q$1))) -> 4226.2877
A24: Jihomoravský kraj | B24: =SUM(INDEX(B9:M9,,MONTH('[1]Podklady RZ'!$O$1)):INDEX(B9:M9,,MONTH('[1]Podklady RZ'!$Q$1))) -> 5047.0758
A25: Karlovarský kraj | B25: =SUM(INDEX(B10:M10,,MONTH('[1]Podklady RZ'!$O$1)):INDEX(B10:M10,,MONTH('[1]Podklady RZ'!$Q$1))) -> 3260.2492
A26: Kraj Vysočina | B26: =SUM(INDEX(B11:M11,,MONTH('[1]Podklady RZ'!$O$1)):INDEX(B11:M11,,MONTH('[1]Podklady RZ'!$Q$1))) -> 1607.3658
A27: Královéhradecký kraj | B27: =SUM(INDEX(B12:M12,,MONTH('[1]Podklady RZ'!$O$1)):INDEX(B12:M12,,MONTH('[1]Podklady RZ'!$Q$1))) -> 2741.306
A28: Liberecký kraj | B28: =SUM(INDEX(B13:M13,,MONTH('[1]Podklady RZ'!$O$1)):INDEX(B13:M13,,MONTH('[1]Podklady RZ'!$Q$1))) -> 1833.9122
A29: Moravskoslezský kraj | B29: =SUM(INDEX(B14:M14,,MONTH('[1]Podklady RZ'!$O$1)):INDEX(B14:M14,,MONTH('[1]Podklady RZ'!$Q$1))) -> 10679.197
A30: Olomoucký kraj | B30: =SUM(INDEX(B15:M15,,MONTH('[1]Podklady RZ'!$O$1)):INDEX(B15:M15,,MONTH('[1]Podklady RZ'!$Q$1))) -> 3100.453
A31: Pardubický kraj | B31: =SUM(INDEX(B16:M16,,MONTH('[1]Podklady RZ'!$O$1)):INDEX(B16:M16,,MONTH('[1]Podklady RZ'!$Q$1))) -> 3871.9468
A32: Plzeňský kraj | B32: =SUM(INDEX(B17:M17,,MONTH('[1]Podklady RZ'!$O$1)):INDEX(B17:M17,,MONTH('[1]Podklady RZ'!$Q$1))) -> 3955.0397
A33: Středočeský kraj | B33: =SUM(INDEX(B18:M18,,MONTH('[1]Podklady RZ'!$O$1)):INDEX(B18:M18,,MONTH('[1]Podklady RZ'!$Q$1))) -> 18265.518
... A35: Zlínský kraj | B35: =SUM(INDEX(B20:M20,,MONTH('[1]Podklady RZ'!$O$1)):INDEX(B20:M20,,MONTH('[1]Podklady RZ'!$Q$1))) -> 3248.3101

Sheet 5.3
A1: 5.3 Heat supply by fuel in Czech Regions [TJ] | P1: ='3'!N1 -> 2022
B3: PHA | C3: JHČ | D3: JHM | E3: KVK | F3: VYS | G3: HKK | H3: LBK | I3: MSK | J3: OLK | K3: PAK | L3: PLK | M3: STČ | N3: ULK | O3: ZLK | P3: Total
A4: Heat supply | B4: =SUM(B5:B20) -> 3789.7069 | C4: =SUM(C5:C20) -> 4226.2787 | D4: =SUM(D5:D20) -> 5047.0758 | E4: =SUM(E5:E20) -> 3260.2492 | F4: =SUM(F5:F20) -> 1607.3658 | G4: =SUM(G5:G20) -> 2741.306 | H4: =SUM(H5:H20) -> 1833.9122 | I4: =SUM(I5:I20) -> 10679.197 | ... P4: =SUM(P5:P20) -> 77093.091
A5: Biomass | B5: ='[1]Podklady RZ'!B131 -> 0 | C5: ='[1]Podklady RZ'!C131 -> 1750.5754 | D5: ='[1]Podklady RZ'!D131 -> 528.96412 | E5: ='[1]Podklady RZ'!E131 -> 402.4136 | F5: ='[1]Podklady RZ'!F131 -> 689.35164 | G5: ='[1]Podklady RZ'!G131 -> 819.86729 | H5: ='[1]Podklady RZ'!H131 -> 4.00384 | I5: ='[1]Podklady RZ'!I131 -> 873.87769 | ... O5: ='[1]Podklady RZ'!O131 -> 741.22177 | P5: =SUM(B5:O5) -> 10705.834
A6: Biogas | B6: ='[1]Podklady RZ'!B132 -> 71.02976 | C6: ='[1]Podklady RZ'!C132 -> 94.346277 | D6: ='[1]Podklady RZ'!D132 -> 64.935269 | E6: ='[1]Podklady RZ'!E132 -> 4.937 | F6: ='[1]Podklady RZ'!F132 -> 40.96044 | G6: ='[1]Podklady RZ'!G132 -> 32.771 | H6: ='[1]Podklady RZ'!H132 -> 8.27863 | I6: ='[1]Podklady RZ'!I132 -> 3.652273 | ... O6: ='[1]Podklady RZ'!O132 -> 7.8143 | P6: =SUM(B6:O6) -> 538.08377
A7: Hard coal | B7: ='[1]Podklady RZ'!B133 -> 0 | C7: ='[1]Podklady RZ'!C133 -> 18.496655 | D7: ='[1]Podklady RZ'!D133 -> 0.1433 | E7: ='[1]Podklady RZ'!E133 -> 0 | F7: ='[1]Podklady RZ'!F133 -> 0 | G7: ='[1]Podklady RZ'!G133 -> 0.19534 | H7: ='[1]Podklady RZ'!H133 -> 0 | I7: ='[1]Podklady RZ'!I133 -> 5087.1682 | ... O7: ='[1]Podklady RZ'!O133 -> 121.17229 | P7: =SUM(B7:O7) -> 5230.2623
A8: Electrical energy | B8: ='[1]Podklady RZ'!B134 -> 1.619 | C8: ='[1]Podklady RZ'!C134 -> 0.12404 | D8: ='[1]Podklady RZ'!D134 -> 5.886824 | E8: ='[1]Podklady RZ'!E134 -> 0 | F8: ='[1]Podklady RZ'!F134 -> 1.470966 | G8: ='[1]Podklady RZ'!G134 -> 1.7112 | H8: ='[1]Podklady RZ'!H134 -> 1.82157 | I8: ='[1]Podklady RZ'!I134 -> 0.231264 | ... O8: ='[1]Podklady RZ'!O134 -> 0 | P8: =SUM(B8:O8) -> 52.897338
A9: Ambient energy (heat pump) | B9: ='[1]Podklady RZ'!B135 -> 29.13715 | C9: ='[1]Podklady RZ'!C135 -> 0 | D9: ='[1]Podklady RZ'!D135 -> 0.245308 | E9: ='[1]Podklady RZ'!E135 -> 3.339634 | F9: ='[1]Podklady RZ'!F135 -> 3.30628 | G9: ='[1]Podklady RZ'!G135 -> 0 | H9: ='[1]Podklady RZ'!H135 -> 0.908 | I9: ='[1]Podklady RZ'!I135 -> 0 | ... O9: ='[1]Podklady RZ'!O135 -> 3.666301 | P9: =SUM(B9:O9) -> 88.124173
A10: Solar energy (solar panel) | B10: ='[1]Podklady RZ'!B136 -> 0 | C10: ='[1]Podklady RZ'!C136 -> 0 | D10: ='[1]Podklady RZ'!D136 -> 0.117429 | E10: ='[1]Podklady RZ'!E136 -> 0.478347 | F10: ='[1]Podklady RZ'!F136 -> 0.158 | G10: ='[1]Podklady RZ'!G136 -> 0.0112 | H10: ='[1]Podklady RZ'!H136 -> 0 | I10: ='[1]Podklady RZ'!I136 -> 0 | ... O10: ='[1]Podklady RZ'!O136 -> 0 | P10: =SUM(B10:O10) -> 1.013976
A11: Brown coal | B11: ='[1]Podklady RZ'!B137 -> 0 | C11: ='[1]Podklady RZ'!C137 -> 848.58661 | D11: ='[1]Podklady RZ'!D137 -> 16.229371 | E11: ='[1]Podklady RZ'!E137 -> 2130.9803 | F11: ='[1]Podklady RZ'!F137 -> 180.95243 | G11: ='[1]Podklady RZ'!G137 -> 907.63295 | H11: ='[1]Podklady RZ'!H137 -> 63.414596 | I11: ='[1]Podklady RZ'!I137 -> 202.41467 | ... O11: ='[1]Podklady RZ'!O137 -> 1077.0313 | P11: =SUM(B11:O11) -> 31364.734
A12: Nuclear fuel | B12: ='[1]Podklady RZ'!B138 -> 0 | C12: ='[1]Podklady RZ'!C138 -> 929.55046 | D12: ='[1]Podklady RZ'!D138 -> 0 | E12: ='[1]Podklady RZ'!E138 -> 0 | F12: ='[1]Podklady RZ'!F138 -> 39.0437 | G12: ='[1]Podklady RZ'!G138 -> 0 | H12: ='[1]Podklady RZ'!H138 -> 0 | I12: ='[1]Podklady RZ'!I138 -> 0 | ... O12: ='[1]Podklady RZ'!O138 -> 0 | P12: =SUM(B12:O12) -> 968.59416
A13: Coke | B13: ='[1]Podklady RZ'!B139 -> 0 | C13: ='[1]Podklady RZ'!C139 -> 0 | D13: ='[1]Podklady RZ'!D139 -> 0 | E13: ='[1]Podklady RZ'!E139 -> 0 | F13: ='[1]Podklady RZ'!F139 -> 0 | G13: ='[1]Podklady RZ'!G139 -> 0 | H13: ='[1]Podklady RZ'!H139 -> 0 | I13: ='[1]Podklady RZ'!I139 -> 0 | ... O13: ='[1]Podklady RZ'!O139 -> 0 | P13: =SUM(B13:O13) -> 0
A14: Waste heat | B14: ='[1]Podklady RZ'!B140 -> 0 | C14: ='[1]Podklady RZ'!C140 -> 0 | D14: ='[1]Podklady RZ'!D140 -> 65.019661 | E14: ='[1]Podklady RZ'!E140 -> 0.070849 | F14: ='[1]Podklady RZ'!F140 -> 17.863561 | G14: ='[1]Podklady RZ'!G140 -> 0 | H14: ='[1]Podklady RZ'!H140 -> 2.912 | I14: ='[1]Podklady RZ'!I140 -> 587.97254 | ... O14: ='[1]Podklady RZ'!O140 -> 17.474 | P14: =SUM(B14:O14) -> 1513.1571
A15: Other liquid fuels | B15: ='[1]Podklady RZ'!B141 -> 0 | C15: ='[1]Podklady RZ'!C141 -> 0 | D15: ='[1]Podklady RZ'!D141 -> 0 | E15: ='[1]Podklady RZ'!E141 -> 0 | F15: ='[1]Podklady RZ'!F141 -> 0 | G15: ='[1]Podklady RZ'!G141 -> 0 | H15: ='[1]Podklady RZ'!H141 -> 0 | I15: ='[1]Podklady RZ'!I141 -> 0 | ... O15: ='[1]Podklady RZ'!O141 -> 13.302 | P15: =SUM(B15:O15) -> 25.973734
A16: Other solid fuels | B16: ='[1]Podklady RZ'!B142 -> 856.254 | C16: ='[1]Podklady RZ'!C142 -> 9.017783 | D16: ='[1]Podklady RZ'!D142 -> 1127.1747 | E16: ='[1]Podklady RZ'!E142 -> 0.011723 | F16: ='[1]Podklady RZ'!F142 -> 7.781226 | G16: ='[1]Podklady RZ'!G142 -> 3.29137 | H16: ='[1]Podklady RZ'!H142 -> 437.786 | I16: ='[1]Podklady RZ'!I142 -> 27.534 | ... O16: ='[1]Podklady RZ'!O142 -> 28.8354 | P16: =SUM(B16:O16) -> 3287.7583
... A20: Natural gas | B20: ='[1]Podklady RZ'!B146 -> 2831.628 | C20: ='[1]Podklady RZ'!C146 -> 553.50179 | D20: ='[1]Podklady RZ'!D146 -> 3235.0944 | E20: ='[1]Podklady RZ'!E146 -> 717.96205 | F20: ='[1]Podklady RZ'!F146 -> 626.32551 | G20: ='[1]Podklady RZ'!G146 -> 971.85385 | H20: ='[1]Podklady RZ'!H146 -> 1312.5796 | I20: ='[1]Podklady RZ'!I146 -> 2417.0716 | ... O20: ='[1]Podklady RZ'!O146 -> 1100.1221 | P20: =SUM(B20:O20) -> 21065.044

Sheet 5.4
A1: 5.4 Supply of heat from coal, biomass and biogas [TJ] | N1: ='3'!N1 -> 2022
B3: First quarter | E3: Second quarter | H3: Third quarter | K3: Fourth quarter | N3: Total
B4: January | C4: February | D4: March | E4: April | F4: May | G4: June | H4: July | I4: August | J4: September | K4: October | L4: November | M4: December
A5: Supply of heat from coal | B5: =SUM(B6:B13) -> 5825.7606 | C5: =SUM(C6:C13) -> 5299.5923 | D5: =SUM(D6:D13) -> 4056.3616 | E5: =SUM(E6:E13) -> 2609.6443 | F5: =SUM(F6:F13) -> 1949.8763 | G5: =SUM(G6:G13) -> 901.8006 | H5: =SUM(H6:H13) -> 838.02125 | I5: =SUM(I6:I13) -> 928.85827 | ... N5: =SUM(N6:N13) -> 36594.996
A6: Sized hard coal | B6: ='[1]Podklady RZ'!B153 -> 66.77232 | C6: ='[1]Podklady RZ'!C153 -> 49.0984 | D6: ='[1]Podklady RZ'!D153 -> 33.60309 | E6: ='[1]Podklady RZ'!E153 -> 21.16725 | F6: ='[1]Podklady RZ'!F153 -> 8.51329 | G6: ='[1]Podklady RZ'!G153 -> 0.02752 | H6: ='[1]Podklady RZ'!H153 -> 2.24847 | I6: ='[1]Podklady RZ'!I153 -> 4.5308 | ... M6: ='[1]Podklady RZ'!M153 -> 26.07886 | N6: =SUM(B6:M6) -> 295.27958
A7: Industrial hard coal | B7: ='[1]Podklady RZ'!B154 -> 803.58115 | C7: ='[1]Podklady RZ'!C154 -> 760.96013 | D7: ='[1]Podklady RZ'!D154 -> 566.84575 | E7: ='[1]Podklady RZ'!E154 -> 316.47612 | F7: ='[1]Podklady RZ'!F154 -> 248.53379 | G7: ='[1]Podklady RZ'!G154 -> 101.65943 | H7: ='[1]Podklady RZ'!H154 -> 84.795802 | I7: ='[1]Podklady RZ'!I154 -> 135.1607 | ... M7: ='[1]Podklady RZ'!M154 -> 679.97559 | N7: =SUM(B7:M7) -> 4934.9827
A8: Hard coal sludge and granulated | B8: ='[1]Podklady RZ'!B155 -> 0 | C8: ='[1]Podklady RZ'!C155 -> 0 | D8: ='[1]Podklady RZ'!D155 -> 0 | E8: ='[1]Podklady RZ'!E155 -> 0 | F8: ='[1]Podklady RZ'!F155 -> 0 | G8: ='[1]Podklady RZ'!G155 -> 0 | H8: ='[1]Podklady RZ'!H155 -> 0 | I8: ='[1]Podklady RZ'!I155 -> 0 | ... M8: ='[1]Podklady RZ'!M155 -> 0 | N8: =SUM(B8:M8) -> 0
A9: Sized brown coal | B9: ='[1]Podklady RZ'!B156 -> 377.50076 | C9: ='[1]Podklady RZ'!C156 -> 365.04138 | D9: ='[1]Podklady RZ'!D156 -> 285.9393 | E9: ='[1]Podklady RZ'!E156 -> 171.91882 | F9: ='[1]Podklady RZ'!F156 -> 127.60845 | G9: ='[1]Podklady RZ'!G156 -> 37.257022 | H9: ='[1]Podklady RZ'!H156 -> 47.676761 | I9: ='[1]Podklady RZ'!I156 -> 74.423388 | ... M9: ='[1]Podklady RZ'!M156 -> 491.5321 | N9: =SUM(B9:M9) -> 2710.8955
A10: Industrial brown coal | B10: ='[1]Podklady RZ'!B157 -> 4577.6604 | C10: ='[1]Podklady RZ'!C157 -> 4124.2814 | D10: ='[1]Podklady RZ'!D157 -> 3169.8894 | E10: ='[1]Podklady RZ'!E157 -> 2100.0821 | F10: ='[1]Podklady RZ'!F157 -> 1565.2207 | G10: ='[1]Podklady RZ'!G157 -> 762.85663 | H10: ='[1]Podklady RZ'!H157 -> 703.30022 | I10: ='[1]Podklady RZ'!I157 -> 714.74339 | ... M10: ='[1]Podklady RZ'!M157 -> 4014.7226 | N10: =SUM(B10:M10) -> 28652.865
A11: Brown coal - briquettes | B11: ='[1]Podklady RZ'!B158 -> 0.246 | C11: ='[1]Podklady RZ'!C158 -> 0.211 | D11: ='[1]Podklady RZ'!D158 -> 0.084 | E11: ='[1]Podklady RZ'!E158 -> 0 | F11: ='[1]Podklady RZ'!F158 -> 0 | G11: ='[1]Podklady RZ'!G158 -> 0 | H11: ='[1]Podklady RZ'!H158 -> 0 | I11: ='[1]Podklady RZ'!I158 -> 0 | ... M11: ='[1]Podklady RZ'!M158 -> 0.23 | N11: =SUM(B11:M11) -> 0.973
A12: Brown coal - lignite | B12: ='[1]Podklady RZ'!B159 -> 0 | C12: ='[1]Podklady RZ'!C159 -> 0 | D12: ='[1]Podklady RZ'!D159 -> 0 | E12: ='[1]Podklady RZ'!E159 -> 0 | F12: ='[1]Podklady RZ'!F159 -> 0 | G12: ='[1]Podklady RZ'!G159 -> 0 | H12: ='[1]Podklady RZ'!H159 -> 0 | I12: ='[1]Podklady RZ'!I159 -> 0 | ... M12: ='[1]Podklady RZ'!M159 -> 0 | N12: =SUM(B12:M12) -> 0
A13: Brown coal - coal mud sludge | B13: ='[1]Podklady RZ'!B160 -> 0 | C13: ='[1]Podklady RZ'!C160 -> 0 | D13: ='[1]Podklady RZ'!D160 -> 0 | E13: ='[1]Podklady RZ'!E160 -> 0 | F13: ='[1]Podklady RZ'!F160 -> 0 | G13: ='[1]Podklady RZ'!G160 -> 0 | H13: ='[1]Podklady RZ'!H160 -> 0 | I13: ='[1]Podklady RZ'!I160 -> 0 | ... M13: ='[1]Podklady RZ'!M160 -> 0 | N13: =SUM(B13:M13) -> 0
A14: Supply of heat from biomass | B14: =SUM(B15:B21) -> 1363.7117 | C14: =SUM(C15:C21) -> 1284.9581 | D14: =SUM(D15:D21) -> 1203.6147 | E14: =SUM(E15:E21) -> 783.89179 | F14: =SUM(F15:F21) -> 734.31773 | G14: =SUM(G15:G21) -> 485.6126 | H14: =SUM(H15:H21) -> 406.06166 | I14: =SUM(I15:I21) -> 381.53843 | ... N14: =SUM(N15:N21) -> 10705.834
A15: Briquettes and pellets | B15: ='[1]Podklady RZ'!B162 -> 97.235361 | C15: ='[1]Podklady RZ'!C162 -> 85.826956 | D15: ='[1]Podklady RZ'!D162 -> 71.124716 | E15: ='[1]Podklady RZ'!E162 -> 41.215804 | F15: ='[1]Podklady RZ'!F162 -> 34.626739 | G15: ='[1]Podklady RZ'!G162 -> 15.678234 | H15: ='[1]Podklady RZ'!H162 -> 6.297971 | I15: ='[1]Podklady RZ'!I162 -> 15.388436 | ... M15: ='[1]Podklady RZ'!M162 -> 62.368579 | N15: =SUM(B15:M15) -> 565.65017
A16: Black liquor | B16: ='[1]Podklady RZ'!B163 -> 79.404 | C16: ='[1]Podklady RZ'!C163 -> 86.42035 | D16: ='[1]Podklady RZ'!D163 -> 90.75571 | E16: ='[1]Podklady RZ'!E163 -> 76.95731 | F16: ='[1]Podklady RZ'!F163 -> 75.62671 | G16: ='[1]Podklady RZ'!G163 -> 74.69286 | H16: ='[1]Podklady RZ'!H163 -> 72.58442 | I16: ='[1]Podklady RZ'!I163 -> 73.08515 | ... M16: ='[1]Podklady RZ'!M163 -> 72.44701 | N16: =SUM(B16:M16) -> 900.55378
A17: Liquid biofuels | B17: ='[1]Podklady RZ'!B164 -> 0 | C17: ='[1]Podklady RZ'!C164 -> 0 | D17: ='[1]Podklady RZ'!D164 -> 0 | E17: ='[1]Podklady RZ'!E164 -> 0 | F17: ='[1]Podklady RZ'!F164 -> 0 | G17: ='[1]Podklady RZ'!G164 -> 0 | H17: ='[1]Podklady RZ'!H164 -> 0 | I17: ='[1]Podklady RZ'!I164 -> 0 | ... M17: ='[1]Podklady RZ'!M164 -> 0 | N17: =SUM(B17:M17) -> 0
A18: Other biomass | B18: ='[1]Podklady RZ'!B165 -> 0 | C18: ='[1]Podklady RZ'!C165 -> 0 | D18: ='[1]Podklady RZ'!D165 -> 0 | E18: ='[1]Podklady RZ'!E165 -> 0 | F18: ='[1]Podklady RZ'!F165 -> 0 | G18: ='[1]Podklady RZ'!G165 -> 0 | H18: ='[1]Podklady RZ'!H165 -> 0 | I18: ='[1]Podklady RZ'!I165 -> 0 | ... M18: ='[1]Podklady RZ'!M165 -> 0 | N18: =SUM(B18:M18) -> 0
A19: Fuel wood | B19: ='[1]Podklady RZ'!B166 -> 0.036 | C19: ='[1]Podklady RZ'!C166 -> 0.06 | D19: ='[1]Podklady RZ'!D166 -> 0.08 | E19: ='[1]Podklady RZ'!E166 -> 0 | F19: ='[1]Podklady RZ'!F166 -> 0 | G19: ='[1]Podklady RZ'!G166 -> 0 | H19: ='[1]Podklady RZ'!H166 -> 0 | I19: ='[1]Podklady RZ'!I166 -> 0 | ... M19: ='[1]Podklady RZ'!M166 -> 0 | N19: =SUM(B19:M19) -> 0.176
A20: Saw dust, bark, chips, wood waste | B20: ='[1]Podklady RZ'!B167 -> 1124.2946 | C20: ='[1]Podklady RZ'!C167 -> 1060.7237 | D20: ='[1]Podklady RZ'!D167 -> 1006.4501 | E20: ='[1]Podklady RZ'!E167 -> 641.23383 | F20: ='[1]Podklady RZ'!F167 -> 602.82757 | G20: ='[1]Podklady RZ'!G167 -> 387.24664 | H20: ='[1]Podklady RZ'!H167 -> 315.64609 | I20: ='[1]Podklady RZ'!I167 -> 280.57195 | ... M20: ='[1]Podklady RZ'!M167 -> 1189.5301 | N20: =SUM(B20:M20) -> 8868.2406
A21: Straw and other vegetable materials | B21: ='[1]Podklady RZ'!B168 -> 62.741687 | C21: ='[1]Podklady RZ'!C168 -> 51.92708 | D21: ='[1]Podklady RZ'!D168 -> 35.204209 | E21: ='[1]Podklady RZ'!E168 -> 24.484849 | F21: ='[1]Podklady RZ'!F168 -> 21.236714 | G21: ='[1]Podklady RZ'!G168 -> 7.99487 | H21: ='[1]Podklady RZ'!H168 -> 11.533175 | I21: ='[1]Podklady RZ'!I168 -> 12.492891 | ... M21: ='[1]Podklady RZ'!M168 -> 52.99692 | N21: =SUM(B21:M21) -> 371.21378
A22: Supply of heat from biogas | B22: =SUM(B23:B25) -> 65.403719 | C22: =SUM(C23:C25) -> 57.42331 | D22: =SUM(D23:D25) -> 54.509626 | E22: =SUM(E23:E25) -> 42.920927 | F22: =SUM(F23:F25) -> 42.126554 | G22: =SUM(G23:G25) -> 27.285051 | H22: =SUM(H23:H25) -> 27.065645 | I22: =SUM(I23:I25) -> 27.461017 | ... N22: =SUM(N23:N25) -> 538.08377
A23: Landfill gas | B23: ='[1]Podklady RZ'!B170 -> 6.868 | C23: ='[1]Podklady RZ'!C170 -> 5.510608 | D23: ='[1]Podklady RZ'!D170 -> 7.88 | E23: ='[1]Podklady RZ'!E170 -> 6.87159 | F23: ='[1]Podklady RZ'!F170 -> 7.040776 | G23: ='[1]Podklady RZ'!G170 -> 4.948162 | H23: ='[1]Podklady RZ'!H170 -> 4.624502 | I23: ='[1]Podklady RZ'!I170 -> 4.56197 | ... M23: ='[1]Podklady RZ'!M170 -> 7.069412 | N23: =SUM(B23:M23) -> 72.32476
A24: Wastewater sludge gas (WWTP) | B24: ='[1]Podklady RZ'!B171 -> 0.952659 | C24: ='[1]Podklady RZ'!C171 -> 1.041791 | D24: ='[1]Podklady RZ'!D171 -> 1.147817 | E24: ='[1]Podklady RZ'!E171 -> 0.965247 | F24: ='[1]Podklady RZ'!F171 -> 1.102992 | G24: ='[1]Podklady RZ'!G171 -> 1.168775 | H24: ='[1]Podklady RZ'!H171 -> 1.025345 | I24: ='[1]Podklady RZ'!I171 -> 0.939135 | ... M24: ='[1]Podklady RZ'!M171 -> 0.837205 | N24: =SUM(B24:M24) -> 11.687673
A25: Other biogas | B25: ='[1]Podklady RZ'!B172 -> 57.58306 | C25: ='[1]Podklady RZ'!C172 -> 50.870911 | D25: ='[1]Podklady RZ'!D172 -> 45.481809 | E25: ='[1]Podklady RZ'!E172 -> 35.08409 | F25: ='[1]Podklady RZ'!F172 -> 33.982786 | G25: ='[1]Podklady RZ'!G172 -> 21.168114 | H25: ='[1]Podklady RZ'!H172 -> 21.415798 | I25: ='[1]Podklady RZ'!I172 -> 21.959912 | ... M25: ='[1]Podklady RZ'!M172 -> 55.065937 | N25: =SUM(B25:M25) -> 454.07134

Sheet 6
A1: 6 INSTALLED CAPACITY OF HEAT GENERATING PLANTS IN CZECH REGIONS [MWt] | M1: ='3'!N1 -> 2022
B3: First quarter | E3: Second quarter | H3: Third quarter | K3: Fourth quarter
B4: January | C4: February | D4: March | E4: April | F4: May | G4: June | H4: July | I4: August | J4: September | K4: October | L4: November | M4: December
A5: Installed capacity in the CR | B5: =D6 -> 38550.565 | E5: =G6 -> 38534.09 | H5: =J6 -> 38535.978 | K5: =M6 -> 38567.666
B6: =SUM(B7:B20) -> 39454.081 | C6: =SUM(C7:C20) -> 39431.485 | D6: =SUM(D7:D20) -> 38550.565 | E6: =SUM(E7:E20) -> 38672.497 | F6: =SUM(F7:F20) -> 38586.121 | G6: =SUM(G7:G20) -> 38534.09 | H6: =SUM(H7:H20) -> 38523.727 | I6: =SUM(I7:I20) -> 38525.384 | ... M6: =SUM(M7:M20) -> 38567.666
A7: Prague (PHA) | B7: ='[1]Podklady RZ'!B180 -> 1580.0216 | C7: ='[1]Podklady RZ'!C180 -> 1580.0216 | D7: ='[1]Podklady RZ'!D180 -> 1580.0176 | E7: ='[1]Podklady RZ'!E180 -> 1568.0216 | F7: ='[1]Podklady RZ'!F180 -> 1567.9126 | G7: ='[1]Podklady RZ'!G180 -> 1567.9126 | H7: ='[1]Podklady RZ'!H180 -> 1568.4226 | I7: ='[1]Podklady RZ'!I180 -> 1569.7226 | ... M7: ='[1]Podklady RZ'!M180 -> 1584.2246
A8: Jihočeský Region (JHČ) | B8: ='[1]Podklady RZ'!B181 -> 2169.285 | C8: ='[1]Podklady RZ'!C181 -> 2167.345 | D8: ='[1]Podklady RZ'!D181 -> 2167.345 | E8: ='[1]Podklady RZ'!E181 -> 2170.005 | F8: ='[1]Podklady RZ'!F181 -> 2170.005 | G8: ='[1]Podklady RZ'!G181 -> 2171.185 | H8: ='[1]Podklady RZ'!H181 -> 2170.32 | I8: ='[1]Podklady RZ'!I181 -> 2170.32 | ... M8: ='[1]Podklady RZ'!M181 -> 2165.314
A9: Jihomoravský Region (JHM) | B9: ='[1]Podklady RZ'!B182 -> 1601.5843 | C9: ='[1]Podklady RZ'!C182 -> 1601.5643 | D9: ='[1]Podklady RZ'!D182 -> 1601.8613 | E9: ='[1]Podklady RZ'!E182 -> 1601.8613 | F9: ='[1]Podklady RZ'!F182 -> 1601.8617 | G9: ='[1]Podklady RZ'!G182 -> 1555.2897 | H9: ='[1]Podklady RZ'!H182 -> 1553.1873 | I9: ='[1]Podklady RZ'!I182 -> 1553.1873 | ... M9: ='[1]Podklady RZ'!M182 -> 1554.7843
A10: Karlovarský Region (KVK) | B10: ='[1]Podklady RZ'!B183 -> 2805.473 | C10: ='[1]Podklady RZ'!C183 -> 2805.544 | D10: ='[1]Podklady RZ'!D183 -> 2805.544 | E10: ='[1]Podklady RZ'!E183 -> 2805.548 | F10: ='[1]Podklady RZ'!F183 -> 2805.548 | G10: ='[1]Podklady RZ'!G183 -> 2805.548 | H10: ='[1]Podklady RZ'!H183 -> 2805.548 | I10: ='[1]Podklady RZ'!I183 -> 2805.548 | ... M10: ='[1]Podklady RZ'!M183 -> 2802.035
A11: Vysočina Region (VYS) | B11: ='[1]Podklady RZ'!B184 -> 633.8474 | C11: ='[1]Podklady RZ'!C184 -> 632.3864 | D11: ='[1]Podklady RZ'!D184 -> 633.6444 | E11: ='[1]Podklady RZ'!E184 -> 636.8304 | F11: ='[1]Podklady RZ'!F184 -> 636.3555 | G11: ='[1]Podklady RZ'!G184 -> 637.5344 | H11: ='[1]Podklady RZ'!H184 -> 637.5554 | I11: ='[1]Podklady RZ'!I184 -> 637.5554 | ... M11: ='[1]Podklady RZ'!M184 -> 642.566
A12: Královéhradecký Region (HKK) | B12: ='[1]Podklady RZ'!B185 -> 977.321 | C12: ='[1]Podklady RZ'!C185 -> 972.331 | D12: ='[1]Podklady RZ'!D185 -> 972.597 | E12: ='[1]Podklady RZ'!E185 -> 977.4471 | F12: ='[1]Podklady RZ'!F185 -> 977.4531 | G12: ='[1]Podklady RZ'!G185 -> 977.8131 | H12: ='[1]Podklady RZ'!H185 -> 977.1071 | I12: ='[1]Podklady RZ'!I185 -> 977.1071 | ... M12: ='[1]Podklady RZ'!M185 -> 979.3461
A13: Liberecký Region (LBK) | B13: ='[1]Podklady RZ'!B186 -> 458.1734 | C13: ='[1]Podklady RZ'!C186 -> 453.8734 | D13: ='[1]Podklady RZ'!D186 -> 453.8734 | E13: ='[1]Podklady RZ'!E186 -> 457.9804 | F13: ='[1]Podklady RZ'!F186 -> 457.9804 | G13: ='[1]Podklady RZ'!G186 -> 459.4074 | H13: ='[1]Podklady RZ'!H186 -> 461.4054 | I13: ='[1]Podklady RZ'!I186 -> 461.4054 | ... M13: ='[1]Podklady RZ'!M186 -> 464.6164
A14: Moravskoslezský Region (MSK) | B14: ='[1]Podklady RZ'!B187 -> 5969.8744 | C14: ='[1]Podklady RZ'!C187 -> 5964.0544 | D14: ='[1]Podklady RZ'!D187 -> 5088.9544 | E14: ='[1]Podklady RZ'!E187 -> 5095.6004 | F14: ='[1]Podklady RZ'!F187 -> 5095.6004 | G14: ='[1]Podklady RZ'!G187 -> 5052.3534 | H14: ='[1]Podklady RZ'!H187 -> 5038.9164 | I14: ='[1]Podklady RZ'!I187 -> 5038.6114 | ... M14: ='[1]Podklady RZ'!M187 -> 5083.9604
A15: Olomoucký Region (OLK) | B15: ='[1]Podklady RZ'!B188 -> 1257.9574 | C15: ='[1]Podklady RZ'!C188 -> 1262.0244 | D15: ='[1]Podklady RZ'!D188 -> 1253.8644 | E15: ='[1]Podklady RZ'!E188 -> 1257.5234 | F15: ='[1]Podklady RZ'!F188 -> 1257.5234 | G15: ='[1]Podklady RZ'!G188 -> 1257.5234 | H15: ='[1]Podklady RZ'!H188 -> 1257.5234 | I15: ='[1]Podklady RZ'!I188 -> 1257.5234 | ... M15: ='[1]Podklady RZ'!M188 -> 1229.4635
A16: Pardubický Region (PAK) | B16: ='[1]Podklady RZ'!B189 -> 3491.1653 | C16: ='[1]Podklady RZ'!C189 -> 3488.1853 | D16: ='[1]Podklady RZ'!D189 -> 3488.1853 | E16: ='[1]Podklady RZ'!E189 -> 3491.3113 | F16: ='[1]Podklady RZ'!F189 -> 3491.3103 | G16: ='[1]Podklady RZ'!G189 -> 3491.3113 | H16: ='[1]Podklady RZ'!H189 -> 3478.5853 | I16: ='[1]Podklady RZ'!I189 -> 3478.5853 | ... M16: ='[1]Podklady RZ'!M189 -> 3474.5873
A17: Plzeňský Region (PLK) | B17: ='[1]Podklady RZ'!B190 -> 1029.8964 | C17: ='[1]Podklady RZ'!C190 -> 1025.9964 | D17: ='[1]Podklady RZ'!D190 -> 1025.9964 | E17: ='[1]Podklady RZ'!E190 -> 1030.1964 | F17: ='[1]Podklady RZ'!F190 -> 1030.4404 | G17: ='[1]Podklady RZ'!G190 -> 1030.1104 | H17: ='[1]Podklady RZ'!H190 -> 1030.3744 | I17: ='[1]Podklady RZ'!I190 -> 1030.3744 | ... M17: ='[1]Podklady RZ'!M190 -> 1031.9614
A18: Středočeský Region (STČ) | B18: ='[1]Podklady RZ'!B191 -> 4585.0997 | C18: ='[1]Podklady RZ'!C191 -> 4584.8167 | D18: ='[1]Podklady RZ'!D191 -> 4585.3397 | E18: ='[1]Podklady RZ'!E191 -> 4685.2617 | F18: ='[1]Podklady RZ'!F191 -> 4599.2197 | G18: ='[1]Podklady RZ'!G191 -> 4597.3897 | H18: ='[1]Podklady RZ'!H191 -> 4613.3617 | I18: ='[1]Podklady RZ'!I191 -> 4613.9177 | ... M18: ='[1]Podklady RZ'!M191 -> 4624.1297
... A20: Zlínský Region (ZLK) | B20: ='[1]Podklady RZ'!B193 -> 1266.1176 | C20: ='[1]Podklady RZ'!C193 -> 1265.3576 | D20: ='[1]Podklady RZ'!D193 -> 1265.3576 | E20: ='[1]Podklady RZ'!E193 -> 1266.6456 | F20: ='[1]Podklady RZ'!F193 -> 1266.6456 | G20: ='[1]Podklady RZ'!G193 -> 1266.6456 | H20: ='[1]Podklady RZ'!H193 -> 1266.4811 | I20: ='[1]Podklady RZ'!I193 -> 1266.5871 | ... M20: ='[1]Podklady RZ'!M193 -> 1264.9751
A23: PHA | B23: =INDEX(B7:M7,,MONTH('[1]Podklady RZ'!$Q$1)) -> 1584.2246
A24: JHČ | B24: =INDEX(B8:M8,,MONTH('[1]Podklady RZ'!$Q$1)) -> 2165.314
A25: JHM | B25: =INDEX(B9:M9,,MONTH('[1]Podklady RZ'!$Q$1)) -> 1554.7843
A26: KVK | B26: =INDEX(B10:M10,,MONTH('[1]Podklady RZ'!$Q$1)) -> 2802.035
A27: VYS | B27: =INDEX(B11:M11,,MONTH('[1]Podklady RZ'!$Q$1)) -> 642.566
A28: HKK | B28: =INDEX(B12:M12,,MONTH('[1]Podklady RZ'!$Q$1)) -> 979.3461
A29: LBK | B29: =INDEX(B13:M13,,MONTH('[1]Podklady RZ'!$Q$1)) -> 464.6164
A30: MSK | B30: =INDEX(B14:M14,,MONTH('[1]Podklady RZ'!$Q$1)) -> 5083.9604
A31: OLK | B31: =INDEX(B15:M15,,MONTH('[1]Podklady RZ'!$Q$1)) -> 1229.4635
A32: PAK | B32: =INDEX(B16:M16,,MONTH('[1]Podklady RZ'!$Q$1)) -> 3474.5873
A33: PLK | B33: =INDEX(B17:M17,,MONTH('[1]Podklady RZ'!$Q$1)) -> 1031.9614
A34: STČ | B34: =INDEX(B18:M18,,MONTH('[1]Podklady RZ'!$Q$1)) -> 4624.1297
... A36: ZLK | B36: =INDEX(B20:M20,,MONTH('[1]Podklady RZ'!$Q$1)) -> 1264.9751

Sheet 7.1
A1: 7 HEAT CONSUMPTION | N1: ='3'!N1 -> 2022
A2: 7.1 Heat consumption by national economy sector [TJ]
B4: First quarter | E4: Second quarter | H4: Third quarter | K4: Fourth quarter | N4: Total
B5: January | C5: February | D5: March | E5: April | F5: May | G5: June | H5: July | I5: August | J5: September | K5: October | L5: November | M5: December
A6: Heat consumption by national economy sector * | B6: =SUM(B7:D7) -> 27201.933 | E6: =SUM(E7:G7) -> 10614.956 | H6: =SUM(H7:J7) -> 6811.876 | K6: =SUM(K7:M7) -> 23910.822 | N6: =SUM(B7:M7) -> 68539.588
B7: =SUM(B8:B15) -> 10311.983 | C7: =SUM(C8:C15) -> 9531.513 | D7: =SUM(D8:D15) -> 7358.4374 | E7: =SUM(E8:E15) -> 4732.355 | F7: =SUM(F8:F15) -> 3755.2456 | G7: =SUM(G8:G15) -> 2127.3556 | H7: =SUM(H8:H15) -> 2008.5638 | I7: =SUM(I8:I15) -> 2056.4785 | ... M7: =SUM(M8:M15) -> 9672.8672
A8: Industry | B8: ='[1]Podklady RZ'!B201 -> 1847.5311 | C8: ='[1]Podklady RZ'!C201 -> 1774.6661 | D8: ='[1]Podklady RZ'!D201 -> 1551.5584 | E8: ='[1]Podklady RZ'!E201 -> 1075.4858 | F8: ='[1]Podklady RZ'!F201 -> 925.87447 | G8: ='[1]Podklady RZ'!G201 -> 772.25091 | H8: ='[1]Podklady RZ'!H201 -> 743.70636 | I8: ='[1]Podklady RZ'!I201 -> 766.42499 | ... M8: ='[1]Podklady RZ'!M201 -> 1645.951 | N8: =SUM(B8:M8) -> 14734.753
A9: Energy | B9: ='[1]Podklady RZ'!B202 -> 207.87479 | C9: ='[1]Podklady RZ'!C202 -> 174.75499 | D9: ='[1]Podklady RZ'!D202 -> 175.47107 | E9: ='[1]Podklady RZ'!E202 -> 116.13586 | F9: ='[1]Podklady RZ'!F202 -> 96.005611 | G9: ='[1]Podklady RZ'!G202 -> 55.219598 | H9: ='[1]Podklady RZ'!H202 -> 53.691934 | I9: ='[1]Podklady RZ'!I202 -> 52.707827 | ... M9: ='[1]Podklady RZ'!M202 -> 214.98615 | N9: =SUM(B9:M9) -> 1513.6513
A10: Transport | B10: ='[1]Podklady RZ'!B203 -> 98.404754 | C10: ='[1]Podklady RZ'!C203 -> 94.896327 | D10: ='[1]Podklady RZ'!D203 -> 72.756496 | E10: ='[1]Podklady RZ'!E203 -> 47.163861 | F10: ='[1]Podklady RZ'!F203 -> 21.786028 | G10: ='[1]Podklady RZ'!G203 -> 9.924963 | H10: ='[1]Podklady RZ'!H203 -> 4.709324 | I10: ='[1]Podklady RZ'!I203 -> 4.2301 | ... M10: ='[1]Podklady RZ'!M203 -> 85.963425 | N10: =SUM(B10:M10) -> 555.63398
A11: Construction | B11: ='[1]Podklady RZ'!B204 -> 35.294074 | C11: ='[1]Podklady RZ'!C204 -> 31.589755 | D11: ='[1]Podklady RZ'!D204 -> 22.468673 | E11: ='[1]Podklady RZ'!E204 -> 12.670142 | F11: ='[1]Podklady RZ'!F204 -> 7.90207 | G11: ='[1]Podklady RZ'!G204 -> 3.624033 | H11: ='[1]Podklady RZ'!H204 -> 2.031411 | I11: ='[1]Podklady RZ'!I204 -> 2.151648 | ... M11: ='[1]Podklady RZ'!M204 -> 28.325007 | N11: =SUM(B11:M11) -> 187.0569
A12: Farming and forestry | B12: ='[1]Podklady RZ'!B205 -> 66.090717 | C12: ='[1]Podklady RZ'!C205 -> 69.256936 | D12: ='[1]Podklady RZ'!D205 -> 64.744808 | E12: ='[1]Podklady RZ'!E205 -> 48.11304 | F12: ='[1]Podklady RZ'!F205 -> 36.194407 | G12: ='[1]Podklady RZ'!G205 -> 22.953225 | H12: ='[1]Podklady RZ'!H205 -> 24.981024 | I12: ='[1]Podklady RZ'!I205 -> 22.505453 | ... M12: ='[1]Podklady RZ'!M205 -> 56.403911 | N12: =SUM(B12:M12) -> 553.87513
A13: Households | B13: ='[1]Podklady RZ'!B206 -> 5110.3904 | C13: ='[1]Podklady RZ'!C206 -> 4591.4891 | D13: ='[1]Podklady RZ'!D206 -> 3368.5967 | E13: ='[1]Podklady RZ'!E206 -> 2126.1952 | F13: ='[1]Podklady RZ'!F206 -> 1764.8129 | G13: ='[1]Podklady RZ'!G206 -> 831.62424 | H13: ='[1]Podklady RZ'!H206 -> 809.1827 | I13: ='[1]Podklady RZ'!I206 -> 847.13234 | ... M13: ='[1]Podklady RZ'!M206 -> 4944.8904 | N13: =SUM(B13:M13) -> 32885.366
A14: Retail, services, schools, health care | B14: ='[1]Podklady RZ'!B207 -> 2677.984 | C14: ='[1]Podklady RZ'!C207 -> 2556.4933 | D14: ='[1]Podklady RZ'!D207 -> 1927.6618 | E14: ='[1]Podklady RZ'!E207 -> 1202.7813 | F14: ='[1]Podklady RZ'!F207 -> 828.69758 | G14: ='[1]Podklady RZ'!G207 -> 394.84783 | H14: ='[1]Podklady RZ'!H207 -> 333.71463 | I14: ='[1]Podklady RZ'!I207 -> 332.31048 | ... M14: ='[1]Podklady RZ'!M207 -> 2473.1138 | N14: =SUM(B14:M14) -> 16571.825
A15: Other | B15: ='[1]Podklady RZ'!B208 -> 268.41331 | C15: ='[1]Podklady RZ'!C208 -> 238.3665 | D15: ='[1]Podklady RZ'!D208 -> 175.17947 | E15: ='[1]Podklady RZ'!E208 -> 103.80982 | F15: ='[1]Podklady RZ'!F208 -> 73.972516 | G15: ='[1]Podklady RZ'!G208 -> 36.910806 | H15: ='[1]Podklady RZ'!H208 -> 36.546454 | I15: ='[1]Podklady RZ'!I208 -> 29.015633 | ... M15: ='[1]Podklady RZ'!M208 -> 223.23352 | N15: =SUM(B15:M15) -> 1537.4255
A16: * Does not include unidentified heat distribution.

Sheet 7.2
A1: 7.2 Heat consumption by national economy sector in Czech Regions [TJ] | J1: ='3'!N1 -> 2022
B3: Industry | C3: Energy | D3: Transport | E3: Construction | F3: Farming and forestry | G3: Households | H3: Retail, services, schools, health care | I3: Other | J3: Total
A4: Total CR * | B4: =SUM(B5:B18) -> 14734.753 | C4: =SUM(C5:C18) -> 1513.6513 | D4: =SUM(D5:D18) -> 555.63398 | E4: =SUM(E5:E18) -> 187.0569 | F4: =SUM(F5:F18) -> 553.87513 | G4: =SUM(G5:G18) -> 32885.366 | H4: =SUM(H5:H18) -> 16571.825 | I4: =SUM(I5:I18) -> 1537.4255 | J4: =SUM(B4:I4) -> 68539.588
A5: Prague | B5: ='[1]Podklady RZ'!B215 -> 258.28845 | C5: ='[1]Podklady RZ'!C215 -> 222.85402 | D5: ='[1]Podklady RZ'!D215 -> 180.88903 | E5: ='[1]Podklady RZ'!E215 -> 28.403909 | F5: ='[1]Podklady RZ'!F215 -> 3.82999 | G5: ='[1]Podklady RZ'!G215 -> 6209.4143 | H5: ='[1]Podklady RZ'!H215 -> 3830.4497 | I5: ='[1]Podklady RZ'!I215 -> 91.221751 | J5: =SUM(B5:I5) -> 10825.351
A6: Jihočeský Region | B6: ='[1]Podklady RZ'!B216 -> 828.76237 | C6: ='[1]Podklady RZ'!C216 -> 30.438838 | D6: ='[1]Podklady RZ'!D216 -> 44.01386 | E6: ='[1]Podklady RZ'!E216 -> 4.775593 | F6: ='[1]Podklady RZ'!F216 -> 23.29347 | G6: ='[1]Podklady RZ'!G216 -> 2027.8328 | H6: ='[1]Podklady RZ'!H216 -> 1027.9114 | I6: ='[1]Podklady RZ'!I216 -> 98.374399 | J6: =SUM(B6:I6) -> 4085.4028
A7: Jihomoravský Region | B7: ='[1]Podklady RZ'!B217 -> 421.57818 | C7: ='[1]Podklady RZ'!C217 -> 5.38672 | D7: ='[1]Podklady RZ'!D217 -> 0.582 | E7: ='[1]Podklady RZ'!E217 -> 0.94437 | F7: ='[1]Podklady RZ'!F217 -> 38.578478 | G7: ='[1]Podklady RZ'!G217 -> 2539.956 | H7: ='[1]Podklady RZ'!H217 -> 708.36153 | I7: ='[1]Podklady RZ'!I217 -> 700.00223 | J7: =SUM(B7:I7) -> 4415.3895
A8: Karlovarský Region | B8: ='[1]Podklady RZ'!B218 -> 180.79695 | C8: ='[1]Podklady RZ'!C218 -> 102.61496 | D8: ='[1]Podklady RZ'!D218 -> 18.747741 | E8: ='[1]Podklady RZ'!E218 -> 16.412803 | F8: ='[1]Podklady RZ'!F218 -> 4.49523 | G8: ='[1]Podklady RZ'!G218 -> 1919.1654 | H8: ='[1]Podklady RZ'!H218 -> 703.74135 | I8: ='[1]Podklady RZ'!I218 -> 145.99839 | J8: =SUM(B8:I8) -> 3091.9728
A9: Vysočina Region | B9: ='[1]Podklady RZ'!B219 -> 145.26633 | C9: ='[1]Podklady RZ'!C219 -> 40.48614 | D9: ='[1]Podklady RZ'!D219 -> 2.74398 | E9: ='[1]Podklady RZ'!E219 -> 3.58332 | F9: ='[1]Podklady RZ'!F219 -> 60.401742 | G9: ='[1]Podklady RZ'!G219 -> 860.67676 | H9: ='[1]Podklady RZ'!H219 -> 330.86809 | I9: ='[1]Podklady RZ'!I219 -> 19.043636 | J9: =SUM(B9:I9) -> 1463.07
A10: Královéhradecký Region | B10: ='[1]Podklady RZ'!B220 -> 645.04412 | C10: ='[1]Podklady RZ'!C220 -> 8.7356 | D10: ='[1]Podklady RZ'!D220 -> 15.3645 | E10: ='[1]Podklady RZ'!E220 -> 6.806 | F10: ='[1]Podklady RZ'!F220 -> 1.287 | G10: ='[1]Podklady RZ'!G220 -> 1429.466 | H10: ='[1]Podklady RZ'!H220 -> 986.62829 | I10: ='[1]Podklady RZ'!I220 -> 46.093103 | J10: =SUM(B10:I10) -> 3139.4247
A11: Liberecký Region | B11: ='[1]Podklady RZ'!B221 -> 169.89894 | C11: ='[1]Podklady RZ'!C221 -> 2.679 | D11: ='[1]Podklady RZ'!D221 -> 7.157 | E11: ='[1]Podklady RZ'!E221 -> 2.0706 | F11: ='[1]Podklady RZ'!F221 -> 8.27863 | G11: ='[1]Podklady RZ'!G221 -> 956.53451 | H11: ='[1]Podklady RZ'!H221 -> 523.94376 | I11: ='[1]Podklady RZ'!I221 -> 10.800152 | J11: =SUM(B11:I11) -> 1681.3626
A12: Moravskoslezský Region | B12: ='[1]Podklady RZ'!B222 -> 1798.1715 | C12: ='[1]Podklady RZ'!C222 -> 641.22925 | D12: ='[1]Podklady RZ'!D222 -> 38.120404 | E12: ='[1]Podklady RZ'!E222 -> 56.853611 | F12: ='[1]Podklady RZ'!F222 -> 56.586977 | G12: ='[1]Podklady RZ'!G222 -> 5120.1715 | H12: ='[1]Podklady RZ'!H222 -> 2500.9582 | I12: ='[1]Podklady RZ'!I222 -> 48.498395 | J12: =SUM(B12:I12) -> 10260.59
A13: Olomoucký Region | B13: ='[1]Podklady RZ'!B223 -> 469.77921 | C13: ='[1]Podklady RZ'!C223 -> 33.739712 | D13: ='[1]Podklady RZ'!D223 -> 0.996 | E13: ='[1]Podklady RZ'!E223 -> 22.685102 | F13: ='[1]Podklady RZ'!F223 -> 14.215297 | G13: ='[1]Podklady RZ'!G223 -> 1422.0333 | H13: ='[1]Podklady RZ'!H223 -> 897.15534 | I13: ='[1]Podklady RZ'!I223 -> 14.432717 | J13: =SUM(B13:I13) -> 2875.0367
A14: Pardubický Region | B14: ='[1]Podklady RZ'!B224 -> 456.20248 | C14: ='[1]Podklady RZ'!C224 -> 12.452567 | D14: ='[1]Podklady RZ'!D224 -> 55.792765 | E14: ='[1]Podklady RZ'!E224 -> 22.031052 | F14: ='[1]Podklady RZ'!F224 -> 54.713115 | G14: ='[1]Podklady RZ'!G224 -> 1221.6756 | H14: ='[1]Podklady RZ'!H224 -> 756.02345 | I14: ='[1]Podklady RZ'!I224 -> 175.04834 | J14: =SUM(B14:I14) -> 2753.9393
A15: Plzeňský Region | B15: ='[1]Podklady RZ'!B225 -> 423.09013 | C15: ='[1]Podklady RZ'!C225 -> 0 | D15: ='[1]Podklady RZ'!D225 -> 25.60283 | E15: ='[1]Podklady RZ'!E225 -> 3.616652 | F15: ='[1]Podklady RZ'!F225 -> 38.194315 | G15: ='[1]Podklady RZ'!G225 -> 1786.2496 | H15: ='[1]Podklady RZ'!H225 -> 1158.8266 | I15: ='[1]Podklady RZ'!I225 -> 6.6468 | J15: =SUM(B15:I15) -> 3442.2269
A16: Středočeský Region | B16: ='[1]Podklady RZ'!B226 -> 3946.072 | C16: ='[1]Podklady RZ'!C226 -> 25.385926 | D16: ='[1]Podklady RZ'!D226 -> 20.5986 | E16: ='[1]Podklady RZ'!E226 -> 1.16455 | F16: ='[1]Podklady RZ'!F226 -> 15.441875 | G16: ='[1]Podklady RZ'!G226 -> 2425.278 | H16: ='[1]Podklady RZ'!H226 -> 1030.1905 | I16: ='[1]Podklady RZ'!I226 -> 18.730785 | J16: =SUM(B16:I16) -> 7482.8623
... A18: Zlínský Region | B18: ='[1]Podklady RZ'!B228 -> 1450.3256 | C18: ='[1]Podklady RZ'!C228 -> 0.73489 | D18: ='[1]Podklady RZ'!D228 -> 13.17834 | E18: ='[1]Podklady RZ'!E228 -> 10.433485 | F18: ='[1]Podklady RZ'!F228 -> 11.33144 | G18: ='[1]Podklady RZ'!G228 -> 1198.3019 | H18: ='[1]Podklady RZ'!H228 -> 483.107 | I18: ='[1]Podklady RZ'!I228 -> 2.183958 | J18: =SUM(B18:I18) -> 3169.5967
A19: * Does not include unidentified heat distribution.

Sheet 8.1
A1: 8 HEAT PRODUCTION, SUPPLY AND CONSUMPTION BY CZECH REGION | O1: ='3'!N1 -> 2022
A2: 8.1 Heat production, supply and consumption: Prague
B5: First quarter | E5: Second quarter | H5: Third quarter | K5: Fourth quarter | N5: Total | O5: Share in CR
B6: January | C6: February | D6: March | E6: April | F6: May | G6: June | H6: July | I6: August | J6: September | K6: October | L6: November | M6: December
A7: Total installed capacity [MWt] | B7: ='[1]Podklady RZ'!B236 -> 1580.0216 | C7: ='[1]Podklady RZ'!C236 -> 1580.0216 | D7: ='[1]Podklady RZ'!D236 -> 1580.0176 | E7: ='[1]Podklady RZ'!E236 -> 1568.0216 | F7: ='[1]Podklady RZ'!F236 -> 1567.9126 | G7: ='[1]Podklady RZ'!G236 -> 1567.9126 | H7: ='[1]Podklady RZ'!H236 -> 1568.4226 | I7: ='[1]Podklady RZ'!I236 -> 1569.7226 | ... O7: ='[1]Podklady RZ'!O236 -> 0.041076497
A8: Gross heat production [TJ] | B8: ='[1]Podklady RZ'!B237 -> 701.83384 | C8: ='[1]Podklady RZ'!C237 -> 647.42768 | D8: ='[1]Podklady RZ'!D237 -> 535.96928 | E8: ='[1]Podklady RZ'!E237 -> 350.22649 | F8: ='[1]Podklady RZ'!F237 -> 278.73125 | G8: ='[1]Podklady RZ'!G237 -> 212.67399 | H8: ='[1]Podklady RZ'!H237 -> 209.35099 | I8: ='[1]Podklady RZ'!I237 -> 219.42076 | ... O8: ='[1]Podklady RZ'!O237 -> 0.03604327
A9: Heat supply by fuel [TJ] | B9: ='[1]Podklady RZ'!B238 -> 526.42672 | C9: ='[1]Podklady RZ'!C238 -> 494.20352 | D9: ='[1]Podklady RZ'!D238 -> 390.97342 | E9: ='[1]Podklady RZ'!E238 -> 271.60922 | F9: ='[1]Podklady RZ'!F238 -> 207.38529 | G9: ='[1]Podklady RZ'!G238 -> 154.00921 | H9: ='[1]Podklady RZ'!H238 -> 161.02092 | I9: ='[1]Podklady RZ'!I238 -> 169.46294 | ... O9: ='[1]Podklady RZ'!O238 -> 0.049157543
A10: Biomass | B10: ='[1]Podklady RZ'!B239 -> 0 | C10: ='[1]Podklady RZ'!C239 -> 0 | D10: ='[1]Podklady RZ'!D239 -> 0 | E10: ='[1]Podklady RZ'!E239 -> 0 | F10: ='[1]Podklady RZ'!F239 -> 0 | G10: ='[1]Podklady RZ'!G239 -> 0 | H10: ='[1]Podklady RZ'!H239 -> 0 | I10: ='[1]Podklady RZ'!I239 -> 0 | ... O10: ='[1]Podklady RZ'!O239 -> 0
A11: Biogas | B11: ='[1]Podklady RZ'!B240 -> 6.868 | C11: ='[1]Podklady RZ'!C240 -> 5.510608 | D11: ='[1]Podklady RZ'!D240 -> 7.88 | E11: ='[1]Podklady RZ'!E240 -> 6.20659 | F11: ='[1]Podklady RZ'!F240 -> 6.996776 | G11: ='[1]Podklady RZ'!G240 -> 4.948162 | H11: ='[1]Podklady RZ'!H240 -> 4.624502 | I11: ='[1]Podklady RZ'!I240 -> 4.56197 | ... O11: ='[1]Podklady RZ'!O240 -> 0.13200502
A12: Hard coal | B12: ='[1]Podklady RZ'!B241 -> 0 | C12: ='[1]Podklady RZ'!C241 -> 0 | D12: ='[1]Podklady RZ'!D241 -> 0 | E12: ='[1]Podklady RZ'!E241 -> 0 | F12: ='[1]Podklady RZ'!F241 -> 0 | G12: ='[1]Podklady RZ'!G241 -> 0 | H12: ='[1]Podklady RZ'!H241 -> 0 | I12: ='[1]Podklady RZ'!I241 -> 0 | ... O12: ='[1]Podklady RZ'!O241 -> 0
A13: Electrical energy | B13: ='[1]Podklady RZ'!B242 -> 0 | C13: ='[1]Podklady RZ'!C242 -> 0 | D13: ='[1]Podklady RZ'!D242 -> 0 | E13: ='[1]Podklady RZ'!E242 -> 0 | F13: ='[1]Podklady RZ'!F242 -> 0 | G13: ='[1]Podklady RZ'!G242 -> 0 | H13: ='[1]Podklady RZ'!H242 -> 0.599 | I13: ='[1]Podklady RZ'!I242 -> 0.705 | ... O13: ='[1]Podklady RZ'!O242 -> 0.030606455
A14: Ambient energy (heat pump) | B14: ='[1]Podklady RZ'!B243 -> 1.04312 | C14: ='[1]Podklady RZ'!C243 -> 0.93993 | D14: ='[1]Podklady RZ'!D243 -> 1.66738 | E14: ='[1]Podklady RZ'!E243 -> 2.5959 | F14: ='[1]Podklady RZ'!F243 -> 2.7963 | G14: ='[1]Podklady RZ'!G243 -> 4.07518 | H14: ='[1]Podklady RZ'!H243 -> 4.33105 | I14: ='[1]Podklady RZ'!I243 -> 3.8789 | ... O14: ='[1]Podklady RZ'!O243 -> 0.33063743
A15: Solar energy (solar panel) | B15: ='[1]Podklady RZ'!B244 -> 0 | C15: ='[1]Podklady RZ'!C244 -> 0 | D15: ='[1]Podklady RZ'!D244 -> 0 | E15: ='[1]Podklady RZ'!E244 -> 0 | F15: ='[1]Podklady RZ'!F244 -> 0 | G15: ='[1]Podklady RZ'!G244 -> 0 | H15: ='[1]Podklady RZ'!H244 -> 0 | I15: ='[1]Podklady RZ'!I244 -> 0 | ... O15: ='[1]Podklady RZ'!O244 -> 0
A16: Brown coal | B16: ='[1]Podklady RZ'!B245 -> 0 | C16: ='[1]Podklady RZ'!C245 -> 0 | D16: ='[1]Podklady RZ'!D245 -> 0 | E16: ='[1]Podklady RZ'!E245 -> 0 | F16: ='[1]Podklady RZ'!F245 -> 0 | G16: ='[1]Podklady RZ'!G245 -> 0 | H16: ='[1]Podklady RZ'!H245 -> 0 | I16: ='[1]Podklady RZ'!I245 -> 0 | ... O16: ='[1]Podklady RZ'!O245 -> 0
A17: Nuclear fuel | B17: ='[1]Podklady RZ'!B246 -> 0 | C17: ='[1]Podklady RZ'!C246 -> 0 | D17: ='[1]Podklady RZ'!D246 -> 0 | E17: ='[1]Podklady RZ'!E246 -> 0 | F17: ='[1]Podklady RZ'!F246 -> 0 | G17: ='[1]Podklady RZ'!G246 -> 0 | H17: ='[1]Podklady RZ'!H246 -> 0 | I17: ='[1]Podklady RZ'!I246 -> 0 | ... O17: ='[1]Podklady RZ'!O246 -> 0
A18: Coke | B18: ='[1]Podklady RZ'!B247 -> 0 | C18: ='[1]Podklady RZ'!C247 -> 0 | D18: ='[1]Podklady RZ'!D247 -> 0 | E18: ='[1]Podklady RZ'!E247 -> 0 | F18: ='[1]Podklady RZ'!F247 -> 0 | G18: ='[1]Podklady RZ'!G247 -> 0 | H18: ='[1]Podklady RZ'!H247 -> 0 | I18: ='[1]Podklady RZ'!I247 -> 0 | ... O18: ='[1]Podklady RZ'!O247 -> 0
... A25: Natural gas | B25: ='[1]Podklady RZ'!B254 -> 424.3546 | C25: ='[1]Podklady RZ'!C254 -> 399.62998 | D25: ='[1]Podklady RZ'!D254 -> 296.78504 | E25: ='[1]Podklady RZ'!E254 -> 185.11173 | F25: ='[1]Podklady RZ'!F254 -> 135.59921 | G25: ='[1]Podklady RZ'!G254 -> 91.244863 | H25: ='[1]Podklady RZ'!H254 -> 106.65637 | I25: ='[1]Podklady RZ'!I254 -> 101.96607 | ... O25: ='[1]Podklady RZ'!O254 -> 0.13442307
A26: Heat supply from Středočeský Region | B26: ='[1]Podklady RZ'!B255 -> 1352.837 | C26: ='[1]Podklady RZ'!C255 -> 1217.644 | D26: ='[1]Podklady RZ'!D255 -> 953.254 | E26: ='[1]Podklady RZ'!E255 -> 597.15091 | F26: ='[1]Podklady RZ'!F255 -> 465.81599 | G26: ='[1]Podklady RZ'!G255 -> 233.468 | H26: ='[1]Podklady RZ'!H255 -> 181.168 | I26: ='[1]Podklady RZ'!I255 -> 180.68 | ... N26: ='[1]Podklady RZ'!N255 -> 8681.0037
A27: Heat consumption by economic sector* | B27: ='[1]Podklady RZ'!B256 -> 1667.7544 | C27: ='[1]Podklady RZ'!C256 -> 1552.7117 | D27: ='[1]Podklady RZ'!D256 -> 1147.3921 | E27: ='[1]Podklady RZ'!E256 -> 721.26548 | F27: ='[1]Podklady RZ'!F256 -> 530.30791 | G27: ='[1]Podklady RZ'!G256 -> 294.53476 | H27: ='[1]Podklady RZ'!H256 -> 244.90853 | I27: ='[1]Podklady RZ'!I256 -> 262.28619 | ... O27: ='[1]Podklady RZ'!O256 -> 0.15794304
A28: Industry | B28: ='[1]Podklady RZ'!B257 -> 40.737715 | C28: ='[1]Podklady RZ'!C257 -> 40.132048 | D28: ='[1]Podklady RZ'!D257 -> 33.259915 | E28: ='[1]Podklady RZ'!E257 -> 22.367479 | F28: ='[1]Podklady RZ'!F257 -> 13.336322 | G28: ='[1]Podklady RZ'!G257 -> 7.949351 | H28: ='[1]Podklady RZ'!H257 -> 6.692648 | I28: ='[1]Podklady RZ'!I257 -> 7.832717 | ... O28: ='[1]Podklady RZ'!O257 -> 0.017529201
A29: Energy | B29: ='[1]Podklady RZ'!B258 -> 8.0871 | C29: ='[1]Podklady RZ'!C258 -> 3.72195 | D29: ='[1]Podklady RZ'!D258 -> 29.421697 | E29: ='[1]Podklady RZ'!E258 -> 23.16438 | F29: ='[1]Podklady RZ'!F258 -> 16.827562 | G29: ='[1]Podklady RZ'!G258 -> 11.510856 | H29: ='[1]Podklady RZ'!H258 -> 10.914666 | I29: ='[1]Podklady RZ'!I258 -> 10.948958 | ... O29: ='[1]Podklady RZ'!O258 -> 0.14722943
A30: Transport | B30: ='[1]Podklady RZ'!B259 -> 31.608578 | C30: ='[1]Podklady RZ'!C259 -> 33.370205 | D30: ='[1]Podklady RZ'!D259 -> 27.283846 | E30: ='[1]Podklady RZ'!E259 -> 20.079281 | F30: ='[1]Podklady RZ'!F259 -> 9.339768 | G30: ='[1]Podklady RZ'!G259 -> 6.708099 | H30: ='[1]Podklady RZ'!H259 -> 0.85472 | I30: ='[1]Podklady RZ'!I259 -> 0.997002 | ... O30: ='[1]Podklady RZ'!O259 -> 0.32555429
A31: Construction | B31: ='[1]Podklady RZ'!B260 -> 5.099514 | C31: ='[1]Podklady RZ'!C260 -> 5.142171 | D31: ='[1]Podklady RZ'!D260 -> 4.432344 | E31: ='[1]Podklady RZ'!E260 -> 2.797752 | F31: ='[1]Podklady RZ'!F260 -> 1.950236 | G31: ='[1]Podklady RZ'!G260 -> 1.11162 | H31: ='[1]Podklady RZ'!H260 -> 0.403843 | I31: ='[1]Podklady RZ'!I260 -> 0.39418 | ... O31: ='[1]Podklady RZ'!O260 -> 0.15184636
A32: Farming and forestry | B32: ='[1]Podklady RZ'!B261 -> 0.636597 | C32: ='[1]Podklady RZ'!C261 -> 0.621118 | D32: ='[1]Podklady RZ'!D261 -> 0.507496 | E32: ='[1]Podklady RZ'!E261 -> 0.303605 | F32: ='[1]Podklady RZ'!F261 -> 0.211559 | G32: ='[1]Podklady RZ'!G261 -> 0.11872 | H32: ='[1]Podklady RZ'!H261 -> 0.047 | I32: ='[1]Podklady RZ'!I261 -> 0.048 | ... O32: ='[1]Podklady RZ'!O261 -> 0.006914898
A33: Households | B33: ='[1]Podklady RZ'!B262 -> 935.10154 | C33: ='[1]Podklady RZ'!C262 -> 832.89354 | D33: ='[1]Podklady RZ'!D262 -> 538.53423 | E33: ='[1]Podklady RZ'!E262 -> 311.56799 | F33: ='[1]Podklady RZ'!F262 -> 279.57028 | G33: ='[1]Podklady RZ'!G262 -> 143.6461 | H33: ='[1]Podklady RZ'!H262 -> 153.58637 | I33: ='[1]Podklady RZ'!I262 -> 174.80253 | ... O33: ='[1]Podklady RZ'!O262 -> 0.18881998
A34: Retail, services, schools, health care | B34: ='[1]Podklady RZ'!B263 -> 631.45462 | C34: ='[1]Podklady RZ'!C263 -> 621.90856 | D34: ='[1]Podklady RZ'!D263 -> 501.87246 | E34: ='[1]Podklady RZ'!E263 -> 334.4526 | F34: ='[1]Podklady RZ'!F263 -> 205.31889 | G34: ='[1]Podklady RZ'!G263 -> 121.48782 | H34: ='[1]Podklady RZ'!H263 -> 70.746311 | I34: ='[1]Podklady RZ'!I263 -> 65.593405 | ... O34: ='[1]Podklady RZ'!O263 -> 0.23114229
A35: Other | B35: ='[1]Podklady RZ'!B264 -> 15.028696 | C35: ='[1]Podklady RZ'!C264 -> 14.922138 | D35: ='[1]Podklady RZ'!D264 -> 12.080152 | E35: ='[1]Podklady RZ'!E264 -> 6.532395 | F35: ='[1]Podklady RZ'!F264 -> 3.753295 | G35: ='[1]Podklady RZ'!G264 -> 2.002195 | H35: ='[1]Podklady RZ'!H264 -> 1.66297 | I35: ='[1]Podklady RZ'!I264 -> 1.669395 | ... O35: ='[1]Podklady RZ'!O264 -> 0.059334096
A36: * The difference between supply and consumption includes losses of bought heat and a part of unidentified heat distribution.
M40: Installed capacity | N40: =O7 -> 0.041076497
M41: Gross heat production | N41: =O8 -> 0.03604327
M42: Heat supply | N42: =O9 -> 0.049157543

Sheet 8.2
A1: 8.2 Heat production, supply and consumption: Jihočeský Region | O1: ='3'!N1 -> 2022
B5: First quarter | E5: Second quarter | H5: Third quarter | K5: Fourth quarter | N5: Total | O5: Share in CR
B6: January | C6: February | D6: March | E6: April | F6: May | G6: June | H6: July | I6: August | J6: September | K6: October | L6: November | M6: December
A7: Total installed capacity [MWt] | B7: ='[1]Podklady RZ'!B272 -> 2169.285 | C7: ='[1]Podklady RZ'!C272 -> 2167.345 | D7: ='[1]Podklady RZ'!D272 -> 2167.345 | E7: ='[1]Podklady RZ'!E272 -> 2170.005 | F7: ='[1]Podklady RZ'!F272 -> 2170.005 | G7: ='[1]Podklady RZ'!G272 -> 2171.185 | H7: ='[1]Podklady RZ'!H272 -> 2170.32 | I7: ='[1]Podklady RZ'!I272 -> 2170.32 | ... O7: ='[1]Podklady RZ'!O272 -> 0.056143248
A8: Gross heat production [TJ] | B8: ='[1]Podklady RZ'!B273 -> 941.83408 | C8: ='[1]Podklady RZ'!C273 -> 837.91944 | D8: ='[1]Podklady RZ'!D273 -> 700.63859 | E8: ='[1]Podklady RZ'!E273 -> 495.05723 | F8: ='[1]Podklady RZ'!F273 -> 409.36051 | G8: ='[1]Podklady RZ'!G273 -> 265.20984 | H8: ='[1]Podklady RZ'!H273 -> 257.11681 | I8: ='[1]Podklady RZ'!I273 -> 255.25568 | ... O8: ='[1]Podklady RZ'!O273 -> 0.048591181
A9: Heat supply by fuel [TJ] | B9: ='[1]Podklady RZ'!B274 -> 642.0153 | C9: ='[1]Podklady RZ'!C274 -> 573.74972 | D9: ='[1]Podklady RZ'!D274 -> 457.58052 | E9: ='[1]Podklady RZ'!E274 -> 301.40174 | F9: ='[1]Podklady RZ'!F274 -> 235.57677 | G9: ='[1]Podklady RZ'!G274 -> 131.86365 | H9: ='[1]Podklady RZ'!H274 -> 126.07528 | I9: ='[1]Podklady RZ'!I274 -> 123.96739 | ... O9: ='[1]Podklady RZ'!O274 -> 0.05482046
A10: Biomass | B10: ='[1]Podklady RZ'!B275 -> 243.36536 | C10: ='[1]Podklady RZ'!C275 -> 234.23436 | D10: ='[1]Podklady RZ'!D275 -> 192.82878 | E10: ='[1]Podklady RZ'!E275 -> 135.11012 | F10: ='[1]Podklady RZ'!F275 -> 97.592392 | G10: ='[1]Podklady RZ'!G275 -> 64.599302 | H10: ='[1]Podklady RZ'!H275 -> 59.071609 | I10: ='[1]Podklady RZ'!I275 -> 59.855785 | ... O10: ='[1]Podklady RZ'!O275 -> 0.16351602
A11: Biogas | B11: ='[1]Podklady RZ'!B276 -> 9.971257 | C11: ='[1]Podklady RZ'!C276 -> 9.230452 | D11: ='[1]Podklady RZ'!D276 -> 8.692465 | E11: ='[1]Podklady RZ'!E276 -> 7.433537 | F11: ='[1]Podklady RZ'!F276 -> 7.052158 | G11: ='[1]Podklady RZ'!G276 -> 6.201965 | H11: ='[1]Podklady RZ'!H276 -> 6.290911 | I11: ='[1]Podklady RZ'!I276 -> 5.906148 | ... O11: ='[1]Podklady RZ'!O276 -> 0.17533752
A12: Hard coal | B12: ='[1]Podklady RZ'!B277 -> 7.284908 | C12: ='[1]Podklady RZ'!C277 -> 0 | D12: ='[1]Podklady RZ'!D277 -> 5.43291 | E12: ='[1]Podklady RZ'!E277 -> 2.91481 | F12: ='[1]Podklady RZ'!F277 -> 0 | G12: ='[1]Podklady RZ'!G277 -> 0.924532 | H12: ='[1]Podklady RZ'!H277 -> 0.940657 | I12: ='[1]Podklady RZ'!I277 -> 0 | ... O12: ='[1]Podklady RZ'!O277 -> 0.003536468
A13: Electrical energy | B13: ='[1]Podklady RZ'!B278 -> 0 | C13: ='[1]Podklady RZ'!C278 -> 0 | D13: ='[1]Podklady RZ'!D278 -> 0.0034 | E13: ='[1]Podklady RZ'!E278 -> 0.03 | F13: ='[1]Podklady RZ'!F278 -> 0.0323 | G13: ='[1]Podklady RZ'!G278 -> 0.0251 | H13: ='[1]Podklady RZ'!H278 -> 0.0033 | I13: ='[1]Podklady RZ'!I278 -> 0.0184 | ... O13: ='[1]Podklady RZ'!O278 -> 0.0023449195
A14: Ambient energy (heat pump) | B14: ='[1]Podklady RZ'!B279 -> 0 | C14: ='[1]Podklady RZ'!C279 -> 0 | D14: ='[1]Podklady RZ'!D279 -> 0 | E14: ='[1]Podklady RZ'!E279 -> 0 | F14: ='[1]Podklady RZ'!F279 -> 0 | G14: ='[1]Podklady RZ'!G279 -> 0 | H14: ='[1]Podklady RZ'!H279 -> 0 | I14: ='[1]Podklady RZ'!I279 -> 0 | ... O14: ='[1]Podklady RZ'!O279 -> 0
A15: Solar energy (solar panel) | B15: ='[1]Podklady RZ'!B280 -> 0 | C15: ='[1]Podklady RZ'!C280 -> 0 | D15: ='[1]Podklady RZ'!D280 -> 0 | E15: ='[1]Podklady RZ'!E280 -> 0 | F15: ='[1]Podklady RZ'!F280 -> 0 | G15: ='[1]Podklady RZ'!G280 -> 0 | H15: ='[1]Podklady RZ'!H280 -> 0 | I15: ='[1]Podklady RZ'!I280 -> 0 | ... O15: ='[1]Podklady RZ'!O280 -> 0
A16: Brown coal | B16: ='[1]Podklady RZ'!B281 -> 139.99613 | C16: ='[1]Podklady RZ'!C281 -> 109.64983 | D16: ='[1]Podklady RZ'!D281 -> 105.64075 | E16: ='[1]Podklady RZ'!E281 -> 55.749066 | F16: ='[1]Podklady RZ'!F281 -> 41.95571 | G16: ='[1]Podklady RZ'!G281 -> 4.897465 | H16: ='[1]Podklady RZ'!H281 -> 1.784905 | I16: ='[1]Podklady RZ'!I281 -> 2.63128 | ... O16: ='[1]Podklady RZ'!O281 -> 0.027055438
A17: Nuclear fuel | B17: ='[1]Podklady RZ'!B282 -> 159.35626 | C17: ='[1]Podklady RZ'!C282 -> 146.05451 | D17: ='[1]Podklady RZ'!D282 -> 82.4243 | E17: ='[1]Podklady RZ'!E282 -> 62.95589 | F17: ='[1]Podklady RZ'!F282 -> 57.76265 | G17: ='[1]Podklady RZ'!G282 -> 31.97979 | H17: ='[1]Podklady RZ'!H282 -> 30.6029 | I17: ='[1]Podklady RZ'!I282 -> 16.26125 | ... O17: ='[1]Podklady RZ'!O282 -> 0.95969034
A18: Coke | B18: ='[1]Podklady RZ'!B283 -> 0 | C18: ='[1]Podklady RZ'!C283 -> 0 | D18: ='[1]Podklady RZ'!D283 -> 0 | E18: ='[1]Podklady RZ'!E283 -> 0 | F18: ='[1]Podklady RZ'!F283 -> 0 | G18: ='[1]Podklady RZ'!G283 -> 0 | H18: ='[1]Podklady RZ'!H283 -> 0 | I18: ='[1]Podklady RZ'!I283 -> 0 | ... O18: ='[1]Podklady RZ'!O283 -> 0
... A34: Other | B34: ='[1]Podklady RZ'!B299 -> 15.931945 | C34: ='[1]Podklady RZ'!C299 -> 13.504741 | D34: ='[1]Podklady RZ'!D299 -> 11.10543 | E34: ='[1]Podklady RZ'!E299 -> 6.773834 | F34: ='[1]Podklady RZ'!F299 -> 5.575665 | G34: ='[1]Podklady RZ'!G299 -> 2.493818 | H34: ='[1]Podklady RZ'!H299 -> 2.269363 | I34: ='[1]Podklady RZ'!I299 -> 2.230265 | ... O34: ='[1]Podklady RZ'!O299 -> 0.06398645
A35: * The difference between supply and consumption includes losses of bought heat and a part of unidentified heat distribution.
M39: Installed capacity | N39: =O7 -> 0.056143248
M40: Gross heat production | N40: =O8 -> 0.048591181
M41: Heat supply | N41: =O9 -> 0.05482046

Sheet 14.2
A1: 14.2 Výroba a spotřeba: Jihomoravský kraj | M1: =CONTENTS!#REF! -> #REF!

Sheet 14.3
A1: 14.3 Výroba a spotřeba: Karlovarský kraj | M1: =CONTENTS!#REF! -> #REF!

Sheet 14.4
A1: 14.4 Výroba a spotřeba: Královéhradecký kraj | M1: =CONTENTS!#REF! -> #REF!

Sheet 14.5
A1: 14.5 Výroba a spotřeba: Liberecký kraj | M1: =CONTENTS!#REF! -> #REF!

Sheet 14.6
A1: 14.6 Výroba a spotřeba: Moravskoslezský kraj | M1: =CONTENTS!#REF! -> #REF!

Sheet 14.7
A1: 14.7 Výroba a spotřeba: Olomoucký kraj | M1: =CONTENTS!#REF! -> #REF!

Sheet 14.8
A1: 14.8 Výroba a spotřeba: Pardubický kraj | M1: =CONTENTS!#REF! -> #REF!

Sheet 14.9
A1: 14.9 Výroba a spotřeba: Plzeňský kraj | M1: =CONTENTS!#REF! -> #REF!

Sheet 14.10
A1: 14.10 Výroba a spotřeba: Praha | M1: =CONTENTS!#REF! -> #REF!

Sheet 14.11
A1: 14.11 Výroba a spotřeba: Středočeský kraj | M1: =CONTENTS!#REF! -> #REF!

Sheet 14.12
A1: 14.12 Výroba a spotřeba: Ústecký kraj | M1: =CONTENTS!#REF! -> #REF!

Sheet 14.13
A1: 14.13 Výroba a spotřeba: Vysočina | M1: =CONTENTS!#REF! -> #REF!

Sheet 14.14
A1: 14.14 Výroba a spotřeba: Zlínský kraj | M1: =CONTENTS!#REF! -> #REF!

Sheet 8.3
A1: 8.3 Heat production, supply and consumption: Jihomoravský Region | O1: ='3'!N1 -> 2022
B5: First quarter | E5: Second quarter | H5: Third quarter | K5: Fourth quarter | N5: Total | O5: Share in CR
B6: January | C6: February | D6: March | E6: April | F6: May | G6: June | H6: July | I6: August | J6: September | K6: October | L6: November | M6: December
A7: Total installed capacity [MWt] | B7: ='[1]Podklady RZ'!B307 -> 1601.5843 | C7: ='[1]Podklady RZ'!C307 -> 1601.5643 | D7: ='[1]Podklady RZ'!D307 -> 1601.8613 | E7: ='[1]Podklady RZ'!E307 -> 1601.8613 | F7: ='[1]Podklady RZ'!F307 -> 1601.8617 | G7: ='[1]Podklady RZ'!G307 -> 1555.2897 | H7: ='[1]Podklady RZ'!H307 -> 1553.1873 | I7: ='[1]Podklady RZ'!I307 -> 1553.1873 | ... O7: ='[1]Podklady RZ'!O307 -> 0.040313155
A8: Gross heat production [TJ] | B8: ='[1]Podklady RZ'!B308 -> 1106.8515 | C8: ='[1]Podklady RZ'!C308 -> 918.83924 | D8: ='[1]Podklady RZ'!D308 -> 675.92072 | E8: ='[1]Podklady RZ'!E308 -> 481.49775 | F8: ='[1]Podklady RZ'!F308 -> 395.53289 | G8: ='[1]Podklady RZ'!G308 -> 267.10594 | H8: ='[1]Podklady RZ'!H308 -> 255.97213 | I8: ='[1]Podklady RZ'!I308 -> 261.86375 | ... O8: ='[1]Podklady RZ'!O308 -> 0.05071676
A9: Heat supply by fuel [TJ] | B9: ='[1]Podklady RZ'!B309 -> 793.70024 | C9: ='[1]Podklady RZ'!C309 -> 701.97275 | D9: ='[1]Podklady RZ'!D309 -> 502.85702 | E9: ='[1]Podklady RZ'!E309 -> 335.89383 | F9: ='[1]Podklady RZ'!F309 -> 274.05056 | G9: ='[1]Podklady RZ'!G309 -> 174.64561 | H9: ='[1]Podklady RZ'!H309 -> 161.69757 | I9: ='[1]Podklady RZ'!I309 -> 165.74094 | ... O9: ='[1]Podklady RZ'!O309 -> 0.06546729
A10: Biomass | B10: ='[1]Podklady RZ'!B310 -> 66.19593 | C10: ='[1]Podklady RZ'!C310 -> 59.15725 | D10: ='[1]Podklady RZ'!D310 -> 46.59401 | E10: ='[1]Podklady RZ'!E310 -> 33.14449 | F10: ='[1]Podklady RZ'!F310 -> 27.14457 | G10: ='[1]Podklady RZ'!G310 -> 17.8177 | H10: ='[1]Podklady RZ'!H310 -> 14.79198 | I10: ='[1]Podklady RZ'!I310 -> 17.80566 | ... O10: ='[1]Podklady RZ'!O310 -> 0.049408958
A11: Biogas | B11: ='[1]Podklady RZ'!B311 -> 10.481329 | C11: ='[1]Podklady RZ'!C311 -> 7.274585 | D11: ='[1]Podklady RZ'!D311 -> 5.94486 | E11: ='[1]Podklady RZ'!E311 -> 4.861732 | F11: ='[1]Podklady RZ'!F311 -> 4.455167 | G11: ='[1]Podklady RZ'!G311 -> 2.404429 | H11: ='[1]Podklady RZ'!H311 -> 2.684547 | I11: ='[1]Podklady RZ'!I311 -> 3.46806 | ... O11: ='[1]Podklady RZ'!O311 -> 0.12067873
A12: Hard coal | B12: ='[1]Podklady RZ'!B312 -> 0.04477 | C12: ='[1]Podklady RZ'!C312 -> 0.03516 | D12: ='[1]Podklady RZ'!D312 -> 0 | E12: ='[1]Podklady RZ'!E312 -> 0 | F12: ='[1]Podklady RZ'!F312 -> 0 | G12: ='[1]Podklady RZ'!G312 -> 0 | H12: ='[1]Podklady RZ'!H312 -> 0 | I12: ='[1]Podklady RZ'!I312 -> 0 | ... O12: ='[1]Podklady RZ'!O312 -> 2.7398244e-05
A13: Electrical energy | B13: ='[1]Podklady RZ'!B313 -> 0.324 | C13: ='[1]Podklady RZ'!C313 -> 0.298 | D13: ='[1]Podklady RZ'!D313 -> 0.366 | E13: ='[1]Podklady RZ'!E313 -> 0.3875 | F13: ='[1]Podklady RZ'!F313 -> 0.3437 | G13: ='[1]Podklady RZ'!G313 -> 0.5755 | H13: ='[1]Podklady RZ'!H313 -> 0.5836 | I13: ='[1]Podklady RZ'!I313 -> 1.1328 | ... O13: ='[1]Podklady RZ'!O313 -> 0.11128772
A14: Ambient energy (heat pump) | B14: ='[1]Podklady RZ'!B314 -> 0.062989 | C14: ='[1]Podklady RZ'!C314 -> 0.057407 | D14: ='[1]Podklady RZ'!D314 -> 0.044471 | E14: ='[1]Podklady RZ'!E314 -> 0.002031 | F14: ='[1]Podklady RZ'!F314 -> 0.008004 | G14: ='[1]Podklady RZ'!G314 -> 0.025 | H14: ='[1]Podklady RZ'!H314 -> 0.001003 | I14: ='[1]Podklady RZ'!I314 -> 3e-06 | ... O14: ='[1]Podklady RZ'!O314 -> 0.002783663
A15: Solar energy (solar panel) | B15: ='[1]Podklady RZ'!B315 -> 0.005283 | C15: ='[1]Podklady RZ'!C315 -> 0.021877 | D15: ='[1]Podklady RZ'!D315 -> 0.011683 | E15: ='[1]Podklady RZ'!E315 -> 0.017516 | F15: ='[1]Podklady RZ'!F315 -> 0.002836 | G15: ='[1]Podklady RZ'!G315 -> 0.015128 | H15: ='[1]Podklady RZ'!H315 -> 0.011126 | I15: ='[1]Podklady RZ'!I315 -> 0.014909 | ... O15: ='[1]Podklady RZ'!O315 -> 0.11581043
A16: Brown coal | B16: ='[1]Podklady RZ'!B316 -> 5.107892 | C16: ='[1]Podklady RZ'!C316 -> 3.89164 | D16: ='[1]Podklady RZ'!D316 -> 0.278627 | E16: ='[1]Podklady RZ'!E316 -> 0.209332 | F16: ='[1]Podklady RZ'!F316 -> 0.203476 | G16: ='[1]Podklady RZ'!G316 -> 0.15554 | H16: ='[1]Podklady RZ'!H316 -> 0.1528 | I16: ='[1]Podklady RZ'!I316 -> 0.164775 | ... O16: ='[1]Podklady RZ'!O316 -> 0.0005174401
A17: Nuclear fuel | B17: ='[1]Podklady RZ'!B317 -> 0 | C17: ='[1]Podklady RZ'!C317 -> 0 | D17: ='[1]Podklady RZ'!D317 -> 0 | E17: ='[1]Podklady RZ'!E317 -> 0 | F17: ='[1]Podklady RZ'!F317 -> 0 | G17: ='[1]Podklady RZ'!G317 -> 0 | H17: ='[1]Podklady RZ'!H317 -> 0 | I17: ='[1]Podklady RZ'!I317 -> 0 | ... O17: ='[1]Podklady RZ'!O317 -> 0
A18: Coke | B18: ='[1]Podklady RZ'!B318 -> 0 | C18: ='[1]Podklady RZ'!C318 -> 0 | D18: ='[1]Podklady RZ'!D318 -> 0 | E18: ='[1]Podklady RZ'!E318 -> 0 | F18: ='[1]Podklady RZ'!F318 -> 0 | G18: ='[1]Podklady RZ'!G318 -> 0 | H18: ='[1]Podklady RZ'!H318 -> 0 | I18: ='[1]Podklady RZ'!I318 -> 0 | ... O18: ='[1]Podklady RZ'!O318 -> 0
... A34: Other | B34: ='[1]Podklady RZ'!B334 -> 130.56733 | C34: ='[1]Podklady RZ'!C334 -> 111.81438 | D34: ='[1]Podklady RZ'!D334 -> 79.263629 | E34: ='[1]Podklady RZ'!E334 -> 47.920408 | F34: ='[1]Podklady RZ'!F334 -> 34.224744 | G34: ='[1]Podklady RZ'!G334 -> 18.172038 | H34: ='[1]Podklady RZ'!H334 -> 17.976251 | I34: ='[1]Podklady RZ'!I334 -> 10.243316 | ... O34: ='[1]Podklady RZ'!O334 -> 0.45530807
A35: * The difference between supply and consumption includes losses of bought heat and a part of unidentified heat distribution.
M39: Installed capacity | N39: =O7 -> 0.040313155
M40: Gross heat production | N40: =O8 -> 0.05071676
M41: Heat supply | N41: =O9 -> 0.06546729

Sheet 8.4
A1: 8.4 Heat production, supply and consumption: Karlovarský Region | O1: ='3'!N1 -> 2022
B5: First quarter | E5: Second quarter | H5: Third quarter | K5: Fourth quarter | N5: Total | O5: Share in CR
B6: January | C6: February | D6: March | E6: April | F6: May | G6: June | H6: July | I6: August | J6: September | K6: October | L6: November | M6: December
A7: Total installed capacity [MWt] | B7: ='[1]Podklady RZ'!B342 -> 2805.473 | C7: ='[1]Podklady RZ'!C342 -> 2805.544 | D7: ='[1]Podklady RZ'!D342 -> 2805.544 | E7: ='[1]Podklady RZ'!E342 -> 2805.548 | F7: ='[1]Podklady RZ'!F342 -> 2805.548 | G7: ='[1]Podklady RZ'!G342 -> 2805.548 | H7: ='[1]Podklady RZ'!H342 -> 2805.548 | I7: ='[1]Podklady RZ'!I342 -> 2805.548 | ... O7: ='[1]Podklady RZ'!O342 -> 0.07265244
A8: Gross heat production [TJ] | B8: ='[1]Podklady RZ'!B343 -> 761.06989 | C8: ='[1]Podklady RZ'!C343 -> 686.87835 | D8: ='[1]Podklady RZ'!D343 -> 633.1794 | E8: ='[1]Podklady RZ'!E343 -> 428.76314 | F8: ='[1]Podklady RZ'!F343 -> 381.84764 | G8: ='[1]Podklady RZ'!G343 -> 274.14865 | H8: ='[1]Podklady RZ'!H343 -> 222.32363 | I8: ='[1]Podklady RZ'!I343 -> 250.58323 | ... O8: ='[1]Podklady RZ'!O343 -> 0.041818682
A9: Heat supply by fuel [TJ] | B9: ='[1]Podklady RZ'!B344 -> 467.68341 | C9: ='[1]Podklady RZ'!C344 -> 432.157 | D9: ='[1]Podklady RZ'!D344 -> 350.15236 | E9: ='[1]Podklady RZ'!E344 -> 248.14667 | F9: ='[1]Podklady RZ'!F344 -> 199.92445 | G9: ='[1]Podklady RZ'!G344 -> 100.91122 | H9: ='[1]Podklady RZ'!H344 -> 101.83983 | I9: ='[1]Podklady RZ'!I344 -> 96.730957 | ... O9: ='[1]Podklady RZ'!O344 -> 0.042289772
A10: Biomass | B10: ='[1]Podklady RZ'!B345 -> 49.410053 | C10: ='[1]Podklady RZ'!C345 -> 48.130322 | D10: ='[1]Podklady RZ'!D345 -> 46.739543 | E10: ='[1]Podklady RZ'!E345 -> 35.120393 | F10: ='[1]Podklady RZ'!F345 -> 28.93063 | G10: ='[1]Podklady RZ'!G345 -> 12.541913 | H10: ='[1]Podklady RZ'!H345 -> 11.903394 | I10: ='[1]Podklady RZ'!I345 -> 10.258561 | ... O10: ='[1]Podklady RZ'!O345 -> 0.037588252
A11: Biogas | B11: ='[1]Podklady RZ'!B346 -> 0.522 | C11: ='[1]Podklady RZ'!C346 -> 0.682 | D11: ='[1]Podklady RZ'!D346 -> 0.708 | E11: ='[1]Podklady RZ'!E346 -> 0.274 | F11: ='[1]Podklady RZ'!F346 -> 0.361 | G11: ='[1]Podklady RZ'!G346 -> 0.094 | H11: ='[1]Podklady RZ'!H346 -> 0.116 | I11: ='[1]Podklady RZ'!I346 -> 0.055 | ... O11: ='[1]Podklady RZ'!O346 -> 0.0091751512
A12: Hard coal | B12: ='[1]Podklady RZ'!B347 -> 0 | C12: ='[1]Podklady RZ'!C347 -> 0 | D12: ='[1]Podklady RZ'!D347 -> 0 | E12: ='[1]Podklady RZ'!E347 -> 0 | F12: ='[1]Podklady RZ'!F347 -> 0 | G12: ='[1]Podklady RZ'!G347 -> 0 | H12: ='[1]Podklady RZ'!H347 -> 0 | I12: ='[1]Podklady RZ'!I347 -> 0 | ... O12: ='[1]Podklady RZ'!O347 -> 0
A13: Electrical energy | B13: ='[1]Podklady RZ'!B348 -> 0 | C13: ='[1]Podklady RZ'!C348 -> 0 | D13: ='[1]Podklady RZ'!D348 -> 0 | E13: ='[1]Podklady RZ'!E348 -> 0 | F13: ='[1]Podklady RZ'!F348 -> 0 | G13: ='[1]Podklady RZ'!G348 -> 0 | H13: ='[1]Podklady RZ'!H348 -> 0 | I13: ='[1]Podklady RZ'!I348 -> 0 | ... O13: ='[1]Podklady RZ'!O348 -> 0
A14: Ambient energy (heat pump) | B14: ='[1]Podklady RZ'!B349 -> 0.29517 | C14: ='[1]Podklady RZ'!C349 -> 0.25546 | D14: ='[1]Podklady RZ'!D349 -> 0.33348 | E14: ='[1]Podklady RZ'!E349 -> 0.2974 | F14: ='[1]Podklady RZ'!F349 -> 0.3265 | G14: ='[1]Podklady RZ'!G349 -> 0.28587 | H14: ='[1]Podklady RZ'!H349 -> 0.28156 | I14: ='[1]Podklady RZ'!I349 -> 0.285617 | ... O14: ='[1]Podklady RZ'!O349 -> 0.037896912
A15: Solar energy (solar panel) | B15: ='[1]Podklady RZ'!B350 -> 0.11931 | C15: ='[1]Podklady RZ'!C350 -> 0.05662 | D15: ='[1]Podklady RZ'!D350 -> 0.0185 | E15: ='[1]Podklady RZ'!E350 -> 0.05166 | F15: ='[1]Podklady RZ'!F350 -> 0.049483 | G15: ='[1]Podklady RZ'!G350 -> 0.04836 | H15: ='[1]Podklady RZ'!H350 -> 0.04107 | I15: ='[1]Podklady RZ'!I350 -> 0.03545 | ... O15: ='[1]Podklady RZ'!O350 -> 0.47175377
A16: Brown coal | B16: ='[1]Podklady RZ'!B351 -> 316.78559 | C16: ='[1]Podklady RZ'!C351 -> 290.39243 | D16: ='[1]Podklady RZ'!D351 -> 232.37011 | E16: ='[1]Podklady RZ'!E351 -> 168.6577 | F16: ='[1]Podklady RZ'!F351 -> 136.47904 | G16: ='[1]Podklady RZ'!G351 -> 54.23587 | H16: ='[1]Podklady RZ'!H351 -> 57.16848 | I16: ='[1]Podklady RZ'!I351 -> 50.8576 | ... O16: ='[1]Podklady RZ'!O351 -> 0.067941923
A17: Nuclear fuel | B17: ='[1]Podklady RZ'!B352 -> 0 | C17: ='[1]Podklady RZ'!C352 -> 0 | D17: ='[1]Podklady RZ'!D352 -> 0 | E17: ='[1]Podklady RZ'!E352 -> 0 | F17: ='[1]Podklady RZ'!F352 -> 0 | G17: ='[1]Podklady RZ'!G352 -> 0 | H17: ='[1]Podklady RZ'!H352 -> 0 | I17: ='[1]Podklady RZ'!I352 -> 0 | ... O17: ='[1]Podklady RZ'!O352 -> 0
A18: Coke | B18: ='[1]Podklady RZ'!B353 -> 0 | C18: ='[1]Podklady RZ'!C353 -> 0 | D18: ='[1]Podklady RZ'!D353 -> 0 | E18: ='[1]Podklady RZ'!E353 -> 0 | F18: ='[1]Podklady RZ'!F353 -> 0 | G18: ='[1]Podklady RZ'!G353 -> 0 | H18: ='[1]Podklady RZ'!H353 -> 0 | I18: ='[1]Podklady RZ'!I353 -> 0 | ... O18: ='[1]Podklady RZ'!O353 -> 0
... A34: Other | B34: ='[1]Podklady RZ'!B369 -> 20.357289 | C34: ='[1]Podklady RZ'!C369 -> 18.866211 | D34: ='[1]Podklady RZ'!D369 -> 14.39602 | E34: ='[1]Podklady RZ'!E369 -> 9.39673 | F34: ='[1]Podklady RZ'!F369 -> 7.186481 | G34: ='[1]Podklady RZ'!G369 -> 3.007712 | H34: ='[1]Podklady RZ'!H369 -> 5.213067 | I34: ='[1]Podklady RZ'!I369 -> 5.422638 | ... O34: ='[1]Podklady RZ'!O369 -> 0.094962902
A35: * The difference between supply and consumption includes losses of bought heat and a part of unidentified heat distribution.
M39: Installed capacity | N39: =O7 -> 0.07265244
M40: Gross heat production | N40: =O8 -> 0.041818682
M41: Heat supply | N41: =O9 -> 0.042289772

Sheet 8.5
A1: 8.5 Heat production, supply and consumption: Vysočina Region | O1: ='3'!N1 -> 2022
B5: First quarter | E5: Second quarter | H5: Third quarter | K5: Fourth quarter | N5: Total | O5: Share in CR
B6: January | C6: February | D6: March | E6: April | F6: May | G6: June | H6: July | I6: August | J6: September | K6: October | L6: November | M6: December
A7: Total installed capacity [MWt] | B7: ='[1]Podklady RZ'!B377 -> 633.8474 | C7: ='[1]Podklady RZ'!C377 -> 632.3864 | D7: ='[1]Podklady RZ'!D377 -> 633.6444 | E7: ='[1]Podklady RZ'!E377 -> 636.8304 | F7: ='[1]Podklady RZ'!F377 -> 636.3555 | G7: ='[1]Podklady RZ'!G377 -> 637.5344 | H7: ='[1]Podklady RZ'!H377 -> 637.5554 | I7: ='[1]Podklady RZ'!I377 -> 637.5554 | ... O7: ='[1]Podklady RZ'!O377 -> 0.016660744
A8: Gross heat production [TJ] | B8: ='[1]Podklady RZ'!B378 -> 494.95268 | C8: ='[1]Podklady RZ'!C378 -> 443.4881 | D8: ='[1]Podklady RZ'!D378 -> 377.33746 | E8: ='[1]Podklady RZ'!E378 -> 278.08765 | F8: ='[1]Podklady RZ'!F378 -> 246.05467 | G8: ='[1]Podklady RZ'!G378 -> 174.85272 | H8: ='[1]Podklady RZ'!H378 -> 153.48962 | I8: ='[1]Podklady RZ'!I378 -> 153.33978 | ... O8: ='[1]Podklady RZ'!O378 -> 0.026375057
A9: Heat supply by fuel [TJ] | B9: ='[1]Podklady RZ'!B379 -> 252.55243 | C9: ='[1]Podklady RZ'!C379 -> 225.4229 | D9: ='[1]Podklady RZ'!D379 -> 175.2888 | E9: ='[1]Podklady RZ'!E379 -> 115.58692 | F9: ='[1]Podklady RZ'!F379 -> 87.30693 | G9: ='[1]Podklady RZ'!G379 -> 43.525042 | H9: ='[1]Podklady RZ'!H379 -> 42.773473 | I9: ='[1]Podklady RZ'!I379 -> 42.87751 | ... O9: ='[1]Podklady RZ'!O379 -> 0.020849673
A10: Biomass | B10: ='[1]Podklady RZ'!B380 -> 111.30326 | C10: ='[1]Podklady RZ'!C380 -> 96.85159 | D10: ='[1]Podklady RZ'!D380 -> 76.14173 | E10: ='[1]Podklady RZ'!E380 -> 49.9541 | F10: ='[1]Podklady RZ'!F380 -> 39.00267 | G10: ='[1]Podklady RZ'!G380 -> 16.938445 | H10: ='[1]Podklady RZ'!H380 -> 17.388064 | I10: ='[1]Podklady RZ'!I380 -> 17.014979 | ... O10: ='[1]Podklady RZ'!O380 -> 0.064390277
A11: Biogas | B11: ='[1]Podklady RZ'!B381 -> 5.413972 | C11: ='[1]Podklady RZ'!C381 -> 5.066867 | D11: ='[1]Podklady RZ'!D381 -> 4.552279 | E11: ='[1]Podklady RZ'!E381 -> 3.271742 | F11: ='[1]Podklady RZ'!F381 -> 2.480436 | G11: ='[1]Podklady RZ'!G381 -> 1.170224 | H11: ='[1]Podklady RZ'!H381 -> 1.074265 | I11: ='[1]Podklady RZ'!I381 -> 1.123535 | ... O11: ='[1]Podklady RZ'!O381 -> 0.076122793
A12: Hard coal | B12: ='[1]Podklady RZ'!B382 -> 0 | C12: ='[1]Podklady RZ'!C382 -> 0 | D12: ='[1]Podklady RZ'!D382 -> 0 | E12: ='[1]Podklady RZ'!E382 -> 0 | F12: ='[1]Podklady RZ'!F382 -> 0 | G12: ='[1]Podklady RZ'!G382 -> 0 | H12: ='[1]Podklady RZ'!H382 -> 0 | I12: ='[1]Podklady RZ'!I382 -> 0 | ... O12: ='[1]Podklady RZ'!O382 -> 0
A13: Electrical energy | B13: ='[1]Podklady RZ'!B383 -> 0 | C13: ='[1]Podklady RZ'!C383 -> 0 | D13: ='[1]Podklady RZ'!D383 -> 0.005 | E13: ='[1]Podklady RZ'!E383 -> 0.45894 | F13: ='[1]Podklady RZ'!F383 -> 0.36943 | G13: ='[1]Podklady RZ'!G383 -> 0.16796 | H13: ='[1]Podklady RZ'!H383 -> 0.14853 | I13: ='[1]Podklady RZ'!I383 -> 0.11116 | ... O13: ='[1]Podklady RZ'!O383 -> 0.02780794
A14: Ambient energy (heat pump) | B14: ='[1]Podklady RZ'!B384 -> 0.5187 | C14: ='[1]Podklady RZ'!C384 -> 1.02435 | D14: ='[1]Podklady RZ'!D384 -> 0.07136 | E14: ='[1]Podklady RZ'!E384 -> 0.50301 | F14: ='[1]Podklady RZ'!F384 -> 0.52227 | G14: ='[1]Podklady RZ'!G384 -> 0.27466 | H14: ='[1]Podklady RZ'!H384 -> 0.01386 | I14: ='[1]Podklady RZ'!I384 -> 0.01298 | ... O14: ='[1]Podklady RZ'!O384 -> 0.037518423
A15: Solar energy (solar panel) | B15: ='[1]Podklady RZ'!B385 -> 0.0018 | C15: ='[1]Podklady RZ'!C385 -> 0.0084 | D15: ='[1]Podklady RZ'!D385 -> 0.0141 | E15: ='[1]Podklady RZ'!E385 -> 0.0187 | F15: ='[1]Podklady RZ'!F385 -> 0.0163 | G15: ='[1]Podklady RZ'!G385 -> 0.0248 | H15: ='[1]Podklady RZ'!H385 -> 0.0191 | I15: ='[1]Podklady RZ'!I385 -> 0.0234 | ... O15: ='[1]Podklady RZ'!O385 -> 0.15582223
A16: Brown coal | B16: ='[1]Podklady RZ'!B386 -> 40.010565 | C16: ='[1]Podklady RZ'!C386 -> 37.414564 | D16: ='[1]Podklady RZ'!D386 -> 27.66049 | E16: ='[1]Podklady RZ'!E386 -> 11.355487 | F16: ='[1]Podklady RZ'!F386 -> 0.395 | G16: ='[1]Podklady RZ'!G386 -> 0 | H16: ='[1]Podklady RZ'!H386 -> 0 | I16: ='[1]Podklady RZ'!I386 -> 0 | ... O16: ='[1]Podklady RZ'!O386 -> 0.0057692959
A17: Nuclear fuel | B17: ='[1]Podklady RZ'!B387 -> 6.51056 | C17: ='[1]Podklady RZ'!C387 -> 5.63534 | D17: ='[1]Podklady RZ'!D387 -> 5.02678 | E17: ='[1]Podklady RZ'!E387 -> 3.56795 | F17: ='[1]Podklady RZ'!F387 -> 1.58531 | G17: ='[1]Podklady RZ'!G387 -> 1.03074 | H17: ='[1]Podklady RZ'!H387 -> 1.03002 | I17: ='[1]Podklady RZ'!I387 -> 1.03002 | ... O17: ='[1]Podklady RZ'!O387 -> 0.040309659
A18: Coke | B18: ='[1]Podklady RZ'!B388 -> 0 | C18: ='[1]Podklady RZ'!C388 -> 0 | D18: ='[1]Podklady RZ'!D388 -> 0 | E18: ='[1]Podklady RZ'!E388 -> 0 | F18: ='[1]Podklady RZ'!F388 -> 0 | G18: ='[1]Podklady RZ'!G388 -> 0 | H18: ='[1]Podklady RZ'!H388 -> 0 | I18: ='[1]Podklady RZ'!I388 -> 0 | ... O18: ='[1]Podklady RZ'!O388 -> 0
... A34: Other | B34: ='[1]Podklady RZ'!B404 -> 4.670319 | C34: ='[1]Podklady RZ'!C404 -> 3.19872 | D34: ='[1]Podklady RZ'!D404 -> 2.75107 | E34: ='[1]Podklady RZ'!E404 -> 1.023725 | F34: ='[1]Podklady RZ'!F404 -> 1.36234 | G34: ='[1]Podklady RZ'!G404 -> 0.97044 | H34: ='[1]Podklady RZ'!H404 -> 0.75893 | I34: ='[1]Podklady RZ'!I404 -> 0.57113 | ... O34: ='[1]Podklady RZ'!O404 -> 0.012386705
A35: * The difference between supply and consumption includes losses of bought heat and a part of unidentified heat distribution.
M39: Installed capacity | N39: =O7 -> 0.016660744
M40: Gross heat production | N40: =O8 -> 0.026375057
M41: Heat supply | N41: =O9 -> 0.020849673

Sheet 8.6
A1: 8.6 Heat production, supply and consumption: Královéhradecký Region | O1: ='3'!N1 -> 2022
B5: First quarter | E5: Second quarter | H5: Third quarter | K5: Fourth quarter | N5: Total | O5: Share in CR
B6: January | C6: February | D6: March | E6: April | F6: May | G6: June | H6: July | I6: August | J6: September | K6: October | L6: November | M6: December
A7: Total installed capacity [MWt] | B7: ='[1]Podklady RZ'!B412 -> 977.321 | C7: ='[1]Podklady RZ'!C412 -> 972.331 | D7: ='[1]Podklady RZ'!D412 -> 972.597 | E7: ='[1]Podklady RZ'!E412 -> 977.4471 | F7: ='[1]Podklady RZ'!F412 -> 977.4531 | G7: ='[1]Podklady RZ'!G412 -> 977.8131 | H7: ='[1]Podklady RZ'!H412 -> 977.1071 | I7: ='[1]Podklady RZ'!I412 -> 977.1071 | ... O7: ='[1]Podklady RZ'!O412 -> 0.025392932
A8: Gross heat production [TJ] | B8: ='[1]Podklady RZ'!B413 -> 577.04799 | C8: ='[1]Podklady RZ'!C413 -> 466.03972 | D8: ='[1]Podklady RZ'!D413 -> 390.98163 | E8: ='[1]Podklady RZ'!E413 -> 290.69342 | F8: ='[1]Podklady RZ'!F413 -> 261.55406 | G8: ='[1]Podklady RZ'!G413 -> 183.29052 | H8: ='[1]Podklady RZ'!H413 -> 159.35952 | I8: ='[1]Podklady RZ'!I413 -> 172.03743 | ... O8: ='[1]Podklady RZ'!O413 -> 0.030758912
A9: Heat supply by fuel [TJ] | B9: ='[1]Podklady RZ'!B414 -> 387.37087 | C9: ='[1]Podklady RZ'!C414 -> 352.12165 | D9: ='[1]Podklady RZ'!D414 -> 294.40726 | E9: ='[1]Podklady RZ'!E414 -> 206.16687 | F9: ='[1]Podklady RZ'!F414 -> 181.03841 | G9: ='[1]Podklady RZ'!G414 -> 110.59151 | H9: ='[1]Podklady RZ'!H414 -> 89.130255 | I9: ='[1]Podklady RZ'!I414 -> 101.68974 | ... O9: ='[1]Podklady RZ'!O414 -> 0.035558387
A10: Biomass | B10: ='[1]Podklady RZ'!B415 -> 89.231242 | C10: ='[1]Podklady RZ'!C415 -> 77.25958 | D10: ='[1]Podklady RZ'!D415 -> 78.15053 | E10: ='[1]Podklady RZ'!E415 -> 95.29846 | F10: ='[1]Podklady RZ'!F415 -> 70.0547 | G10: ='[1]Podklady RZ'!G415 -> 50.19969 | H10: ='[1]Podklady RZ'!H415 -> 28.47826 | I10: ='[1]Podklady RZ'!I415 -> 12.30848 | ... O10: ='[1]Podklady RZ'!O415 -> 0.076581355
A11: Biogas | B11: ='[1]Podklady RZ'!B416 -> 4.934 | C11: ='[1]Podklady RZ'!C416 -> 3.983 | D11: ='[1]Podklady RZ'!D416 -> 3.632 | E11: ='[1]Podklady RZ'!E416 -> 2.6 | F11: ='[1]Podklady RZ'!F416 -> 2.478 | G11: ='[1]Podklady RZ'!G416 -> 0.913 | H11: ='[1]Podklady RZ'!H416 -> 0.819 | I11: ='[1]Podklady RZ'!I416 -> 0.704 | ... O11: ='[1]Podklady RZ'!O416 -> 0.060903156
A12: Hard coal | B12: ='[1]Podklady RZ'!B417 -> 0.10628 | C12: ='[1]Podklady RZ'!C417 -> 0 | D12: ='[1]Podklady RZ'!D417 -> 0.02149 | E12: ='[1]Podklady RZ'!E417 -> 0 | F12: ='[1]Podklady RZ'!F417 -> 0.06757 | G12: ='[1]Podklady RZ'!G417 -> 0 | H12: ='[1]Podklady RZ'!H417 -> 0 | I12: ='[1]Podklady RZ'!I417 -> 0 | ... O12: ='[1]Podklady RZ'!O417 -> 3.7348031e-05
A13: Electrical energy | B13: ='[1]Podklady RZ'!B418 -> 0.0721 | C13: ='[1]Podklady RZ'!C418 -> 0.1297 | D13: ='[1]Podklady RZ'!D418 -> 0.2361 | E13: ='[1]Podklady RZ'!E418 -> 0.5829 | F13: ='[1]Podklady RZ'!F418 -> 0.1585 | G13: ='[1]Podklady RZ'!G418 -> 0.1791 | H13: ='[1]Podklady RZ'!H418 -> 0.0275 | I13: ='[1]Podklady RZ'!I418 -> 0.0727 | ... O13: ='[1]Podklady RZ'!O418 -> 0.032349454
A14: Ambient energy (heat pump) | B14: ='[1]Podklady RZ'!B419 -> 0 | C14: ='[1]Podklady RZ'!C419 -> 0 | D14: ='[1]Podklady RZ'!D419 -> 0 | E14: ='[1]Podklady RZ'!E419 -> 0 | F14: ='[1]Podklady RZ'!F419 -> 0 | G14: ='[1]Podklady RZ'!G419 -> 0 | H14: ='[1]Podklady RZ'!H419 -> 0 | I14: ='[1]Podklady RZ'!I419 -> 0 | ... O14: ='[1]Podklady RZ'!O419 -> 0
A15: Solar energy (solar panel) | B15: ='[1]Podklady RZ'!B420 -> 0 | C15: ='[1]Podklady RZ'!C420 -> 0 | D15: ='[1]Podklady RZ'!D420 -> 0.0014 | E15: ='[1]Podklady RZ'!E420 -> 0.0013 | F15: ='[1]Podklady RZ'!F420 -> 0.0012 | G15: ='[1]Podklady RZ'!G420 -> 0.0024 | H15: ='[1]Podklady RZ'!H420 -> 0.0011 | I15: ='[1]Podklady RZ'!I420 -> 0.0014 | ... O15: ='[1]Podklady RZ'!O420 -> 0.011045626
A16: Brown coal | B16: ='[1]Podklady RZ'!B421 -> 147.46642 | C16: ='[1]Podklady RZ'!C421 -> 135.95353 | D16: ='[1]Podklady RZ'!D421 -> 106.55892 | E16: ='[1]Podklady RZ'!E421 -> 40.10351 | F16: ='[1]Podklady RZ'!F421 -> 48.42022 | G16: ='[1]Podklady RZ'!G421 -> 22.826 | H16: ='[1]Podklady RZ'!H421 -> 26.0052 | I16: ='[1]Podklady RZ'!I421 -> 55.16582 | ... O16: ='[1]Podklady RZ'!O421 -> 0.028938009
A17: Nuclear fuel | B17: ='[1]Podklady RZ'!B422 -> 0 | C17: ='[1]Podklady RZ'!C422 -> 0 | D17: ='[1]Podklady RZ'!D422 -> 0 | E17: ='[1]Podklady RZ'!E422 -> 0 | F17: ='[1]Podklady RZ'!F422 -> 0 | G17: ='[1]Podklady RZ'!G422 -> 0 | H17: ='[1]Podklady RZ'!H422 -> 0 | I17: ='[1]Podklady RZ'!I422 -> 0 | ... O17: ='[1]Podklady RZ'!O422 -> 0
A18: Coke | B18: ='[1]Podklady RZ'!B423 -> 0 | C18: ='[1]Podklady RZ'!C423 -> 0 | D18: ='[1]Podklady RZ'!D423 -> 0 | E18: ='[1]Podklady RZ'!E423 -> 0 | F18: ='[1]Podklady RZ'!F423 -> 0 | G18: ='[1]Podklady RZ'!G423 -> 0 | H18: ='[1]Podklady RZ'!H423 -> 0 | I18: ='[1]Podklady RZ'!I423 -> 0 | ... O18: ='[1]Podklady RZ'!O423 -> 0
... A25: Natural gas | B25: ='[1]Podklady RZ'!B430 -> 145.14907 | C25: ='[1]Podklady RZ'!C430 -> 132.5561 | D25: ='[1]Podklady RZ'!D430 -> 103.65681 | E25: ='[1]Podklady RZ'!E430 -> 67.396699 | F25: ='[1]Podklady RZ'!F430 -> 59.618946 | G25: ='[1]Podklady RZ'!G430 -> 36.367318 | H25: ='[1]Podklady RZ'!H430 -> 33.799195 | I25: ='[1]Podklady RZ'!I430 -> 33.437336 | ... O25: ='[1]Podklady RZ'!O430 -> 0.046135856
A26: Heat supply from Pardubický Region | B26: ='[1]Podklady RZ'!B431 -> 175.47921 | C26: ='[1]Podklady RZ'!C431 -> 156.54373 | D26: ='[1]Podklady RZ'!D431 -> 117.58803 | E26: ='[1]Podklady RZ'!E431 -> 71.066484 | F26: ='[1]Podklady RZ'!F431 -> 58.434321 | G26: ='[1]Podklady RZ'!G431 -> 23.1746 | H26: ='[1]Podklady RZ'!H431 -> 20.866763 | I26: ='[1]Podklady RZ'!I431 -> 21.974521 | ... N26: ='[1]Podklady RZ'!N431 -> 1077.9051
A27: Heat consumption by economic sector* | B27: ='[1]Podklady RZ'!B432 -> 484.66348 | C27: ='[1]Podklady RZ'!C432 -> 435.20302 | D27: ='[1]Podklady RZ'!D432 -> 343.36213 | E27: ='[1]Podklady RZ'!E432 -> 219.09394 | F27: ='[1]Podklady RZ'!F432 -> 185.18999 | G27: ='[1]Podklady RZ'!G432 -> 96.165559 | H27: ='[1]Podklady RZ'!H432 -> 82.343816 | I27: ='[1]Podklady RZ'!I432 -> 85.959306 | ... O27: ='[1]Podklady RZ'!O432 -> 0.045804546
A28: Industry | B28: ='[1]Podklady RZ'!B433 -> 74.975716 | C28: ='[1]Podklady RZ'!C433 -> 73.093344 | D28: ='[1]Podklady RZ'!D433 -> 70.166936 | E28: ='[1]Podklady RZ'!E433 -> 56.571092 | F28: ='[1]Podklady RZ'!F433 -> 51.304143 | G28: ='[1]Podklady RZ'!G433 -> 38.906081 | H28: ='[1]Podklady RZ'!H433 -> 30.195926 | I28: ='[1]Podklady RZ'!I433 -> 31.0816 | ... O28: ='[1]Podklady RZ'!O433 -> 0.043777057
A29: Energy | B29: ='[1]Podklady RZ'!B434 -> 0.92548 | C29: ='[1]Podklady RZ'!C434 -> 1.21736 | D29: ='[1]Podklady RZ'!D434 -> 1.15763 | E29: ='[1]Podklady RZ'!E434 -> 0.69456 | F29: ='[1]Podklady RZ'!F434 -> 0.45265 | G29: ='[1]Podklady RZ'!G434 -> 0.26434 | H29: ='[1]Podklady RZ'!H434 -> 0.12143 | I29: ='[1]Podklady RZ'!I434 -> 0.18423 | ... O29: ='[1]Podklady RZ'!O434 -> 0.0057712102
A30: Transport | B30: ='[1]Podklady RZ'!B435 -> 2.671 | C30: ='[1]Podklady RZ'!C435 -> 2.4248 | D30: ='[1]Podklady RZ'!D435 -> 1.8927 | E30: ='[1]Podklady RZ'!E435 -> 0.9579 | F30: ='[1]Podklady RZ'!F435 -> 0.7 | G30: ='[1]Podklady RZ'!G435 -> 0.1975 | H30: ='[1]Podklady RZ'!H435 -> 0.1484 | I30: ='[1]Podklady RZ'!I435 -> 0.1425 | ... O30: ='[1]Podklady RZ'!O435 -> 0.027652196
A31: Construction | B31: ='[1]Podklady RZ'!B436 -> 1.298 | C31: ='[1]Podklady RZ'!C436 -> 1.18 | D31: ='[1]Podklady RZ'!D436 -> 0.853 | E31: ='[1]Podklady RZ'!E436 -> 0.456 | F31: ='[1]Podklady RZ'!F436 -> 0.26 | G31: ='[1]Podklady RZ'!G436 -> 0.069 | H31: ='[1]Podklady RZ'!H436 -> 0.04 | I31: ='[1]Podklady RZ'!I436 -> 0.045 | ... O31: ='[1]Podklady RZ'!O436 -> 0.03638465
A32: Farming and forestry | B32: ='[1]Podklady RZ'!B437 -> 0.172 | C32: ='[1]Podklady RZ'!C437 -> 0.149 | D32: ='[1]Podklady RZ'!D437 -> 0.095 | E32: ='[1]Podklady RZ'!E437 -> 0.057 | F32: ='[1]Podklady RZ'!F437 -> 0.052 | G32: ='[1]Podklady RZ'!G437 -> 0.007 | H32: ='[1]Podklady RZ'!H437 -> 0.005 | I32: ='[1]Podklady RZ'!I437 -> 0.006 | ... O32: ='[1]Podklady RZ'!O437 -> 0.0023236284
A33: Households | B33: ='[1]Podklady RZ'!B438 -> 235.25526 | C33: ='[1]Podklady RZ'!C438 -> 206.28558 | D33: ='[1]Podklady RZ'!D438 -> 154.36994 | E33: ='[1]Podklady RZ'!E438 -> 92.286998 | F33: ='[1]Podklady RZ'!F438 -> 77.788685 | G33: ='[1]Podklady RZ'!G438 -> 32.220538 | H33: ='[1]Podklady RZ'!H438 -> 30.464196 | I33: ='[1]Podklady RZ'!I438 -> 31.361556 | ... O33: ='[1]Podklady RZ'!O438 -> 0.04346815
A34: Retail, services, schools, health care | B34: ='[1]Podklady RZ'!B439 -> 163.19319 | C34: ='[1]Podklady RZ'!C439 -> 145.29391 | D34: ='[1]Podklady RZ'!D439 -> 110.18736 | E34: ='[1]Podklady RZ'!E439 -> 64.761498 | F34: ='[1]Podklady RZ'!F439 -> 51.427841 | G34: ='[1]Podklady RZ'!G439 -> 22.226148 | H34: ='[1]Podklady RZ'!H439 -> 19.143479 | I34: ='[1]Podklady RZ'!I439 -> 20.977179 | ... O34: ='[1]Podklady RZ'!O439 -> 0.059536489
A35: Other | B35: ='[1]Podklady RZ'!B440 -> 6.172838 | C35: ='[1]Podklady RZ'!C440 -> 5.559028 | D35: ='[1]Podklady RZ'!D440 -> 4.63956 | E35: ='[1]Podklady RZ'!E440 -> 3.308894 | F35: ='[1]Podklady RZ'!F440 -> 3.204675 | G35: ='[1]Podklady RZ'!G440 -> 2.274952 | H35: ='[1]Podklady RZ'!H440 -> 2.225385 | I35: ='[1]Podklady RZ'!I440 -> 2.161241 | ... O35: ='[1]Podklady RZ'!O440 -> 0.029980707
A36: * The difference between supply and consumption includes losses of bought heat and a part of unidentified heat distribution.
M40: Installed capacity | N40: =O7 -> 0.025392932
M41: Gross heat production | N41: =O8 -> 0.030758912
M42: Heat supply | N42: =O9 -> 0.035558387

Sheet 8.7
A1: 8.7 Heat production, supply and consumption: Liberecký Region | O1: ='3'!N1 -> 2022
B5: First quarter | E5: Second quarter | H5: Third quarter | K5: Fourth quarter | N5: Total | O5: Share in CR
B6: January | C6: February | D6: March | E6: April | F6: May | G6: June | H6: July | I6: August | J6: September | K6: October | L6: November | M6: December
A7: Total installed capacity [MWt] | B7: ='[1]Podklady RZ'!B448 -> 458.1734 | C7: ='[1]Podklady RZ'!C448 -> 453.8734 | D7: ='[1]Podklady RZ'!D448 -> 453.8734 | E7: ='[1]Podklady RZ'!E448 -> 457.9804 | F7: ='[1]Podklady RZ'!F448 -> 457.9804 | G7: ='[1]Podklady RZ'!G448 -> 459.4074 | H7: ='[1]Podklady RZ'!H448 -> 461.4054 | I7: ='[1]Podklady RZ'!I448 -> 461.4054 | ... O7: ='[1]Podklady RZ'!O448 -> 0.012046786
A8: Gross heat production [TJ] | B8: ='[1]Podklady RZ'!B449 -> 320.51496 | C8: ='[1]Podklady RZ'!C449 -> 291.27962 | D8: ='[1]Podklady RZ'!D449 -> 233.2752 | E8: ='[1]Podklady RZ'!E449 -> 169.58791 | F8: ='[1]Podklady RZ'!F449 -> 139.49207 | G8: ='[1]Podklady RZ'!G449 -> 108.26815 | H8: ='[1]Podklady RZ'!H449 -> 108.78135 | I8: ='[1]Podklady RZ'!I449 -> 111.67088 | ... O8: ='[1]Podklady RZ'!O449 -> 0.017017826
A9: Heat supply by fuel [TJ] | B9: ='[1]Podklady RZ'!B450 -> 285.88827 | C9: ='[1]Podklady RZ'!C450 -> 259.5313 | D9: ='[1]Podklady RZ'!D450 -> 203.3616 | E9: ='[1]Podklady RZ'!E450 -> 136.01511 | F9: ='[1]Podklady RZ'!F450 -> 108.01387 | G9: ='[1]Podklady RZ'!G450 -> 47.397124 | H9: ='[1]Podklady RZ'!H450 -> 45.368429 | I9: ='[1]Podklady RZ'!I450 -> 48.169672 | ... O9: ='[1]Podklady RZ'!O450 -> 0.023788282
A10: Biomass | B10: ='[1]Podklady RZ'!B451 -> 0.429548 | C10: ='[1]Podklady RZ'!C451 -> 0.513254 | D10: ='[1]Podklady RZ'!D451 -> 0.49741 | E10: ='[1]Podklady RZ'!E451 -> 0.327787 | F10: ='[1]Podklady RZ'!F451 -> 0.165781 | G10: ='[1]Podklady RZ'!G451 -> 0.052445 | H10: ='[1]Podklady RZ'!H451 -> 0.052648 | I10: ='[1]Podklady RZ'!I451 -> 0.265733 | ... O10: ='[1]Podklady RZ'!O451 -> 0.00037398673
A11: Biogas | B11: ='[1]Podklady RZ'!B452 -> 0.88553 | C11: ='[1]Podklady RZ'!C452 -> 0.81961 | D11: ='[1]Podklady RZ'!D452 -> 0.82701 | E11: ='[1]Podklady RZ'!E452 -> 0.67411 | F11: ='[1]Podklady RZ'!F452 -> 0.58181 | G11: ='[1]Podklady RZ'!G452 -> 0.67837 | H11: ='[1]Podklady RZ'!H452 -> 0.52938 | I11: ='[1]Podklady RZ'!I452 -> 0.56904 | ... O11: ='[1]Podklady RZ'!O452 -> 0.015385392
A12: Hard coal | B12: ='[1]Podklady RZ'!B453 -> 0 | C12: ='[1]Podklady RZ'!C453 -> 0 | D12: ='[1]Podklady RZ'!D453 -> 0 | E12: ='[1]Podklady RZ'!E453 -> 0 | F12: ='[1]Podklady RZ'!F453 -> 0 | G12: ='[1]Podklady RZ'!G453 -> 0 | H12: ='[1]Podklady RZ'!H453 -> 0 | I12: ='[1]Podklady RZ'!I453 -> 0 | ... O12: ='[1]Podklady RZ'!O453 -> 0
A13: Electrical energy | B13: ='[1]Podklady RZ'!B454 -> 0.048 | C13: ='[1]Podklady RZ'!C454 -> 0.052 | D13: ='[1]Podklady RZ'!D454 -> 0.1 | E13: ='[1]Podklady RZ'!E454 -> 0.33787 | F13: ='[1]Podklady RZ'!F454 -> 0.28568 | G13: ='[1]Podklady RZ'!G454 -> 0.44692 | H13: ='[1]Podklady RZ'!H454 -> 0.118 | I13: ='[1]Podklady RZ'!I454 -> 0.253 | ... O13: ='[1]Podklady RZ'!O454 -> 0.034435948
A14: Ambient energy (heat pump) | B14: ='[1]Podklady RZ'!B455 -> 0.113 | C14: ='[1]Podklady RZ'!C455 -> 0.104 | D14: ='[1]Podklady RZ'!D455 -> 0.091 | E14: ='[1]Podklady RZ'!E455 -> 0.067 | F14: ='[1]Podklady RZ'!F455 -> 0.059 | G14: ='[1]Podklady RZ'!G455 -> 0.043 | H14: ='[1]Podklady RZ'!H455 -> 0.043 | I14: ='[1]Podklady RZ'!I455 -> 0.044 | ... O14: ='[1]Podklady RZ'!O455 -> 0.010303643
A15: Solar energy (solar panel) | B15: ='[1]Podklady RZ'!B456 -> 0 | C15: ='[1]Podklady RZ'!C456 -> 0 | D15: ='[1]Podklady RZ'!D456 -> 0 | E15: ='[1]Podklady RZ'!E456 -> 0 | F15: ='[1]Podklady RZ'!F456 -> 0 | G15: ='[1]Podklady RZ'!G456 -> 0 | H15: ='[1]Podklady RZ'!H456 -> 0 | I15: ='[1]Podklady RZ'!I456 -> 0 | ... O15: ='[1]Podklady RZ'!O456 -> 0
A16: Brown coal | B16: ='[1]Podklady RZ'!B457 -> 11.457232 | C16: ='[1]Podklady RZ'!C457 -> 10.224716 | D16: ='[1]Podklady RZ'!D457 -> 8.64981 | E16: ='[1]Podklady RZ'!E457 -> 5.717003 | F16: ='[1]Podklady RZ'!F457 -> 2.720809 | G16: ='[1]Podklady RZ'!G457 -> 1.054153 | H16: ='[1]Podklady RZ'!H457 -> 1.004629 | I16: ='[1]Podklady RZ'!I457 -> 0.587958 | ... O16: ='[1]Podklady RZ'!O457 -> 0.0020218439
A17: Nuclear fuel | B17: ='[1]Podklady RZ'!B458 -> 0 | C17: ='[1]Podklady RZ'!C458 -> 0 | D17: ='[1]Podklady RZ'!D458 -> 0 | E17: ='[1]Podklady RZ'!E458 -> 0 | F17: ='[1]Podklady RZ'!F458 -> 0 | G17: ='[1]Podklady RZ'!G458 -> 0 | H17: ='[1]Podklady RZ'!H458 -> 0 | I17: ='[1]Podklady RZ'!I458 -> 0 | ... O17: ='[1]Podklady RZ'!O458 -> 0
A18: Coke | B18: ='[1]Podklady RZ'!B459 -> 0 | C18: ='[1]Podklady RZ'!C459 -> 0 | D18: ='[1]Podklady RZ'!D459 -> 0 | E18: ='[1]Podklady RZ'!E459 -> 0 | F18: ='[1]Podklady RZ'!F459 -> 0 | G18: ='[1]Podklady RZ'!G459 -> 0 | H18: ='[1]Podklady RZ'!H459 -> 0 | I18: ='[1]Podklady RZ'!I459 -> 0 | ... O18: ='[1]Podklady RZ'!O459 -> 0
... A34: Other | B34: ='[1]Podklady RZ'!B475 -> 1.977491 | C34: ='[1]Podklady RZ'!C475 -> 1.791665 | D34: ='[1]Podklady RZ'!D475 -> 1.515543 | E34: ='[1]Podklady RZ'!E475 -> 0.719944 | F34: ='[1]Podklady RZ'!F475 -> 0.379606 | G34: ='[1]Podklady RZ'!G475 -> 0.194862 | H34: ='[1]Podklady RZ'!H475 -> 0.183768 | I34: ='[1]Podklady RZ'!I475 -> 0.183105 | ... O34: ='[1]Podklady RZ'!O475 -> 0.0070248296
A35: * The difference between supply and consumption includes losses of bought heat and a part of unidentified heat distribution.
M39: Installed capacity | N39: =O7 -> 0.012046786
M40: Gross heat production | N40: =O8 -> 0.017017826
M41: Heat supply | N41: =O9 -> 0.023788282

Sheet 8.8
A1: 8.8 Heat production, supply and consumption: Moravskoslezský Region | O1: ='3'!N1 -> 2022
B5: First quarter | E5: Second quarter | H5: Third quarter | K5: Fourth quarter | N5: Total | O5: Share in CR
B6: January | C6: February | D6: March | E6: April | F6: May | G6: June | H6: July | I6: August | J6: September | K6: October | L6: November | M6: December
A7: Total installed capacity [MWt] | B7: ='[1]Podklady RZ'!B483 -> 5969.8744 | C7: ='[1]Podklady RZ'!C483 -> 5964.0544 | D7: ='[1]Podklady RZ'!D483 -> 5088.9544 | E7: ='[1]Podklady RZ'!E483 -> 5095.6004 | F7: ='[1]Podklady RZ'!F483 -> 5095.6004 | G7: ='[1]Podklady RZ'!G483 -> 5052.3534 | H7: ='[1]Podklady RZ'!H483 -> 5038.9164 | I7: ='[1]Podklady RZ'!I483 -> 5038.6114 | ... O7: ='[1]Podklady RZ'!O483 -> 0.13181924
A8: Gross heat production [TJ] | B8: ='[1]Podklady RZ'!B484 -> 2898.5001 | C8: ='[1]Podklady RZ'!C484 -> 2596.5933 | D8: ='[1]Podklady RZ'!D484 -> 2278.9672 | E8: ='[1]Podklady RZ'!E484 -> 1797.4504 | F8: ='[1]Podklady RZ'!F484 -> 1727.073 | G8: ='[1]Podklady RZ'!G484 -> 1361.2338 | H8: ='[1]Podklady RZ'!H484 -> 1365.6938 | I8: ='[1]Podklady RZ'!I484 -> 1281.7342 | ... O8: ='[1]Podklady RZ'!O484 -> 0.17164268
A9: Heat supply by fuel [TJ] | B9: ='[1]Podklady RZ'!B485 -> 1605.0513 | C9: ='[1]Podklady RZ'!C485 -> 1489.3657 | D9: ='[1]Podklady RZ'!D485 -> 1127.6537 | E9: ='[1]Podklady RZ'!E485 -> 716.18655 | F9: ='[1]Podklady RZ'!F485 -> 629.12455 | G9: ='[1]Podklady RZ'!G485 -> 312.9873 | H9: ='[1]Podklady RZ'!H485 -> 305.75703 | I9: ='[1]Podklady RZ'!I485 -> 312.08865 | ... O9: ='[1]Podklady RZ'!O485 -> 0.1385234
A10: Biomass | B10: ='[1]Podklady RZ'!B486 -> 115.86934 | C10: ='[1]Podklady RZ'!C486 -> 92.074122 | D10: ='[1]Podklady RZ'!D486 -> 94.352404 | E10: ='[1]Podklady RZ'!E486 -> 64.504919 | F10: ='[1]Podklady RZ'!F486 -> 60.74869 | G10: ='[1]Podklady RZ'!G486 -> 33.646909 | H10: ='[1]Podklady RZ'!H486 -> 31.696916 | I10: ='[1]Podklady RZ'!I486 -> 16.527387 | ... O10: ='[1]Podklady RZ'!O486 -> 0.081626305
A11: Biogas | B11: ='[1]Podklady RZ'!B487 -> 0.160609 | C11: ='[1]Podklady RZ'!C487 -> 0.135856 | D11: ='[1]Podklady RZ'!D487 -> 0.068299 | E11: ='[1]Podklady RZ'!E487 -> 0.07629 | F11: ='[1]Podklady RZ'!F487 -> 0.057679 | G11: ='[1]Podklady RZ'!G487 -> 0.040035 | H11: ='[1]Podklady RZ'!H487 -> 0.051303 | I11: ='[1]Podklady RZ'!I487 -> 0.04475 | ... O11: ='[1]Podklady RZ'!O487 -> 0.0067875546
A12: Hard coal | B12: ='[1]Podklady RZ'!B488 -> 849.0549 | C12: ='[1]Podklady RZ'!C488 -> 791.12171 | D12: ='[1]Podklady RZ'!D488 -> 581.49886 | E12: ='[1]Podklady RZ'!E488 -> 328.26144 | F12: ='[1]Podklady RZ'!F488 -> 254.99113 | G12: ='[1]Podklady RZ'!G488 -> 100.2792 | H12: ='[1]Podklady RZ'!H488 -> 85.915235 | I12: ='[1]Podklady RZ'!I488 -> 124.36053 | ... O12: ='[1]Podklady RZ'!O488 -> 0.97264113
A13: Electrical energy | B13: ='[1]Podklady RZ'!B489 -> 0.018494 | C13: ='[1]Podklady RZ'!C489 -> 0.015753 | D13: ='[1]Podklady RZ'!D489 -> 0.002 | E13: ='[1]Podklady RZ'!E489 -> 0.021 | F13: ='[1]Podklady RZ'!F489 -> 0.034 | G13: ='[1]Podklady RZ'!G489 -> 0.043088 | H13: ='[1]Podklady RZ'!H489 -> 0.019624 | I13: ='[1]Podklady RZ'!I489 -> 0.0468 | ... O13: ='[1]Podklady RZ'!O489 -> 0.0043719402
A14: Ambient energy (heat pump) | B14: ='[1]Podklady RZ'!B490 -> 0 | C14: ='[1]Podklady RZ'!C490 -> 0 | D14: ='[1]Podklady RZ'!D490 -> 0 | E14: ='[1]Podklady RZ'!E490 -> 0 | F14: ='[1]Podklady RZ'!F490 -> 0 | G14: ='[1]Podklady RZ'!G490 -> 0 | H14: ='[1]Podklady RZ'!H490 -> 0 | I14: ='[1]Podklady RZ'!I490 -> 0 | ... O14: ='[1]Podklady RZ'!O490 -> 0
A15: Solar energy (solar panel) | B15: ='[1]Podklady RZ'!B491 -> 0 | C15: ='[1]Podklady RZ'!C491 -> 0 | D15: ='[1]Podklady RZ'!D491 -> 0 | E15: ='[1]Podklady RZ'!E491 -> 0 | F15: ='[1]Podklady RZ'!F491 -> 0 | G15: ='[1]Podklady RZ'!G491 -> 0 | H15: ='[1]Podklady RZ'!H491 -> 0 | I15: ='[1]Podklady RZ'!I491 -> 0 | ... O15: ='[1]Podklady RZ'!O491 -> 0
A16: Brown coal | B16: ='[1]Podklady RZ'!B492 -> 30.5394 | C16: ='[1]Podklady RZ'!C492 -> 31.05723 | D16: ='[1]Podklady RZ'!D492 -> 23.90395 | E16: ='[1]Podklady RZ'!E492 -> 12.62964 | F16: ='[1]Podklady RZ'!F492 -> 8.87422 | G16: ='[1]Podklady RZ'!G492 -> 3.08855 | H16: ='[1]Podklady RZ'!H492 -> 2.56034 | I16: ='[1]Podklady RZ'!I492 -> 2.98595 | ... O16: ='[1]Podklady RZ'!O492 -> 0.0064535753
A17: Nuclear fuel | B17: ='[1]Podklady RZ'!B493 -> 0 | C17: ='[1]Podklady RZ'!C493 -> 0 | D17: ='[1]Podklady RZ'!D493 -> 0 | E17: ='[1]Podklady RZ'!E493 -> 0 | F17: ='[1]Podklady RZ'!F493 -> 0 | G17: ='[1]Podklady RZ'!G493 -> 0 | H17: ='[1]Podklady RZ'!H493 -> 0 | I17: ='[1]Podklady RZ'!I493 -> 0 | ... O17: ='[1]Podklady RZ'!O493 -> 0
A18: Coke | B18: ='[1]Podklady RZ'!B494 -> 0 | C18: ='[1]Podklady RZ'!C494 -> 0 | D18: ='[1]Podklady RZ'!D494 -> 0 | E18: ='[1]Podklady RZ'!E494 -> 0 | F18: ='[1]Podklady RZ'!F494 -> 0 | G18: ='[1]Podklady RZ'!G494 -> 0 | H18: ='[1]Podklady RZ'!H494 -> 0 | I18: ='[1]Podklady RZ'!I494 -> 0 | ... O18: ='[1]Podklady RZ'!O494 -> 0
... A34: Other | B34: ='[1]Podklady RZ'!B510 -> 8.305719 | C34: ='[1]Podklady RZ'!C510 -> 7.572754 | D34: ='[1]Podklady RZ'!D510 -> 5.130959 | E34: ='[1]Podklady RZ'!E510 -> 3.077575 | F34: ='[1]Podklady RZ'!F510 -> 2.107097 | G34: ='[1]Podklady RZ'!G510 -> 0.970788 | H34: ='[1]Podklady RZ'!H510 -> 0.891021 | I34: ='[1]Podklady RZ'!I510 -> 0.800144 | ... O34: ='[1]Podklady RZ'!O510 -> 0.0315452
A35: * The difference between supply and consumption includes losses of bought heat and a part of unidentified heat distribution.
M39: Installed capacity | N39: =O7 -> 0.13181924
M40: Gross heat production | N40: =O8 -> 0.17164268
M41: Heat supply | N41: =O9 -> 0.1385234

Sheet 8.9
A1: 8.9 Heat production, supply and consumption: Olomoucký Region | O1: ='3'!N1 -> 2022
B5: First quarter | E5: Second quarter | H5: Third quarter | K5: Fourth quarter | N5: Total | O5: Share in CR
B6: January | C6: February | D6: March | E6: April | F6: May | G6: June | H6: July | I6: August | J6: September | K6: October | L6: November | M6: December
A7: Total installed capacity [MWt] | B7: ='[1]Podklady RZ'!B518 -> 1257.9574 | C7: ='[1]Podklady RZ'!C518 -> 1262.0244 | D7: ='[1]Podklady RZ'!D518 -> 1253.8644 | E7: ='[1]Podklady RZ'!E518 -> 1257.5234 | F7: ='[1]Podklady RZ'!F518 -> 1257.5234 | G7: ='[1]Podklady RZ'!G518 -> 1257.5234 | H7: ='[1]Podklady RZ'!H518 -> 1257.5234 | I7: ='[1]Podklady RZ'!I518 -> 1257.5234 | ... O7: ='[1]Podklady RZ'!O518 -> 0.031878088
A8: Gross heat production [TJ] | B8: ='[1]Podklady RZ'!B519 -> 840.45303 | C8: ='[1]Podklady RZ'!C519 -> 731.69727 | D8: ='[1]Podklady RZ'!D519 -> 609.35652 | E8: ='[1]Podklady RZ'!E519 -> 433.18756 | F8: ='[1]Podklady RZ'!F519 -> 396.20481 | G8: ='[1]Podklady RZ'!G519 -> 291.52869 | H8: ='[1]Podklady RZ'!H519 -> 297.36585 | I8: ='[1]Podklady RZ'!I519 -> 298.99764 | ... O8: ='[1]Podklady RZ'!O519 -> 0.046333776
A9: Heat supply by fuel [TJ] | B9: ='[1]Podklady RZ'!B520 -> 474.82686 | C9: ='[1]Podklady RZ'!C520 -> 426.1 | D9: ='[1]Podklady RZ'!D520 -> 325.25528 | E9: ='[1]Podklady RZ'!E520 -> 205.62472 | F9: ='[1]Podklady RZ'!F520 -> 171.54526 | G9: ='[1]Podklady RZ'!G520 -> 98.662651 | H9: ='[1]Podklady RZ'!H520 -> 102.20028 | I9: ='[1]Podklady RZ'!I520 -> 101.92857 | ... O9: ='[1]Podklady RZ'!O520 -> 0.040217003
A10: Biomass | B10: ='[1]Podklady RZ'!B521 -> 12.638402 | C10: ='[1]Podklady RZ'!C521 -> 12.998972 | D10: ='[1]Podklady RZ'!D521 -> 14.001612 | E10: ='[1]Podklady RZ'!E521 -> 10.44609 | F10: ='[1]Podklady RZ'!F521 -> 6.3025 | G10: ='[1]Podklady RZ'!G521 -> 2.908238 | H10: ='[1]Podklady RZ'!H521 -> 2.857341 | I10: ='[1]Podklady RZ'!I521 -> 3.962527 | ... O10: ='[1]Podklady RZ'!O521 -> 0.0084547185
A11: Biogas | B11: ='[1]Podklady RZ'!B522 -> 5.324506 | C11: ='[1]Podklady RZ'!C522 -> 4.664225 | D11: ='[1]Podklady RZ'!D522 -> 4.362539 | E11: ='[1]Podklady RZ'!E522 -> 2.876161 | F11: ='[1]Podklady RZ'!F522 -> 3.497799 | G11: ='[1]Podklady RZ'!G522 -> 2.852305 | H11: ='[1]Podklady RZ'!H522 -> 2.518538 | I11: ='[1]Podklady RZ'!I522 -> 2.44302 | ... O11: ='[1]Podklady RZ'!O522 -> 0.079307054
A12: Hard coal | B12: ='[1]Podklady RZ'!B523 -> 0 | C12: ='[1]Podklady RZ'!C523 -> 0 | D12: ='[1]Podklady RZ'!D523 -> 0 | E12: ='[1]Podklady RZ'!E523 -> 0 | F12: ='[1]Podklady RZ'!F523 -> 0 | G12: ='[1]Podklady RZ'!G523 -> 0 | H12: ='[1]Podklady RZ'!H523 -> 0 | I12: ='[1]Podklady RZ'!I523 -> 0 | ... O12: ='[1]Podklady RZ'!O523 -> 0
A13: Electrical energy | B13: ='[1]Podklady RZ'!B524 -> 0 | C13: ='[1]Podklady RZ'!C524 -> 0 | D13: ='[1]Podklady RZ'!D524 -> 0 | E13: ='[1]Podklady RZ'!E524 -> 0 | F13: ='[1]Podklady RZ'!F524 -> 0 | G13: ='[1]Podklady RZ'!G524 -> 0.020647 | H13: ='[1]Podklady RZ'!H524 -> 0.042781 | I13: ='[1]Podklady RZ'!I524 -> 0.047748 | ... O13: ='[1]Podklady RZ'!O524 -> 0.002936764
A14: Ambient energy (heat pump) | B14: ='[1]Podklady RZ'!B525 -> 0 | C14: ='[1]Podklady RZ'!C525 -> 0 | D14: ='[1]Podklady RZ'!D525 -> 0 | E14: ='[1]Podklady RZ'!E525 -> 0 | F14: ='[1]Podklady RZ'!F525 -> 0 | G14: ='[1]Podklady RZ'!G525 -> 0 | H14: ='[1]Podklady RZ'!H525 -> 0 | I14: ='[1]Podklady RZ'!I525 -> 0 | ... O14: ='[1]Podklady RZ'!O525 -> 0
A15: Solar energy (solar panel) | B15: ='[1]Podklady RZ'!B526 -> 0 | C15: ='[1]Podklady RZ'!C526 -> 0 | D15: ='[1]Podklady RZ'!D526 -> 0 | E15: ='[1]Podklady RZ'!E526 -> 0 | F15: ='[1]Podklady RZ'!F526 -> 0 | G15: ='[1]Podklady RZ'!G526 -> 0 | H15: ='[1]Podklady RZ'!H526 -> 0 | I15: ='[1]Podklady RZ'!I526 -> 0 | ... O15: ='[1]Podklady RZ'!O526 -> 0
A16: Brown coal | B16: ='[1]Podklady RZ'!B527 -> 190.71528 | C16: ='[1]Podklady RZ'!C527 -> 173.44183 | D16: ='[1]Podklady RZ'!D527 -> 147.54521 | E16: ='[1]Podklady RZ'!E527 -> 100.2831 | F16: ='[1]Podklady RZ'!F527 -> 85.086176 | G16: ='[1]Podklady RZ'!G527 -> 25.484467 | H16: ='[1]Podklady RZ'!H527 -> 39.370743 | I16: ='[1]Podklady RZ'!I527 -> 32.180257 | ... O16: ='[1]Podklady RZ'!O527 -> 0.040382673
A17: Nuclear fuel | B17: ='[1]Podklady RZ'!B528 -> 0 | C17: ='[1]Podklady RZ'!C528 -> 0 | D17: ='[1]Podklady RZ'!D528 -> 0 | E17: ='[1]Podklady RZ'!E528 -> 0 | F17: ='[1]Podklady RZ'!F528 -> 0 | G17: ='[1]Podklady RZ'!G528 -> 0 | H17: ='[1]Podklady RZ'!H528 -> 0 | I17: ='[1]Podklady RZ'!I528 -> 0 | ... O17: ='[1]Podklady RZ'!O528 -> 0
A18: Coke | B18: ='[1]Podklady RZ'!B529 -> 0 | C18: ='[1]Podklady RZ'!C529 -> 0 | D18: ='[1]Podklady RZ'!D529 -> 0 | E18: ='[1]Podklady RZ'!E529 -> 0 | F18: ='[1]Podklady RZ'!F529 -> 0 | G18: ='[1]Podklady RZ'!G529 -> 0 | H18: ='[1]Podklady RZ'!H529 -> 0 | I18: ='[1]Podklady RZ'!I529 -> 0 | ... O18: ='[1]Podklady RZ'!O529 -> 0
... A34: Other | B34: ='[1]Podklady RZ'!B545 -> 2.2576 | C34: ='[1]Podklady RZ'!C545 -> 2.137864 | D34: ='[1]Podklady RZ'!D545 -> 1.667427 | E34: ='[1]Podklady RZ'!E545 -> 1.137967 | F34: ='[1]Podklady RZ'!F545 -> 0.934428 | G34: ='[1]Podklady RZ'!G545 -> 0.192474 | H34: ='[1]Podklady RZ'!H545 -> 0.198951 | I34: ='[1]Podklady RZ'!I545 -> 0.152233 | ... O34: ='[1]Podklady RZ'!O545 -> 0.009387588
A35: * The difference between supply and consumption includes losses of bought heat and a part of unidentified heat distribution.
M39: Installed capacity | N39: =O7 -> 0.031878088
M40: Gross heat production | N40: =O8 -> 0.046333776
M41: Heat supply | N41: =O9 -> 0.040217003

Sheet 8.10
A1: 8.10 Heat production, supply and consumption: Pardubický Region | O1: ='3'!N1 -> 2022
B5: First quarter | E5: Second quarter | H5: Third quarter | K5: Fourth quarter | N5: Total | O5: Share in CR
B6: January | C6: February | D6: March | E6: April | F6: May | G6: June | H6: July | I6: August | J6: September | K6: October | L6: November | M6: December
A7: Total installed capacity [MWt] | B7: ='[1]Podklady RZ'!B553 -> 3491.1653 | C7: ='[1]Podklady RZ'!C553 -> 3488.1853 | D7: ='[1]Podklady RZ'!D553 -> 3488.1853 | E7: ='[1]Podklady RZ'!E553 -> 3491.3113 | F7: ='[1]Podklady RZ'!F553 -> 3491.3103 | G7: ='[1]Podklady RZ'!G553 -> 3491.3113 | H7: ='[1]Podklady RZ'!H553 -> 3478.5853 | I7: ='[1]Podklady RZ'!I553 -> 3478.5853 | ... O7: ='[1]Podklady RZ'!O553 -> 0.090090682
A8: Gross heat production [TJ] | B8: ='[1]Podklady RZ'!B554 -> 883.34505 | C8: ='[1]Podklady RZ'!C554 -> 798.98018 | D8: ='[1]Podklady RZ'!D554 -> 654.18327 | E8: ='[1]Podklady RZ'!E554 -> 447.53759 | F8: ='[1]Podklady RZ'!F554 -> 390.67997 | G8: ='[1]Podklady RZ'!G554 -> 242.71413 | H8: ='[1]Podklady RZ'!H554 -> 232.6344 | I8: ='[1]Podklady RZ'!I554 -> 217.42562 | ... O8: ='[1]Podklady RZ'!O554 -> 0.045352312
A9: Heat supply by fuel [TJ] | B9: ='[1]Podklady RZ'!B555 -> 626.41114 | C9: ='[1]Podklady RZ'!C555 -> 565.31727 | D9: ='[1]Podklady RZ'!D555 -> 421.1093 | E9: ='[1]Podklady RZ'!E555 -> 253.91788 | F9: ='[1]Podklady RZ'!F555 -> 198.22745 | G9: ='[1]Podklady RZ'!G555 -> 86.552706 | H9: ='[1]Podklady RZ'!H555 -> 77.995996 | I9: ='[1]Podklady RZ'!I555 -> 79.198507 | ... O9: ='[1]Podklady RZ'!O555 -> 0.050224304
A10: Biomass | B10: ='[1]Podklady RZ'!B556 -> 8.690883 | C10: ='[1]Podklady RZ'!C556 -> 8.196294 | D10: ='[1]Podklady RZ'!D556 -> 6.609299 | E10: ='[1]Podklady RZ'!E556 -> 4.665847 | F10: ='[1]Podklady RZ'!F556 -> 2.937362 | G10: ='[1]Podklady RZ'!G556 -> 1.559835 | H10: ='[1]Podklady RZ'!H556 -> 0.6891 | I10: ='[1]Podklady RZ'!I556 -> 0.581883 | ... O10: ='[1]Podklady RZ'!O556 -> 0.0053866596
A11: Biogas | B11: ='[1]Podklady RZ'!B557 -> 6.707421 | C11: ='[1]Podklady RZ'!C557 -> 6.739212 | D11: ='[1]Podklady RZ'!D557 -> 6.355592 | E11: ='[1]Podklady RZ'!E557 -> 5.113808 | F11: ='[1]Podklady RZ'!F557 -> 5.467568 | G11: ='[1]Podklady RZ'!G557 -> 1.812623 | H11: ='[1]Podklady RZ'!H557 -> 2.397373 | I11: ='[1]Podklady RZ'!I557 -> 3.069008 | ... O11: ='[1]Podklady RZ'!O557 -> 0.10894138
A12: Hard coal | B12: ='[1]Podklady RZ'!B558 -> 0 | C12: ='[1]Podklady RZ'!C558 -> 0 | D12: ='[1]Podklady RZ'!D558 -> 0 | E12: ='[1]Podklady RZ'!E558 -> 0 | F12: ='[1]Podklady RZ'!F558 -> 0 | G12: ='[1]Podklady RZ'!G558 -> 0 | H12: ='[1]Podklady RZ'!H558 -> 0 | I12: ='[1]Podklady RZ'!I558 -> 0 | ... O12: ='[1]Podklady RZ'!O558 -> 0
A13: Electrical energy | B13: ='[1]Podklady RZ'!B559 -> 2.434 | C13: ='[1]Podklady RZ'!C559 -> 1.935 | D13: ='[1]Podklady RZ'!D559 -> 2.441 | E13: ='[1]Podklady RZ'!E559 -> 1.883 | F13: ='[1]Podklady RZ'!F559 -> 1.411 | G13: ='[1]Podklady RZ'!G559 -> 1.61 | H13: ='[1]Podklady RZ'!H559 -> 1.031 | I13: ='[1]Podklady RZ'!I559 -> 0.985 | ... O13: ='[1]Podklady RZ'!O559 -> 0.32413729
A14: Ambient energy (heat pump) | B14: ='[1]Podklady RZ'!B560 -> 0 | C14: ='[1]Podklady RZ'!C560 -> 0 | D14: ='[1]Podklady RZ'!D560 -> 0 | E14: ='[1]Podklady RZ'!E560 -> 0 | F14: ='[1]Podklady RZ'!F560 -> 0 | G14: ='[1]Podklady RZ'!G560 -> 0 | H14: ='[1]Podklady RZ'!H560 -> 0 | I14: ='[1]Podklady RZ'!I560 -> 0 | ... O14: ='[1]Podklady RZ'!O560 -> 0
A15: Solar energy (solar panel) | B15: ='[1]Podklady RZ'!B561 -> 0 | C15: ='[1]Podklady RZ'!C561 -> 0 | D15: ='[1]Podklady RZ'!D561 -> 0 | E15: ='[1]Podklady RZ'!E561 -> 0 | F15: ='[1]Podklady RZ'!F561 -> 0 | G15: ='[1]Podklady RZ'!G561 -> 0 | H15: ='[1]Podklady RZ'!H561 -> 0 | I15: ='[1]Podklady RZ'!I561 -> 0 | ... O15: ='[1]Podklady RZ'!O561 -> 0
A16: Brown coal | B16: ='[1]Podklady RZ'!B562 -> 549.39944 | C16: ='[1]Podklady RZ'!C562 -> 495.87624 | D16: ='[1]Podklady RZ'!D562 -> 362.10173 | E16: ='[1]Podklady RZ'!E562 -> 212.70912 | F16: ='[1]Podklady RZ'!F562 -> 163.93346 | G16: ='[1]Podklady RZ'!G562 -> 68.481207 | H16: ='[1]Podklady RZ'!H562 -> 61.721498 | I16: ='[1]Podklady RZ'!I562 -> 62.756381 | ... O16: ='[1]Podklady RZ'!O562 -> 0.10607088
A17: Nuclear fuel | B17: ='[1]Podklady RZ'!B563 -> 0 | C17: ='[1]Podklady RZ'!C563 -> 0 | D17: ='[1]Podklady RZ'!D563 -> 0 | E17: ='[1]Podklady RZ'!E563 -> 0 | F17: ='[1]Podklady RZ'!F563 -> 0 | G17: ='[1]Podklady RZ'!G563 -> 0 | H17: ='[1]Podklady RZ'!H563 -> 0 | I17: ='[1]Podklady RZ'!I563 -> 0 | ... O17: ='[1]Podklady RZ'!O563 -> 0
A18: Coke | B18: ='[1]Podklady RZ'!B564 -> 0 | C18: ='[1]Podklady RZ'!C564 -> 0 | D18: ='[1]Podklady RZ'!D564 -> 0 | E18: ='[1]Podklady RZ'!E564 -> 0 | F18: ='[1]Podklady RZ'!F564 -> 0 | G18: ='[1]Podklady RZ'!G564 -> 0 | H18: ='[1]Podklady RZ'!H564 -> 0 | I18: ='[1]Podklady RZ'!I564 -> 0 | ... O18: ='[1]Podklady RZ'!O564 -> 0
... A25: Natural gas | B25: ='[1]Podklady RZ'!B571 -> 56.777847 | C25: ='[1]Podklady RZ'!C571 -> 49.970223 | D25: ='[1]Podklady RZ'!D571 -> 40.88747 | E25: ='[1]Podklady RZ'!E571 -> 27.537382 | F25: ='[1]Podklady RZ'!F571 -> 23.366333 | G25: ='[1]Podklady RZ'!G571 -> 11.725504 | H25: ='[1]Podklady RZ'!H571 -> 11.119025 | I25: ='[1]Podklady RZ'!I571 -> 11.521036 | ... O25: ='[1]Podklady RZ'!O571 -> 0.018265401
A26: Heat supply to Královehradecký Region | B26: ='[1]Podklady RZ'!B572 -> -175.47921 | C26: ='[1]Podklady RZ'!C572 -> -156.54373 | D26: ='[1]Podklady RZ'!D572 -> -117.58803 | E26: ='[1]Podklady RZ'!E572 -> -71.066484 | F26: ='[1]Podklady RZ'!F572 -> -58.434321 | G26: ='[1]Podklady RZ'!G572 -> -23.1746 | H26: ='[1]Podklady RZ'!H572 -> -20.866763 | I26: ='[1]Podklady RZ'!I572 -> -21.974521 | ... N26: ='[1]Podklady RZ'!N572 -> -1077.9051
A27: Heat consumption by economic sector* | B27: ='[1]Podklady RZ'!B573 -> 446.13911 | C27: ='[1]Podklady RZ'!C573 -> 405.17375 | D27: ='[1]Podklady RZ'!D573 -> 298.87462 | E27: ='[1]Podklady RZ'!E573 -> 178.32358 | F27: ='[1]Podklady RZ'!F573 -> 136.2224 | G27: ='[1]Podklady RZ'!G573 -> 59.523636 | H27: ='[1]Podklady RZ'!H573 -> 53.977973 | I27: ='[1]Podklady RZ'!I573 -> 53.759646 | ... O27: ='[1]Podklady RZ'!O573 -> 0.040180273
A28: Industry | B28: ='[1]Podklady RZ'!B574 -> 65.11584 | C28: ='[1]Podklady RZ'!C574 -> 64.18747 | D28: ='[1]Podklady RZ'!D574 -> 46.023746 | E28: ='[1]Podklady RZ'!E574 -> 29.046428 | F28: ='[1]Podklady RZ'!F574 -> 20.745115 | G28: ='[1]Podklady RZ'!G574 -> 9.732052 | H28: ='[1]Podklady RZ'!H574 -> 7.543456 | I28: ='[1]Podklady RZ'!I574 -> 5.967818 | ... O28: ='[1]Podklady RZ'!O574 -> 0.030960986
A29: Energy | B29: ='[1]Podklady RZ'!B575 -> 2.0122 | C29: ='[1]Podklady RZ'!C575 -> 1.7226 | D29: ='[1]Podklady RZ'!D575 -> 1.3982 | E29: ='[1]Podklady RZ'!E575 -> 0.9347 | F29: ='[1]Podklady RZ'!F575 -> 0.5973 | G29: ='[1]Podklady RZ'!G575 -> 0.286 | H29: ='[1]Podklady RZ'!H575 -> 0.2389 | I29: ='[1]Podklady RZ'!I575 -> 0.3708 | ... O29: ='[1]Podklady RZ'!O575 -> 0.0082268398
A30: Transport | B30: ='[1]Podklady RZ'!B576 -> 10.4559 | C30: ='[1]Podklady RZ'!C576 -> 9.1418 | D30: ='[1]Podklady RZ'!D576 -> 6.3064 | E30: ='[1]Podklady RZ'!E576 -> 3.3301 | F30: ='[1]Podklady RZ'!F576 -> 2.3072 | G30: ='[1]Podklady RZ'!G576 -> 0.4115 | H30: ='[1]Podklady RZ'!H576 -> 0.3883 | I30: ='[1]Podklady RZ'!I576 -> 0.3839 | ... O30: ='[1]Podklady RZ'!O576 -> 0.1004128
A31: Construction | B31: ='[1]Podklady RZ'!B577 -> 3.939794 | C31: ='[1]Podklady RZ'!C577 -> 3.39994 | D31: ='[1]Podklady RZ'!D577 -> 2.533014 | E31: ='[1]Podklady RZ'!E577 -> 1.246381 | F31: ='[1]Podklady RZ'!F577 -> 0.886675 | G31: ='[1]Podklady RZ'!G577 -> 1.092401 | H31: ='[1]Podklady RZ'!H577 -> 0.206391 | I31: ='[1]Podklady RZ'!I577 -> 0.158743 | ... O31: ='[1]Podklady RZ'!O577 -> 0.11777727
A32: Farming and forestry | B32: ='[1]Podklady RZ'!B578 -> 6.29367 | C32: ='[1]Podklady RZ'!C578 -> 6.26639 | D32: ='[1]Podklady RZ'!D578 -> 5.96072 | E32: ='[1]Podklady RZ'!E578 -> 4.84285 | F32: ='[1]Podklady RZ'!F578 -> 5.29258 | G32: ='[1]Podklady RZ'!G578 -> 1.70016 | H32: ='[1]Podklady RZ'!H578 -> 2.25491 | I32: ='[1]Podklady RZ'!I578 -> 2.92867 | ... O32: ='[1]Podklady RZ'!O578 -> 0.098782401
A33: Households | B33: ='[1]Podklady RZ'!B579 -> 196.75736 | C33: ='[1]Podklady RZ'!C579 -> 172.94696 | D33: ='[1]Podklady RZ'!D579 -> 131.75974 | E33: ='[1]Podklady RZ'!E579 -> 80.36919 | F33: ='[1]Podklady RZ'!F579 -> 65.406955 | G33: ='[1]Podklady RZ'!G579 -> 30.77037 | H33: ='[1]Podklady RZ'!H579 -> 28.655304 | I33: ='[1]Podklady RZ'!I579 -> 28.837011 | ... O33: ='[1]Podklady RZ'!O579 -> 0.03714952
A34: Retail, services, schools, health care | B34: ='[1]Podklady RZ'!B580 -> 129.64135 | C34: ='[1]Podklady RZ'!C580 -> 117.81372 | D34: ='[1]Podklady RZ'!D580 -> 84.827201 | E34: ='[1]Podklady RZ'!E580 -> 48.152282 | F34: ='[1]Podklady RZ'!F580 -> 34.19379 | G34: ='[1]Podklady RZ'!G580 -> 13.568201 | H34: ='[1]Podklady RZ'!H580 -> 13.100457 | I34: ='[1]Podklady RZ'!I580 -> 13.318556 | ... O34: ='[1]Podklady RZ'!O580 -> 0.045621013
A35: Other | B35: ='[1]Podklady RZ'!B581 -> 31.92299 | C35: ='[1]Podklady RZ'!C581 -> 29.694875 | D35: ='[1]Podklady RZ'!D581 -> 20.065597 | E35: ='[1]Podklady RZ'!E581 -> 10.401652 | F35: ='[1]Podklady RZ'!F581 -> 6.79278 | G35: ='[1]Podklady RZ'!G581 -> 1.962952 | H35: ='[1]Podklady RZ'!H581 -> 1.590255 | I35: ='[1]Podklady RZ'!I581 -> 1.794148 | ... O35: ='[1]Podklady RZ'!O581 -> 0.1138581
A36: * The difference between supply and consumption includes losses of bought heat, a part of unidentified heat distribution, and the heat portion supplied to the Hradec Králové SZT.
M40: Installed capacity | N40: =O7 -> 0.090090682
M41: Gross heat production | N41: =O8 -> 0.045352312
M42: Heat supply | N42: =O9 -> 0.050224304

Sheet 8.11
A1: 8.11 Heat production, supply and consumption: Plzeňský Region | O1: ='3'!N1 -> 2022
B5: First quarter | E5: Second quarter | H5: Third quarter | K5: Fourth quarter | N5: Total | O5: Share in CR
B6: January | C6: February | D6: March | E6: April | F6: May | G6: June | H6: July | I6: August | J6: September | K6: October | L6: November | M6: December
A7: Total installed capacity [MWt] | B7: ='[1]Podklady RZ'!B589 -> 1029.8964 | C7: ='[1]Podklady RZ'!C589 -> 1025.9964 | D7: ='[1]Podklady RZ'!D589 -> 1025.9964 | E7: ='[1]Podklady RZ'!E589 -> 1030.1964 | F7: ='[1]Podklady RZ'!F589 -> 1030.4404 | G7: ='[1]Podklady RZ'!G589 -> 1030.1104 | H7: ='[1]Podklady RZ'!H589 -> 1030.3744 | I7: ='[1]Podklady RZ'!I589 -> 1030.3744 | ... O7: ='[1]Podklady RZ'!O589 -> 0.026757165
A8: Gross heat production [TJ] | B8: ='[1]Podklady RZ'!B590 -> 802.96832 | C8: ='[1]Podklady RZ'!C590 -> 749.67213 | D8: ='[1]Podklady RZ'!D590 -> 599.70778 | E8: ='[1]Podklady RZ'!E590 -> 409.47026 | F8: ='[1]Podklady RZ'!F590 -> 327.26889 | G8: ='[1]Podklady RZ'!G590 -> 204.52695 | H8: ='[1]Podklady RZ'!H590 -> 199.27452 | I8: ='[1]Podklady RZ'!I590 -> 167.58932 | ... O8: ='[1]Podklady RZ'!O590 -> 0.040508174
A9: Heat supply by fuel [TJ] | B9: ='[1]Podklady RZ'!B591 -> 619.12672 | C9: ='[1]Podklady RZ'!C591 -> 564.91614 | D9: ='[1]Podklady RZ'!D591 -> 435.75169 | E9: ='[1]Podklady RZ'!E591 -> 287.0064 | F9: ='[1]Podklady RZ'!F591 -> 204.55899 | G9: ='[1]Podklady RZ'!G591 -> 108.2125 | H9: ='[1]Podklady RZ'!H591 -> 106.02412 | I9: ='[1]Podklady RZ'!I591 -> 86.77486 | ... O9: ='[1]Podklady RZ'!O591 -> 0.051302129
A10: Biomass | B10: ='[1]Podklady RZ'!B592 -> 130.77602 | C10: ='[1]Podklady RZ'!C592 -> 110.68095 | D10: ='[1]Podklady RZ'!D592 -> 122.86451 | E10: ='[1]Podklady RZ'!E592 -> 18.005983 | F10: ='[1]Podklady RZ'!F592 -> 84.049962 | G10: ='[1]Podklady RZ'!G592 -> 66.191748 | H10: ='[1]Podklady RZ'!H592 -> 65.399809 | I10: ='[1]Podklady RZ'!I592 -> 45.308846 | ... O10: ='[1]Podklady RZ'!O592 -> 0.10095403
A11: Biogas | B11: ='[1]Podklady RZ'!B593 -> 7.06068 | C11: ='[1]Podklady RZ'!C593 -> 6.27124 | D11: ='[1]Podklady RZ'!D593 -> 5.7256 | E11: ='[1]Podklady RZ'!E593 -> 4.21375 | F11: ='[1]Podklady RZ'!F593 -> 3.36684 | G11: ='[1]Podklady RZ'!G593 -> 2.0916 | H11: ='[1]Podklady RZ'!H593 -> 2.40275 | I11: ='[1]Podklady RZ'!I593 -> 1.86416 | ... O11: ='[1]Podklady RZ'!O593 -> 0.092285147
A12: Hard coal | B12: ='[1]Podklady RZ'!B594 -> 0 | C12: ='[1]Podklady RZ'!C594 -> 0 | D12: ='[1]Podklady RZ'!D594 -> 0 | E12: ='[1]Podklady RZ'!E594 -> 0 | F12: ='[1]Podklady RZ'!F594 -> 0 | G12: ='[1]Podklady RZ'!G594 -> 0 | H12: ='[1]Podklady RZ'!H594 -> 0 | I12: ='[1]Podklady RZ'!I594 -> 0 | ... O12: ='[1]Podklady RZ'!O594 -> 0
A13: Electrical energy | B13: ='[1]Podklady RZ'!B595 -> 0.23656 | C13: ='[1]Podklady RZ'!C595 -> 0.22166 | D13: ='[1]Podklady RZ'!D595 -> 0.23953 | E13: ='[1]Podklady RZ'!E595 -> 0.310809 | F13: ='[1]Podklady RZ'!F595 -> 0.371906 | G13: ='[1]Podklady RZ'!G595 -> 0.290973 | H13: ='[1]Podklady RZ'!H595 -> 0.41274 | I13: ='[1]Podklady RZ'!I595 -> 0.36377 | ... O13: ='[1]Podklady RZ'!O595 -> 0.065522919
A14: Ambient energy (heat pump) | B14: ='[1]Podklady RZ'!B596 -> 0.156 | C14: ='[1]Podklady RZ'!C596 -> 0.138 | D14: ='[1]Podklady RZ'!D596 -> 0.114 | E14: ='[1]Podklady RZ'!E596 -> 0.08 | F14: ='[1]Podklady RZ'!F596 -> 0.075 | G14: ='[1]Podklady RZ'!G596 -> 0.028 | H14: ='[1]Podklady RZ'!H596 -> 0.034 | I14: ='[1]Podklady RZ'!I596 -> 0.039 | ... O14: ='[1]Podklady RZ'!O596 -> 0.014411483
A15: Solar energy (solar panel) | B15: ='[1]Podklady RZ'!B597 -> 0 | C15: ='[1]Podklady RZ'!C597 -> 0 | D15: ='[1]Podklady RZ'!D597 -> 0 | E15: ='[1]Podklady RZ'!E597 -> 0 | F15: ='[1]Podklady RZ'!F597 -> 0 | G15: ='[1]Podklady RZ'!G597 -> 0 | H15: ='[1]Podklady RZ'!H597 -> 0 | I15: ='[1]Podklady RZ'!I597 -> 0 | ... O15: ='[1]Podklady RZ'!O597 -> 0
A16: Brown coal | B16: ='[1]Podklady RZ'!B598 -> 366.11423 | C16: ='[1]Podklady RZ'!C598 -> 346.40299 | D16: ='[1]Podklady RZ'!D598 -> 215.23852 | E16: ='[1]Podklady RZ'!E598 -> 193.96508 | F16: ='[1]Podklady RZ'!F598 -> 47.577584 | G16: ='[1]Podklady RZ'!G598 -> 3.323973 | H16: ='[1]Podklady RZ'!H598 -> 5.599287 | I16: ='[1]Podklady RZ'!I598 -> 3.011522 | ... O16: ='[1]Podklady RZ'!O598 -> 0.061312771
A17: Nuclear fuel | B17: ='[1]Podklady RZ'!B599 -> 0 | C17: ='[1]Podklady RZ'!C599 -> 0 | D17: ='[1]Podklady RZ'!D599 -> 0 | E17: ='[1]Podklady RZ'!E599 -> 0 | F17: ='[1]Podklady RZ'!F599 -> 0 | G17: ='[1]Podklady RZ'!G599 -> 0 | H17: ='[1]Podklady RZ'!H599 -> 0 | I17: ='[1]Podklady RZ'!I599 -> 0 | ... O17: ='[1]Podklady RZ'!O599 -> 0
A18: Coke | B18: ='[1]Podklady RZ'!B600 -> 0 | C18: ='[1]Podklady RZ'!C600 -> 0 | D18: ='[1]Podklady RZ'!D600 -> 0 | E18: ='[1]Podklady RZ'!E600 -> 0 | F18: ='[1]Podklady RZ'!F600 -> 0 | G18: ='[1]Podklady RZ'!G600 -> 0 | H18: ='[1]Podklady RZ'!H600 -> 0 | I18: ='[1]Podklady RZ'!I600 -> 0 | ... O18: ='[1]Podklady RZ'!O600 -> 0
... A34: Other | B34: ='[1]Podklady RZ'!B616 -> 1.9631 | C34: ='[1]Podklady RZ'!C616 -> 1.3237 | D34: ='[1]Podklady RZ'!D616 -> 0.9427 | E34: ='[1]Podklady RZ'!E616 -> 0.7207 | F34: ='[1]Podklady RZ'!F616 -> 0.4728 | G34: ='[1]Podklady RZ'!G616 -> 0.3964 | H34: ='[1]Podklady RZ'!H616 -> 0.121 | I34: ='[1]Podklady RZ'!I616 -> 0.0028 | ... O34: ='[1]Podklady RZ'!O616 -> 0.0043233315
A35: * The difference between supply and consumption includes losses of bought heat and a part of unidentified heat distribution.
M39: Installed capacity | N39: =O7 -> 0.026757165
M40: Gross heat production | N40: =O8 -> 0.040508174
M41: Heat supply | N41: =O9 -> 0.051302129

Sheet 8.12
A1: 8.12 Heat production, supply and consumption: Středočeský Region | O1: ='3'!N1 -> 2022
B4: First quarter | E4: Second quarter | H4: Third quarter | K4: Fourth quarter | N4: Total | O4: Share in CR
B5: January | C5: February | D5: March | E5: April | F5: May | G5: June | H5: July | I5: August | J5: September | K5: October | L5: November | M5: December
A6: Total installed capacity [MWt] | B6: ='[1]Podklady RZ'!B624 -> 4585.0997 | C6: ='[1]Podklady RZ'!C624 -> 4584.8167 | D6: ='[1]Podklady RZ'!D624 -> 4585.3397 | E6: ='[1]Podklady RZ'!E624 -> 4685.2617 | F6: ='[1]Podklady RZ'!F624 -> 4599.2197 | G6: ='[1]Podklady RZ'!G624 -> 4597.3897 | H6: ='[1]Podklady RZ'!H624 -> 4613.3617 | I6: ='[1]Podklady RZ'!I624 -> 4613.9177 | ... O6: ='[1]Podklady RZ'!O624 -> 0.11989654
A7: Gross heat production [TJ] | B7: ='[1]Podklady RZ'!B625 -> 3296.4961 | C7: ='[1]Podklady RZ'!C625 -> 2948.441 | D7: ='[1]Podklady RZ'!D625 -> 2475.4287 | E7: ='[1]Podklady RZ'!E625 -> 1578.0504 | F7: ='[1]Podklady RZ'!F625 -> 1394.5286 | G7: ='[1]Podklady RZ'!G625 -> 1015.1108 | H7: ='[1]Podklady RZ'!H625 -> 892.64356 | I7: ='[1]Podklady RZ'!I625 -> 956.15824 | ... O7: ='[1]Podklady RZ'!O625 -> 0.17342694
A8: Heat supply by fuel [TJ] | B8: ='[1]Podklady RZ'!B626 -> 2649.4159 | C8: ='[1]Podklady RZ'!C626 -> 2447.7321 | D8: ='[1]Podklady RZ'!D626 -> 2024.1063 | E8: ='[1]Podklady RZ'!E626 -> 1202.3323 | F8: ='[1]Podklady RZ'!F626 -> 1012.2904 | G8: ='[1]Podklady RZ'!G626 -> 692.64514 | H8: ='[1]Podklady RZ'!H626 -> 579.87235 | I8: ='[1]Podklady RZ'!I626 -> 635.21835 | ... O8: ='[1]Podklady RZ'!O626 -> 0.23692807
A9: Biomass | B9: ='[1]Podklady RZ'!B627 -> 311.85697 | C9: ='[1]Podklady RZ'!C627 -> 289.60444 | D9: ='[1]Podklady RZ'!D627 -> 244.26304 | E9: ='[1]Podklady RZ'!E627 -> 122.15081 | F9: ='[1]Podklady RZ'!F627 -> 126.27576 | G9: ='[1]Podklady RZ'!G627 -> 63.802833 | H9: ='[1]Podklady RZ'!H627 -> 45.864789 | I9: ='[1]Podklady RZ'!I627 -> 60.935539 | ... O9: ='[1]Podklady RZ'!O627 -> 0.17832533
A10: Biogas | B10: ='[1]Podklady RZ'!B628 -> 4.369235 | C10: ='[1]Podklady RZ'!C628 -> 4.470416 | D10: ='[1]Podklady RZ'!D628 -> 3.703484 | E10: ='[1]Podklady RZ'!E628 -> 3.272702 | F10: ='[1]Podklady RZ'!F628 -> 3.352087 | G10: ='[1]Podklady RZ'!G628 -> 2.897292 | H10: ='[1]Podklady RZ'!H628 -> 2.542663 | I10: ='[1]Podklady RZ'!I628 -> 2.585594 | ... O10: ='[1]Podklady RZ'!O628 -> 0.078634562
A11: Hard coal | B11: ='[1]Podklady RZ'!B629 -> 0 | C11: ='[1]Podklady RZ'!C629 -> 0 | D11: ='[1]Podklady RZ'!D629 -> 0 | E11: ='[1]Podklady RZ'!E629 -> 0 | F11: ='[1]Podklady RZ'!F629 -> 0 | G11: ='[1]Podklady RZ'!G629 -> 0 | H11: ='[1]Podklady RZ'!H629 -> 0 | I11: ='[1]Podklady RZ'!I629 -> 0 | ... O11: ='[1]Podklady RZ'!O629 -> 0
A12: Electrical energy | B12: ='[1]Podklady RZ'!B630 -> 3.156631 | C12: ='[1]Podklady RZ'!C630 -> 1.934995 | D12: ='[1]Podklady RZ'!D630 -> 3.335274 | E12: ='[1]Podklady RZ'!E630 -> 2.672767 | F12: ='[1]Podklady RZ'!F630 -> 1.221122 | G12: ='[1]Podklady RZ'!G630 -> 2.081319 | H12: ='[1]Podklady RZ'!H630 -> 0.594173 | I12: ='[1]Podklady RZ'!I630 -> 0.918927 | ... O12: ='[1]Podklady RZ'!O630 -> 0.35033374
A13: Ambient energy (heat pump) | B13: ='[1]Podklady RZ'!B631 -> 0 | C13: ='[1]Podklady RZ'!C631 -> 0 | D13: ='[1]Podklady RZ'!D631 -> 0 | E13: ='[1]Podklady RZ'!E631 -> 0 | F13: ='[1]Podklady RZ'!F631 -> 0 | G13: ='[1]Podklady RZ'!G631 -> 0 | H13: ='[1]Podklady RZ'!H631 -> 0 | I13: ='[1]Podklady RZ'!I631 -> 0 | ... O13: ='[1]Podklady RZ'!O631 -> 0
A14: Solar energy (solar panel) | B14: ='[1]Podklady RZ'!B632 -> 0 | C14: ='[1]Podklady RZ'!C632 -> 0 | D14: ='[1]Podklady RZ'!D632 -> 0 | E14: ='[1]Podklady RZ'!E632 -> 0 | F14: ='[1]Podklady RZ'!F632 -> 0 | G14: ='[1]Podklady RZ'!G632 -> 0 | H14: ='[1]Podklady RZ'!H632 -> 0 | I14: ='[1]Podklady RZ'!I632 -> 0 | ... O14: ='[1]Podklady RZ'!O632 -> 0
A15: Brown coal | B15: ='[1]Podklady RZ'!B633 -> 1706.1504 | C15: ='[1]Podklady RZ'!C633 -> 1546.2968 | D15: ='[1]Podklady RZ'!D633 -> 1204.775 | E15: ='[1]Podklady RZ'!E633 -> 745.69588 | F15: ='[1]Podklady RZ'!F633 -> 588.00111 | G15: ='[1]Podklady RZ'!G633 -> 295.06517 | H15: ='[1]Podklady RZ'!H633 -> 219.49424 | I15: ='[1]Podklady RZ'!I633 -> 239.30871 | ... O15: ='[1]Podklady RZ'!O633 -> 0.3487047
A16: Nuclear fuel | B16: ='[1]Podklady RZ'!B634 -> 0 | C16: ='[1]Podklady RZ'!C634 -> 0 | D16: ='[1]Podklady RZ'!D634 -> 0 | E16: ='[1]Podklady RZ'!E634 -> 0 | F16: ='[1]Podklady RZ'!F634 -> 0 | G16: ='[1]Podklady RZ'!G634 -> 0 | H16: ='[1]Podklady RZ'!H634 -> 0 | I16: ='[1]Podklady RZ'!I634 -> 0 | ... O16: ='[1]Podklady RZ'!O634 -> 0
A17: Coke | B17: ='[1]Podklady RZ'!B635 -> 0 | C17: ='[1]Podklady RZ'!C635 -> 0 | D17: ='[1]Podklady RZ'!D635 -> 0 | E17: ='[1]Podklady RZ'!E635 -> 0 | F17: ='[1]Podklady RZ'!F635 -> 0 | G17: ='[1]Podklady RZ'!G635 -> 0 | H17: ='[1]Podklady RZ'!H635 -> 0 | I17: ='[1]Podklady RZ'!I635 -> 0 | ... O17: ='[1]Podklady RZ'!O635 -> 0
... A24: Natural gas | B24: ='[1]Podklady RZ'!B642 -> 516.20071 | C24: ='[1]Podklady RZ'!C642 -> 477.087 | D24: ='[1]Podklady RZ'!D642 -> 440.44406 | E24: ='[1]Podklady RZ'!E642 -> 255.57668 | F24: ='[1]Podklady RZ'!F642 -> 195.8378 | G24: ='[1]Podklady RZ'!G642 -> 207.04705 | H24: ='[1]Podklady RZ'!H642 -> 224.49536 | I24: ='[1]Podklady RZ'!I642 -> 236.85913 | ... O24: ='[1]Podklady RZ'!O642 -> 0.18909282
A25: Heat supply to Prague | B25: ='[1]Podklady RZ'!B643 -> -1352.837 | C25: ='[1]Podklady RZ'!C643 -> -1217.644 | D25: ='[1]Podklady RZ'!D643 -> -953.254 | E25: ='[1]Podklady RZ'!E643 -> -597.15091 | F25: ='[1]Podklady RZ'!F643 -> -465.81599 | G25: ='[1]Podklady RZ'!G643 -> -233.468 | H25: ='[1]Podklady RZ'!H643 -> -181.168 | I25: ='[1]Podklady RZ'!I643 -> -180.68 | ... N25: ='[1]Podklady RZ'!N643 -> -8681.0037
A26: Heat consumption by economic sector* | B26: ='[1]Podklady RZ'!B644 -> 1057.6101 | C26: ='[1]Podklady RZ'!C644 -> 991.38346 | D26: ='[1]Podklady RZ'!D644 -> 827.44622 | E26: ='[1]Podklady RZ'!E644 -> 487.34116 | F26: ='[1]Podklady RZ'!F644 -> 389.55104 | G26: ='[1]Podklady RZ'!G644 -> 309.96671 | H26: ='[1]Podklady RZ'!H644 -> 271.53332 | I26: ='[1]Podklady RZ'!I644 -> 317.75042 | ... O26: ='[1]Podklady RZ'!O644 -> 0.10917577
A27: Industry | B27: ='[1]Podklady RZ'!B645 -> 498.3295 | C27: ='[1]Podklady RZ'!C645 -> 479.88824 | D27: ='[1]Podklady RZ'!D645 -> 437.62385 | E27: ='[1]Podklady RZ'!E645 -> 239.27774 | F27: ='[1]Podklady RZ'!F645 -> 205.41658 | G27: ='[1]Podklady RZ'!G645 -> 215.93146 | H27: ='[1]Podklady RZ'!H645 -> 188.73466 | I27: ='[1]Podklady RZ'!I645 -> 227.83866 | ... O27: ='[1]Podklady RZ'!O645 -> 0.26780714
A28: Energy | B28: ='[1]Podklady RZ'!B646 -> 2.432774 | C28: ='[1]Podklady RZ'!C646 -> 2.300385 | D28: ='[1]Podklady RZ'!D646 -> 1.901336 | E28: ='[1]Podklady RZ'!E646 -> 0.2062 | F28: ='[1]Podklady RZ'!F646 -> 0.166965 | G28: ='[1]Podklady RZ'!G646 -> 0.063485 | H28: ='[1]Podklady RZ'!H646 -> 0.048293 | I28: ='[1]Podklady RZ'!I646 -> 0.343346 | ... O28: ='[1]Podklady RZ'!O646 -> 0.016771317
A29: Transport | B29: ='[1]Podklady RZ'!B647 -> 3.4622 | C29: ='[1]Podklady RZ'!C647 -> 3.297 | D29: ='[1]Podklady RZ'!D647 -> 2.569 | E29: ='[1]Podklady RZ'!E647 -> 1.6372 | F29: ='[1]Podklady RZ'!F647 -> 1.1204 | G29: ='[1]Podklady RZ'!G647 -> 0.283 | H29: ='[1]Podklady RZ'!H647 -> 0.2288 | I29: ='[1]Podklady RZ'!I647 -> 0.2818 | ... O29: ='[1]Podklady RZ'!O647 -> 0.037072247
A30: Construction | B30: ='[1]Podklady RZ'!B648 -> 0.21042 | C30: ='[1]Podklady RZ'!C648 -> 0.19393 | D30: ='[1]Podklady RZ'!D648 -> 0.15801 | E30: ='[1]Podklady RZ'!E648 -> 0.051 | F30: ='[1]Podklady RZ'!F648 -> 0.03 | G30: ='[1]Podklady RZ'!G648 -> 0.008 | H30: ='[1]Podklady RZ'!H648 -> 0.005 | I30: ='[1]Podklady RZ'!I648 -> 0.006 | ... O30: ='[1]Podklady RZ'!O648 -> 0.0062256457
A31: Farming and forestry | B31: ='[1]Podklady RZ'!B649 -> 1.515737 | C31: ='[1]Podklady RZ'!C649 -> 1.89559 | D31: ='[1]Podklady RZ'!D649 -> 1.041287 | E31: ='[1]Podklady RZ'!E649 -> 0.947369 | F31: ='[1]Podklady RZ'!F649 -> 0.875738 | G31: ='[1]Podklady RZ'!G649 -> 0.838689 | H31: ='[1]Podklady RZ'!H649 -> 0.994028 | I31: ='[1]Podklady RZ'!I649 -> 0.96059 | ... O31: ='[1]Podklady RZ'!O649 -> 0.027879705
A32: Households | B32: ='[1]Podklady RZ'!B650 -> 373.8047 | C32: ='[1]Podklady RZ'!C650 -> 342.4496 | D32: ='[1]Podklady RZ'!D650 -> 258.86645 | E32: ='[1]Podklady RZ'!E650 -> 169.94481 | F32: ='[1]Podklady RZ'!F650 -> 131.70187 | G32: ='[1]Podklady RZ'!G650 -> 68.893016 | H32: ='[1]Podklady RZ'!H650 -> 61.286368 | I32: ='[1]Podklady RZ'!I650 -> 65.872874 | ... O32: ='[1]Podklady RZ'!O650 -> 0.073749459
A33: Retail, services, schools, health care | B33: ='[1]Podklady RZ'!B651 -> 175.73135 | C33: ='[1]Podklady RZ'!C651 -> 158.75097 | D33: ='[1]Podklady RZ'!D651 -> 122.45234 | E33: ='[1]Podklady RZ'!E651 -> 74.128692 | F33: ='[1]Podklady RZ'!F651 -> 49.514336 | G33: ='[1]Podklady RZ'!G651 -> 23.324293 | H33: ='[1]Podklady RZ'!H651 -> 19.943868 | I33: ='[1]Podklady RZ'!I651 -> 22.188289 | ... O33: ='[1]Podklady RZ'!O651 -> 0.062165182
A34: Other | B34: ='[1]Podklady RZ'!B652 -> 2.123386 | C34: ='[1]Podklady RZ'!C652 -> 2.607742 | D34: ='[1]Podklady RZ'!D652 -> 2.833948 | E34: ='[1]Podklady RZ'!E652 -> 1.148148 | F34: ='[1]Podklady RZ'!F652 -> 0.725161 | G34: ='[1]Podklady RZ'!G652 -> 0.62477 | H34: ='[1]Podklady RZ'!H652 -> 0.2923 | I34: ='[1]Podklady RZ'!I652 -> 0.258865 | ... O34: ='[1]Podklady RZ'!O652 -> 0.012183215
A35: * The difference between supply and consumption includes losses of bought heat and a part of unidentified heat distribution.
M39: Installed capacity | N39: =O6 -> 0.11989654
M40: Gross heat production | N40: =O7 -> 0.17342694
M41: Heat supply | N41: =O8 -> 0.23692807

Sheet 8.13
A1: 8.13 Heat production, supply and consumption: Ústecký Region | O1: ='3'!N1 -> 2022
B5: First quarter | E5: Second quarter | H5: Third quarter | K5: Fourth quarter | N5: Total | O5: Share in CR
B6: January | C6: February | D6: March | E6: April | F6: May | G6: June | H6: July | I6: August | J6: September | K6: October | L6: November | M6: December
A7: Total installed capacity [MWt] | B7: ='[1]Podklady RZ'!B660 -> 11628.265 | C7: ='[1]Podklady RZ'!C660 -> 11627.985 | D7: ='[1]Podklady RZ'!D660 -> 11627.985 | E7: ='[1]Podklady RZ'!E660 -> 11628.265 | F7: ='[1]Podklady RZ'!F660 -> 11628.265 | G7: ='[1]Podklady RZ'!G660 -> 11664.066 | H7: ='[1]Podklady RZ'!H660 -> 11664.939 | I7: ='[1]Podklady RZ'!I660 -> 11664.939 | ... O7: ='[1]Podklady RZ'!O660 -> 0.30247363
A8: Gross heat production [TJ] | B8: ='[1]Podklady RZ'!B661 -> 3318.2929 | C8: ='[1]Podklady RZ'!C661 -> 3226.4575 | D8: ='[1]Podklady RZ'!D661 -> 3105.6299 | E8: ='[1]Podklady RZ'!E661 -> 2500.7431 | F8: ='[1]Podklady RZ'!F661 -> 2281.0711 | G8: ='[1]Podklady RZ'!G661 -> 1888.0367 | H8: ='[1]Podklady RZ'!H661 -> 2005.9095 | I8: ='[1]Podklady RZ'!I661 -> 2064.9611 | ... O8: ='[1]Podklady RZ'!O661 -> 0.22565401
A9: Heat supply by fuel [TJ] | B9: ='[1]Podklady RZ'!B662 -> 1558.1088 | C9: ='[1]Podklady RZ'!C662 -> 1442.3152 | D9: ='[1]Podklady RZ'!D662 -> 1222.2844 | E9: ='[1]Podklady RZ'!E662 -> 868.56827 | F9: ='[1]Podklady RZ'!F662 -> 723.63586 | G9: ='[1]Podklady RZ'!G662 -> 475.86665 | H9: ='[1]Podklady RZ'!H662 -> 484.29874 | I9: ='[1]Podklady RZ'!I662 -> 498.72586 | ... O9: ='[1]Podklady RZ'!O662 -> 0.14873878
A10: Biomass | B10: ='[1]Podklady RZ'!B663 -> 130.07362 | C10: ='[1]Podklady RZ'!C663 -> 169.56582 | D10: ='[1]Podklady RZ'!D663 -> 206.26429 | E10: ='[1]Podklady RZ'!E663 -> 150.82376 | F10: ='[1]Podklady RZ'!F663 -> 143.67454 | G10: ='[1]Podklady RZ'!G663 -> 125.70788 | H10: ='[1]Podklady RZ'!H663 -> 120.04953 | I10: ='[1]Podklady RZ'!I663 -> 113.44282 | ... O10: ='[1]Podklady RZ'!O663 -> 0.16415879
A11: Biogas | B11: ='[1]Podklady RZ'!B664 -> 1.85451 | C11: ='[1]Podklady RZ'!C664 -> 1.740239 | D11: ='[1]Podklady RZ'!D664 -> 1.366778 | E11: ='[1]Podklady RZ'!E664 -> 0.924275 | F11: ='[1]Podklady RZ'!F664 -> 1.535904 | G11: ='[1]Podklady RZ'!G664 -> 0.942466 | H11: ='[1]Podklady RZ'!H664 -> 0.751223 | I11: ='[1]Podklady RZ'!I664 -> 0.825152 | ... O11: ='[1]Podklady RZ'!O664 -> 0.029914071
A12: Hard coal | B12: ='[1]Podklady RZ'!B665 -> 0.52974 | C12: ='[1]Podklady RZ'!C665 -> 0.64655 | D12: ='[1]Podklady RZ'!D665 -> 0.23968 | E12: ='[1]Podklady RZ'!E665 -> 0 | F12: ='[1]Podklady RZ'!F665 -> 0.08036 | G12: ='[1]Podklady RZ'!G665 -> 0.10404 | H12: ='[1]Podklady RZ'!H665 -> 0.18838 | I12: ='[1]Podklady RZ'!I665 -> 0.02634 | ... O12: ='[1]Podklady RZ'!O665 -> 0.00059011955
A13: Electrical energy | B13: ='[1]Podklady RZ'!B666 -> 0.07093 | C13: ='[1]Podklady RZ'!C666 -> 0.121683 | D13: ='[1]Podklady RZ'!D666 -> 0.185699 | E13: ='[1]Podklady RZ'!E666 -> 0.076098 | F13: ='[1]Podklady RZ'!F666 -> 0 | G13: ='[1]Podklady RZ'!G666 -> 0 | H13: ='[1]Podklady RZ'!H666 -> 0 | I13: ='[1]Podklady RZ'!I666 -> 0 | ... O13: ='[1]Podklady RZ'!O666 -> 0.013864913
A14: Ambient energy (heat pump) | B14: ='[1]Podklady RZ'!B667 -> 6.8369571 | C14: ='[1]Podklady RZ'!C667 -> 6.4203401 | D14: ='[1]Podklady RZ'!D667 -> 5.2074031 | E14: ='[1]Podklady RZ'!E667 -> 3.2099304 | F14: ='[1]Podklady RZ'!F667 -> 2.7374568 | G14: ='[1]Podklady RZ'!G667 -> 1.3711025 | H14: ='[1]Podklady RZ'!H667 -> 1.2634093 | I14: ='[1]Podklady RZ'!I667 -> 1.2588551 | ... O14: ='[1]Podklady RZ'!O667 -> 0.52484464
A15: Solar energy (solar panel) | B15: ='[1]Podklady RZ'!B668 -> 0.001 | C15: ='[1]Podklady RZ'!C668 -> 0.005 | D15: ='[1]Podklady RZ'!D668 -> 0.011 | E15: ='[1]Podklady RZ'!E668 -> 0.179 | F15: ='[1]Podklady RZ'!F668 -> 0.012 | G15: ='[1]Podklady RZ'!G668 -> 0.013 | H15: ='[1]Podklady RZ'!H668 -> 0.008 | I15: ='[1]Podklady RZ'!I668 -> 0.008 | ... O15: ='[1]Podklady RZ'!O668 -> 0.24556794
A16: Brown coal | B16: ='[1]Podklady RZ'!B669 -> 1273.3907 | C16: ='[1]Podklady RZ'!C669 -> 1147.52 | D16: ='[1]Podklady RZ'!D669 -> 893.16283 | E16: ='[1]Podklady RZ'!E669 -> 643.02625 | F16: ='[1]Podklady RZ'!F669 -> 485.89442 | G16: ='[1]Podklady RZ'!G669 -> 282.48113 | H16: ='[1]Podklady RZ'!H669 -> 331.78201 | I16: ='[1]Podklady RZ'!I669 -> 320.89771 | ... O16: ='[1]Podklady RZ'!O669 -> 0.27049252
A17: Nuclear fuel | B17: ='[1]Podklady RZ'!B670 -> 0 | C17: ='[1]Podklady RZ'!C670 -> 0 | D17: ='[1]Podklady RZ'!D670 -> 0 | E17: ='[1]Podklady RZ'!E670 -> 0 | F17: ='[1]Podklady RZ'!F670 -> 0 | G17: ='[1]Podklady RZ'!G670 -> 0 | H17: ='[1]Podklady RZ'!H670 -> 0 | I17: ='[1]Podklady RZ'!I670 -> 0 | ... O17: ='[1]Podklady RZ'!O670 -> 0
A18: Coke | B18: ='[1]Podklady RZ'!B671 -> 0 | C18: ='[1]Podklady RZ'!C671 -> 0 | D18: ='[1]Podklady RZ'!D671 -> 0 | E18: ='[1]Podklady RZ'!E671 -> 0 | F18: ='[1]Podklady RZ'!F671 -> 0 | G18: ='[1]Podklady RZ'!G671 -> 0 | H18: ='[1]Podklady RZ'!H671 -> 0 | I18: ='[1]Podklady RZ'!I671 -> 0 | ... O18: ='[1]Podklady RZ'!O671 -> 0
... A34: Other | B34: ='[1]Podklady RZ'!B687 -> 26.695481 | C34: ='[1]Podklady RZ'!C687 -> 25.012382 | D34: ='[1]Podklady RZ'!D687 -> 18.550315 | E34: ='[1]Podklady RZ'!E687 -> 11.529295 | F34: ='[1]Podklady RZ'!F687 -> 7.230444 | G34: ='[1]Podklady RZ'!G687 -> 3.647405 | H34: ='[1]Podklady RZ'!H687 -> 3.163193 | I34: ='[1]Podklady RZ'!I687 -> 3.526353 | ... O34: ='[1]Podklady RZ'!O687 -> 0.10429828
A35: * The difference between supply and consumption includes losses of bought heat and a part of unidentified heat distribution.
M39: Installed capacity | N39: =O7 -> 0.30247363
M40: Gross heat production | N40: =O8 -> 0.22565401
M41: Heat supply | N41: =O9 -> 0.14873878

Sheet 8.14
A1: 8.14 Heat production, supply and consumption: Zlínský Region | O1: ='3'!N1 -> 2022
B5: First quarter | E5: Second quarter | H5: Third quarter | K5: Fourth quarter | N5: Total | O5: Share in CR
B6: January | C6: February | D6: March | E6: April | F6: May | G6: June | H6: July | I6: August | J6: September | K6: October | L6: November | M6: December
A7: Total installed capacity [MWt] | B7: ='[1]Podklady RZ'!B695 -> 1266.1176 | C7: ='[1]Podklady RZ'!C695 -> 1265.3576 | D7: ='[1]Podklady RZ'!D695 -> 1265.3576 | E7: ='[1]Podklady RZ'!E695 -> 1266.6456 | F7: ='[1]Podklady RZ'!F695 -> 1266.6456 | G7: ='[1]Podklady RZ'!G695 -> 1266.6456 | H7: ='[1]Podklady RZ'!H695 -> 1266.4811 | I7: ='[1]Podklady RZ'!I695 -> 1266.5871 | ... O7: ='[1]Podklady RZ'!O695 -> 0.032798851
A8: Gross heat production [TJ] | B8: ='[1]Podklady RZ'!B696 -> 832.50887 | C8: ='[1]Podklady RZ'!C696 -> 729.2654 | D8: ='[1]Podklady RZ'!D696 -> 620.10341 | E8: ='[1]Podklady RZ'!E696 -> 468.87547 | F8: ='[1]Podklady RZ'!F696 -> 445.18638 | G8: ='[1]Podklady RZ'!G696 -> 333.22789 | H8: ='[1]Podklady RZ'!H696 -> 338.68866 | I8: ='[1]Podklady RZ'!I696 -> 304.00059 | ... O8: ='[1]Podklady RZ'!O696 -> 0.045760658
A9: Heat supply by fuel [TJ] | B9: ='[1]Podklady RZ'!B697 -> 455.1116 | C9: ='[1]Podklady RZ'!C697 -> 429.40012 | D9: ='[1]Podklady RZ'!D697 -> 331.54248 | E9: ='[1]Podklady RZ'!E697 -> 237.2393 | F9: ='[1]Podklady RZ'!F697 -> 198.70468 | G9: ='[1]Podklady RZ'!G697 -> 137.34144 | H9: ='[1]Podklady RZ'!H697 -> 145.12873 | I9: ='[1]Podklady RZ'!I697 -> 115.44217 | ... O9: ='[1]Podklady RZ'!O697 -> 0.042134906
A10: Biomass | B10: ='[1]Podklady RZ'!B698 -> 93.871054 | C10: ='[1]Podklady RZ'!C698 -> 85.691112 | D10: ='[1]Podklady RZ'!D698 -> 74.307531 | E10: ='[1]Podklady RZ'!E698 -> 64.339036 | F10: ='[1]Podklady RZ'!F698 -> 47.438168 | G10: ='[1]Podklady RZ'!G698 -> 29.645669 | H10: ='[1]Podklady RZ'!H698 -> 7.818219 | I10: ='[1]Podklady RZ'!I698 -> 23.270222 | ... O10: ='[1]Podklady RZ'!O698 -> 0.069235312
A11: Biogas | B11: ='[1]Podklady RZ'!B699 -> 0.85067 | C11: ='[1]Podklady RZ'!C699 -> 0.835 | D11: ='[1]Podklady RZ'!D699 -> 0.69072 | E11: ='[1]Podklady RZ'!E699 -> 1.12223 | F11: ='[1]Podklady RZ'!F699 -> 0.44333 | G11: ='[1]Podklady RZ'!G699 -> 0.23858 | H11: ='[1]Podklady RZ'!H699 -> 0.26319 | I11: ='[1]Podklady RZ'!I699 -> 0.24158 | ... O11: ='[1]Podklady RZ'!O699 -> 0.01452246
A12: Hard coal | B12: ='[1]Podklady RZ'!B700 -> 13.33287 | C12: ='[1]Podklady RZ'!C700 -> 18.255111 | D12: ='[1]Podklady RZ'!D700 -> 13.255908 | E12: ='[1]Podklady RZ'!E700 -> 6.46712 | F12: ='[1]Podklady RZ'!F700 -> 1.90802 | G12: ='[1]Podklady RZ'!G700 -> 0.37918 | H12: ='[1]Podklady RZ'!H700 -> 0 | I12: ='[1]Podklady RZ'!I700 -> 15.30463 | ... O12: ='[1]Podklady RZ'!O700 -> 0.023167536
A13: Electrical energy | B13: ='[1]Podklady RZ'!B701 -> 0 | C13: ='[1]Podklady RZ'!C701 -> 0 | D13: ='[1]Podklady RZ'!D701 -> 0 | E13: ='[1]Podklady RZ'!E701 -> 0 | F13: ='[1]Podklady RZ'!F701 -> 0 | G13: ='[1]Podklady RZ'!G701 -> 0 | H13: ='[1]Podklady RZ'!H701 -> 0 | I13: ='[1]Podklady RZ'!I701 -> 0 | ... O13: ='[1]Podklady RZ'!O701 -> 0
A14: Ambient energy (heat pump) | B14: ='[1]Podklady RZ'!B702 -> 0.507089 | C14: ='[1]Podklady RZ'!C702 -> 0.394747 | D14: ='[1]Podklady RZ'!D702 -> 0.477307 | E14: ='[1]Podklady RZ'!E702 -> 0.341534 | F14: ='[1]Podklady RZ'!F702 -> 0.257134 | G14: ='[1]Podklady RZ'!G702 -> 0.155733 | H14: ='[1]Podklady RZ'!H702 -> 0.074166 | I14: ='[1]Podklady RZ'!I702 -> 0.100322 | ... O14: ='[1]Podklady RZ'!O702 -> 0.041603806
A15: Solar energy (solar panel) | B15: ='[1]Podklady RZ'!B703 -> 0 | C15: ='[1]Podklady RZ'!C703 -> 0 | D15: ='[1]Podklady RZ'!D703 -> 0 | E15: ='[1]Podklady RZ'!E703 -> 0 | F15: ='[1]Podklady RZ'!F703 -> 0 | G15: ='[1]Podklady RZ'!G703 -> 0 | H15: ='[1]Podklady RZ'!H703 -> 0 | I15: ='[1]Podklady RZ'!I703 -> 0 | ... O15: ='[1]Podklady RZ'!O703 -> 0
A16: Brown coal | B16: ='[1]Podklady RZ'!B704 -> 178.27385 | C16: ='[1]Podklady RZ'!C704 -> 161.41191 | D16: ='[1]Podklady RZ'!D704 -> 128.02675 | E16: ='[1]Podklady RZ'!E704 -> 81.899769 | F16: ='[1]Podklady RZ'!F704 -> 83.287965 | G16: ='[1]Podklady RZ'!G704 -> 39.020126 | H16: ='[1]Podklady RZ'!H704 -> 4.332849 | I16: ='[1]Podklady RZ'!I704 -> 18.618815 | ... O16: ='[1]Podklady RZ'!O704 -> 0.034338928
A17: Nuclear fuel | B17: ='[1]Podklady RZ'!B705 -> 0 | C17: ='[1]Podklady RZ'!C705 -> 0 | D17: ='[1]Podklady RZ'!D705 -> 0 | E17: ='[1]Podklady RZ'!E705 -> 0 | F17: ='[1]Podklady RZ'!F705 -> 0 | G17: ='[1]Podklady RZ'!G705 -> 0 | H17: ='[1]Podklady RZ'!H705 -> 0 | I17: ='[1]Podklady RZ'!I705 -> 0 | ... O17: ='[1]Podklady RZ'!O705 -> 0
A18: Coke | B18: ='[1]Podklady RZ'!B706 -> 0 | C18: ='[1]Podklady RZ'!C706 -> 0 | D18: ='[1]Podklady RZ'!D706 -> 0 | E18: ='[1]Podklady RZ'!E706 -> 0 | F18: ='[1]Podklady RZ'!F706 -> 0 | G18: ='[1]Podklady RZ'!G706 -> 0 | H18: ='[1]Podklady RZ'!H706 -> 0 | I18: ='[1]Podklady RZ'!I706 -> 0 | ... O18: ='[1]Podklady RZ'!O706 -> 0
... A34: Other | B34: ='[1]Podklady RZ'!B722 -> 0.439118 | C34: ='[1]Podklady RZ'!C722 -> 0.360297 | D34: ='[1]Podklady RZ'!D722 -> 0.237117 | E34: ='[1]Podklady RZ'!E722 -> 0.118551 | F34: ='[1]Podklady RZ'!F722 -> 0.023 | G34: ='[1]Podklady RZ'!G722 -> 0 | H34: ='[1]Podklady RZ'!H722 -> 0 | I34: ='[1]Podklady RZ'!I722 -> 0 | ... O34: ='[1]Podklady RZ'!O722 -> 0.0014205293
A35: * The difference between supply and consumption includes losses of bought heat and a part of unidentified heat distribution.
M39: Installed capacity | N39: =O7 -> 0.032798851
M40: Gross heat production | N40: =O8 -> 0.045760658
M41: Heat supply | N41: =O9 -> 0.042134906

Sheet 9
A1: 9 Net heat production and heat production from CHP [TJ] | P1: ='3'!N1 -> 2022
B3: First quarter | E3: Second quarter | H3: Third quarter | K3: Fourth quarter | N3: Total
B4: Qnet | C4: QCHP | D4: QCHP/ Qnet | E4: Qnet | F4: QCHP | G4: QCHP/ Qnet | H4: Qnet | I4: QCHP | J4: QCHP/ Qnet | K4: Qnet | L4: QCHP | M4: QCHP/ Qnet | N4: Qnet | O4: QCHP | P4: QCHP/ Qnet
A5: Total | B5: =+'[1]Podklady RZ'!B730 -> 45018.646 | C5: =+'[1]Podklady RZ'!C730 -> 30412.367 | D5: =+'[1]Podklady RZ'!D730 -> 0.67555046 | E5: =+'[1]Podklady RZ'!E730 -> 24234.938 | F5: =+'[1]Podklady RZ'!F730 -> 16017.501 | G5: =+'[1]Podklady RZ'!G730 -> 0.66092601 | H5: =+'[1]Podklady RZ'!H730 -> 19278.768 | I5: =+'[1]Podklady RZ'!I730 -> 12164.023 | ... P5: =+'[1]Podklady RZ'!P730 -> 0.65983321
A6: Biomass | B6: =+'[1]Podklady RZ'!B731 -> 7946.3204 | C6: =+'[1]Podklady RZ'!C731 -> 5999.0502 | D6: =+'[1]Podklady RZ'!D731 -> 0.75494693 | E6: =+'[1]Podklady RZ'!E731 -> 6260.7633 | F6: =+'[1]Podklady RZ'!F731 -> 4943.425 | G6: =+'[1]Podklady RZ'!G731 -> 0.78958823 | H6: =+'[1]Podklady RZ'!H731 -> 5321.0684 | I6: =+'[1]Podklady RZ'!I731 -> 3971.6263 | ... P6: =+'[1]Podklady RZ'!P731 -> 0.76245282
A7: Biogas | B7: =+'[1]Podklady RZ'!B732 -> 651.30185 | C7: =+'[1]Podklady RZ'!C732 -> 598.92985 | D7: =+'[1]Podklady RZ'!D732 -> 0.91958875 | E7: =+'[1]Podklady RZ'!E732 -> 444.04363 | F7: =+'[1]Podklady RZ'!F732 -> 397.65644 | G7: =+'[1]Podklady RZ'!G732 -> 0.89553461 | H7: =+'[1]Podklady RZ'!H732 -> 377.66545 | I7: =+'[1]Podklady RZ'!I732 -> 331.89188 | ... P7: =+'[1]Podklady RZ'!P732 -> 0.90851986
A8: Hard coal | B8: =+'[1]Podklady RZ'!B733 -> 3033.3832 | C8: =+'[1]Podklady RZ'!C733 -> 2302.4446 | D8: =+'[1]Podklady RZ'!D733 -> 0.7590352 | E8: =+'[1]Podklady RZ'!E733 -> 1135.6782 | F8: =+'[1]Podklady RZ'!F733 -> 795.80952 | G8: =+'[1]Podklady RZ'!G733 -> 0.70073505 | H8: =+'[1]Podklady RZ'!H733 -> 853.53361 | I8: =+'[1]Podklady RZ'!I733 -> 613.38532 | ... P8: =+'[1]Podklady RZ'!P733 -> 0.75949493
A9: Electrical energy | B9: =+'[1]Podklady RZ'!B734 -> 24.498276 | C9: =+'[1]Podklady RZ'!C734 -> 0 | D9: =+'[1]Podklady RZ'!D734 -> 0 | E9: =+'[1]Podklady RZ'!E734 -> 24.914502 | F9: =+'[1]Podklady RZ'!F734 -> 0 | G9: =+'[1]Podklady RZ'!G734 -> 0 | H9: =+'[1]Podklady RZ'!H734 -> 17.609791 | I9: =+'[1]Podklady RZ'!I734 -> 0 | ... P9: =+'[1]Podklady RZ'!P734 -> 0
A10: Ambient energy (heat pump) | B10: =+'[1]Podklady RZ'!B735 -> 28.469167 | C10: =+'[1]Podklady RZ'!C735 -> 0 | D10: =+'[1]Podklady RZ'!D735 -> 0 | E10: =+'[1]Podklady RZ'!E735 -> 21.894475 | F10: =+'[1]Podklady RZ'!F735 -> 0 | G10: =+'[1]Podklady RZ'!G735 -> 0 | H10: =+'[1]Podklady RZ'!H735 -> 19.140715 | I10: =+'[1]Podklady RZ'!I735 -> 0 | ... P10: =+'[1]Podklady RZ'!P735 -> 0
A11: Solar energy (solar panel) | B11: =+'[1]Podklady RZ'!B736 -> 0.310973 | C11: =+'[1]Podklady RZ'!C736 -> 0 | D11: =+'[1]Podklady RZ'!D736 -> 0 | E11: =+'[1]Podklady RZ'!E736 -> 0.453683 | F11: =+'[1]Podklady RZ'!F736 -> 0 | G11: =+'[1]Podklady RZ'!G736 -> 0 | H11: =+'[1]Podklady RZ'!H736 -> 0.238996 | I11: =+'[1]Podklady RZ'!I736 -> 0 | ... P11: =+'[1]Podklady RZ'!P736 -> 0
A12: Brown coal | B12: =+'[1]Podklady RZ'!B737 -> 17277.198 | C12: =+'[1]Podklady RZ'!C737 -> 14891.897 | D12: =+'[1]Podklady RZ'!D737 -> 0.86193936 | E12: =+'[1]Podklady RZ'!E737 -> 7629.9234 | F12: =+'[1]Podklady RZ'!F737 -> 6451.1856 | G12: =+'[1]Podklady RZ'!G737 -> 0.84551119 | H12: =+'[1]Podklady RZ'!H737 -> 5130.1735 | I12: =+'[1]Podklady RZ'!I737 -> 4311.1917 | ... P12: =+'[1]Podklady RZ'!P737 -> 0.85953777
A13: Nuclear fuel | B13: =+'[1]Podklady RZ'!B738 -> 707.857 | C13: =+'[1]Podklady RZ'!C738 -> 0 | D13: =+'[1]Podklady RZ'!D738 -> 0 | E13: =+'[1]Podklady RZ'!E738 -> 282.403 | F13: =+'[1]Podklady RZ'!F738 -> 0 | G13: =+'[1]Podklady RZ'!G738 -> 0 | H13: =+'[1]Podklady RZ'!H738 -> 146.641 | I13: =+'[1]Podklady RZ'!I738 -> 0 | ... P13: =+'[1]Podklady RZ'!P738 -> 0
A14: Coke | B14: =+'[1]Podklady RZ'!B739 -> 0 | C14: =+'[1]Podklady RZ'!C739 -> 0 | D14: =+'[1]Podklady RZ'!D739 -> 0 | E14: =+'[1]Podklady RZ'!E739 -> 0 | F14: =+'[1]Podklady RZ'!F739 -> 0 | G14: 0 | H14: =+'[1]Podklady RZ'!H739 -> 0 | I14: =+'[1]Podklady RZ'!I739 -> 0 | J14: 0 | K14: =+'[1]Podklady RZ'!K739 -> 0 | L14: =+'[1]Podklady RZ'!L739 -> 0 | M14: 0 | N14: =+'[1]Podklady RZ'!N739 -> 0 | O14: =+'[1]Podklady RZ'!O739 -> 0 | P14: =+'[1]Podklady RZ'!P739 -> 0
A15: Waste heat | B15: =+'[1]Podklady RZ'!B740 -> 1680.8787 | C15: =+'[1]Podklady RZ'!C740 -> 237.34216 | D15: =+'[1]Podklady RZ'!D740 -> 0.14120125 | E15: =+'[1]Podklady RZ'!E740 -> 1652.5955 | F15: =+'[1]Podklady RZ'!F740 -> 226.74143 | G15: =+'[1]Podklady RZ'!G740 -> 0.13720323 | H15: =+'[1]Podklady RZ'!H740 -> 1415.6354 | I15: =+'[1]Podklady RZ'!I740 -> 152.24164 | ... P15: =+'[1]Podklady RZ'!P740 -> 0.12292706
A16: Other liquid fuels | B16: =+'[1]Podklady RZ'!B741 -> 7.841822 | C16: =+'[1]Podklady RZ'!C741 -> 3.509247 | D16: =+'[1]Podklady RZ'!D741 -> 0.44750404 | E16: =+'[1]Podklady RZ'!E741 -> 1.89508 | F16: =+'[1]Podklady RZ'!F741 -> 1.476471 | G16: =+'[1]Podklady RZ'!G741 -> 0.77910748 | H16: =+'[1]Podklady RZ'!H741 -> 1.734821 | I16: =+'[1]Podklady RZ'!I741 -> 0.817463 | ... P16: =+'[1]Podklady RZ'!P741 -> 0.38068041
A17: Other solid fuels | B17: =+'[1]Podklady RZ'!B742 -> 1122.5281 | C17: =+'[1]Podklady RZ'!C742 -> 886.29545 | D17: =+'[1]Podklady RZ'!D742 -> 0.78955305 | E17: =+'[1]Podklady RZ'!E742 -> 907.08362 | F17: =+'[1]Podklady RZ'!F742 -> 721.41452 | G17: =+'[1]Podklady RZ'!G742 -> 0.79531203 | H17: =+'[1]Podklady RZ'!H742 -> 690.6454 | I17: =+'[1]Podklady RZ'!I742 -> 481.20481 | ... P17: =+'[1]Podklady RZ'!P742 -> 0.75469439
A18: Other gases | B18: =+'[1]Podklady RZ'!B743 -> 1521.2304 | C18: =+'[1]Podklady RZ'!C743 -> 1052.2523 | D18: =+'[1]Podklady RZ'!D743 -> 0.69171134 | E18: =+'[1]Podklady RZ'!E743 -> 1457.604 | F18: =+'[1]Podklady RZ'!F743 -> 948.12635 | G18: =+'[1]Podklady RZ'!G743 -> 0.65046907 | H18: =+'[1]Podklady RZ'!H743 -> 1368.8137 | I18: =+'[1]Podklady RZ'!I743 -> 819.67302 | ... P18: =+'[1]Podklady RZ'!P743 -> 0.62279306
A19: Other | B19: =+'[1]Podklady RZ'!B744 -> 0 | C19: =+'[1]Podklady RZ'!C744 -> 0 | D19: =+'[1]Podklady RZ'!D744 -> 0 | E19: =+'[1]Podklady RZ'!E744 -> 0 | F19: =+'[1]Podklady RZ'!F744 -> 0 | G19: =+'[1]Podklady RZ'!G744 -> 0 | H19: =+'[1]Podklady RZ'!H744 -> 0 | I19: =+'[1]Podklady RZ'!I744 -> 0 | ... P19: =+'[1]Podklady RZ'!P744 -> 0
A20: Fuel oils | B20: =+'[1]Podklady RZ'!B745 -> 89.173737 | C20: =+'[1]Podklady RZ'!C745 -> 14.498213 | D20: =+'[1]Podklady RZ'!D745 -> 0.16258389 | E20: =+'[1]Podklady RZ'!E745 -> 19.646718 | F20: =+'[1]Podklady RZ'!F745 -> 5.301391 | G20: =+'[1]Podklady RZ'!G745 -> 0.26983596 | H20: =+'[1]Podklady RZ'!H745 -> 16.139601 | I20: =+'[1]Podklady RZ'!I745 -> 6.201018 | ... P20: =+'[1]Podklady RZ'!P745 -> 0.19086128
A21: Natural gas | B21: =+'[1]Podklady RZ'!B746 -> 10927.654 | C21: =+'[1]Podklady RZ'!C746 -> 4426.1477 | D21: =+'[1]Podklady RZ'!D746 -> 0.40504099 | E21: =+'[1]Podklady RZ'!E746 -> 4396.0386 | F21: =+'[1]Podklady RZ'!F746 -> 1526.3639 | G21: =+'[1]Podklady RZ'!G746 -> 0.34721349 | H21: =+'[1]Podklady RZ'!H746 -> 3919.7276 | I21: =+'[1]Podklady RZ'!I746 -> 1475.7899 | ... P21: =+'[1]Podklady RZ'!P746 -> 0.37900191

Sheet 10.1
A1: 10 Heat balance, heat supply, heat consumption, and CHP
A2: 10.1 Development of the heat balance [TJ], quarter-on-quarter comparison
B4: First quarter | C4: Second quarter | D4: Third quarter | E4: Fourth quarter | F4: Total
A5: Gross heat production in 2017 | B5: 59492.39 | C5: 33647.195 | D5: 26175.938 | E5: 50852.252 | F5: =SUM(B5:E5) -> 170167.77 | H5: 2017
A6: Gross heat production in 2018 | B6: 59760.704 | C6: 28688.567 | D6: 24452.443 | E6: 50022.549 | F6: =SUM(B6:E6) -> 162924.26 | H6: =+H5+1 -> 2018
A7: Gross heat production in 2019 | B7: 55809.228 | C7: 32753.714 | D7: 24978.364 | E7: 48372.261 | F7: =SUM(B7:E7) -> 161913.57 | H7: =+H6+1 -> 2019
A8: Gross heat production in 2020 | B8: 53528.768 | C8: 31489.554 | D8: 24527.664 | E8: 47371.723 | F8: =SUM(B8:E8) -> 156917.71
A9: Gross heat production in 2021 | B9: 55541.375 | C9: 33762.132 | D9: 24376.24 | E9: 48025.461 | F9: =SUM(B9:E9) -> 161705.21
A10: Gross heat production in 2022 | B10: 51649.88 | C10: 30879.657 | D10: 24270.988 | E10: 44292.94 | F10: =SUM(B10:E10) -> 151093.47
A11: Gross heat production in 2023 | B11: 48006.113 | C11: 29478.211 | D11: 21441.523 | E11: 42149.675 | F11: =SUM(B11:E11) -> 141075.52
A12: Gross heat production in 2024 | B12: 44946.43 | C12: 25432.946 | D12: 20203.737 | E12: 42253.749 | F12: =SUM(B12:E12) -> 132836.86
A13: Gross heat production in 2025 | B13: =+'3'!B5 -> 47740.327 | C13: =+'3'!E5 -> 26025.743 | D13: =+'3'!H5 -> 21016.829 | E13: =+'3'!K5 -> 42551.557 | F13: =SUM(B13:E13) -> 137334.46
A14: Year-on-year change - gross heat production | B14: =+B13-B12 -> 2793.8971 | C14: =+C13-C12 -> 592.79752 | D14: =+D13-D12 -> 813.09217 | E14: =+E13-E12 -> 297.80799 | F14: =+F13-F12 -> 4497.5948
A15: Year-on-year change - gross heat production | B15: =+(B13-B12)/B12 -> 0.062160601 | C15: =+(C13-C12)/C12 -> 0.023308253 | D15: =+(D13-D12)/D12 -> 0.040244642 | E15: =+(E13-E12)/E12 -> 0.0070480844 | F15: =+(F13-F12)/F12 -> 0.033858032
A16: Heat supply in 2017 | B16: 37510.165 | C16: 16101.259 | D16: 10892.098 | E16: 29809.263 | F16: =SUM(B16:E16) -> 94312.785
A17: Heat supply in 2018 | B17: 38059.708 | C17: 12376.442 | D17: 9704.6085 | E17: 28893.454 | F17: =SUM(B17:E17) -> 89034.213
A18: Heat supply in 2019 | B18: 34400.186 | C18: 15804.079 | D18: 10045.799 | E18: 27517.002 | F18: =SUM(B18:E18) -> 87767.066
A19: Heat supply in 2020 | B19: 32870.946 | C19: 14818.915 | D19: 9700.16 | E19: 28538.476 | F19: =SUM(B19:E19) -> 85928.496
A20: Heat supply in 2021 | B20: 35884.339 | C20: 17769.049 | D20: 9774.4194 | E20: 29062.794 | F20: =SUM(B20:E20) -> 92490.601
A21: Heat supply in 2022 | B21: 31881.908 | C21: 14755.74 | D21: 9897.319 | E21: 25535.022 | F21: =SUM(B21:E21) -> 82069.989
A22: Heat supply in 2023 | B22: 29537.162 | C22: 14379.33 | D22: 8040.4475 | E22: 23982.614 | F22: =SUM(B22:E22) -> 75939.554
A23: Heat supply in 2024 | B23: 27473.734 | C23: 11714.858 | D23: 8173.2212 | E23: 25640.774 | F23: =SUM(B23:E23) -> 73002.588
A24: Heat supply in 2025 | B24: =+'3'!B13 -> 30010.319 | C24: =+'3'!E13 -> 12492.291 | D24: =+'3'!H13 -> 8395.3319 | E24: =+'3'!K13 -> 26195.149 | F24: =SUM(B24:E24) -> 77093.091
A25: Year-on-year change - heat supply | B25: =+B24-B23 -> 2536.5844 | C25: =+C24-C23 -> 777.43259 | D25: =+D24-D23 -> 222.11069 | E25: =+E24-E23 -> 554.3749 | F25: =+F24-F23 -> 4090.5026
A26: Year-on-year change - heat supply | B26: =+(B24-B23)/B23 -> 0.092327615 | C26: =+(C24-C23)/C23 -> 0.066362952 | D26: =+(D24-D23)/D23 -> 0.027175416 | E26: =+(E24-E23)/E23 -> 0.021620833 | F26: =+(F24-F23)/F23 -> 0.056032295

Sheet 10.2
A1: 10.2 Development of the heat balance [TJ], month-on-month comparison | N1: ='3'!N1 -> 2022
B3: January | C3: February | D3: March | E3: April | F3: May | G3: June | H3: July | I3: August | J3: September | K3: October | L3: November | M3: December | N3: Total
A4: Gross heat production in 2017 | B4: 24789.614 | C4: 18587.655 | D4: 16115.121 | E4: 14166.978 | F4: 11027.895 | G4: 8452.3221 | H4: 7792.7375 | I4: 8048.3981 | J4: 10334.802 | K4: 13440.564 | L4: 17328.765 | M4: 20082.923 | N4: =SUM(B4:M4) -> 170167.77
A5: Gross heat production in 2018 | B5: 20205.211 | C5: 19893.166 | D5: 19662.326 | E5: 11150.511 | F5: 9168.1221 | G5: 8369.9335 | H5: 7962.9605 | I5: 7784.67 | J5: 8704.8128 | K5: 13135.076 | L5: 16756.354 | M5: 20131.119 | N5: =SUM(B5:M5) -> 162924.26
A6: Gross heat production in 2019 | B6: 22056.231 | C6: 17612.441 | D6: 16140.556 | E6: 12700.3 | F6: 11948.674 | G6: 8104.739 | H6: 7552.7619 | I6: 7913.1296 | J6: 9512.4722 | K6: 13236.203 | L6: 16157.598 | M6: 18978.46 | N6: =SUM(B6:M6) -> 161913.57
A7: Gross heat production in 2020 | B7: 20414.696 | C7: 16681.781 | D7: 16432.291 | E7: 12068.092 | F7: 10838.723 | G7: 8582.7396 | H7: 8024.1054 | I7: 7694.3481 | J7: 8809.2106 | K7: 13094.067 | L7: 16139.092 | M7: 18138.565 | N7: =SUM(B7:M7) -> 156917.71
A8: Gross heat production in 2021 | B8: 20176.026 | C8: 18164.751 | D8: 17200.599 | E8: 14288.328 | F8: 11521.628 | G8: 7952.1761 | H8: 7518.2409 | I8: 7904.9502 | J8: 8953.049 | K8: 12887.297 | L8: 16133.109 | M8: 19005.055 | N8: =SUM(B8:M8) -> 161705.21
A9: Gross heat production in 2022 | B9: 19443.893 | C9: 15892.034 | D9: 16313.952 | E9: 13523.165 | F9: 9408.3478 | G9: 7948.1444 | H9: 7511.9053 | I9: 7457.2336 | J9: 9301.8496 | K9: 11147.413 | L9: 14951.953 | M9: 18193.574 | N9: =SUM(B9:M9) -> 151093.47
A10: Gross heat production in 2023 | B10: 17271.859 | C10: 15740.75 | D10: 14993.504 | E10: 12962.137 | F10: 9400.4603 | G10: 7115.6143 | H10: 7061.9836 | I10: 7070.0371 | J10: 7309.5028 | K10: 10641.895 | L10: 14270.518 | M10: 17237.261 | N10: =SUM(B10:M10) -> 141075.52
A11: Gross heat production in 2024 | B11: 18457.259 | C11: 13612.465 | D11: 12876.707 | E11: 10308.783 | F11: 8104.0155 | G11: 7020.1474 | H11: 6486.0418 | I11: 6271.9956 | J11: 7445.6998 | K11: 10568.481 | L11: 14913.233 | M11: 16772.036 | N11: =SUM(B11:M11) -> 132836.86
A12: Gross heat production in 2025 | B12: =+'3'!B6 -> 17776.669 | C12: =+'3'!C6 -> 16072.979 | D12: =+'3'!D6 -> 13890.679 | E12: =+'3'!E6 -> 10129.228 | F12: =+'3'!F6 -> 9074.5859 | G12: =+'3'!G6 -> 6821.9288 | H12: =+'3'!H6 -> 6698.5726 | I12: =+'3'!I6 -> 6715.0381 | ... M12: =+'3'!M6 -> 16406.202 | N12: =SUM(B12:M12) -> 137334.46
A13: Year-on-year change - gross heat production | B13: =+B12-B11 -> -680.58931 | C13: =+C12-C11 -> 2460.514 | D13: =+D12-D11 -> 1013.9724 | E13: =+E12-E11 -> -179.55427 | F13: =+F12-F11 -> 970.57039 | G13: =+G12-G11 -> -198.21859 | H13: =+H12-H11 -> 212.53082 | I13: =+I12-I11 -> 443.04252 | ... N13: =+N12-N11 -> 4497.5948
A14: Year-on-year change - gross heat production | B14: =+(B12-B11)/B11 -> -0.036873802 | C14: =+(C12-C11)/C11 -> 0.18075448 | D14: =+(D12-D11)/D11 -> 0.078744702 | E14: =+(E12-E11)/E11 -> -0.017417602 | F14: =+(F12-F11)/F11 -> 0.11976413 | G14: =+(G12-G11)/G11 -> -0.028235673 | H14: =+(H12-H11)/H11 -> 0.032767414 | I14: =+(I12-I11)/I11 -> 0.070638206 | ... N14: =+(N12-N11)/N11 -> 0.033858032
A15: Heat supply in 2017 | B15: 16476.822 | C15: 11652.657 | D15: 9380.6853 | E15: 7846.1932 | F15: 5061.2888 | G15: 3193.7769 | H15: 3007.0444 | I15: 3096.8377 | J15: 4788.2164 | K15: 7068.3588 | L15: 10311.595 | M15: 12429.309 | N15: =SUM(B15:M15) -> 94312.785
A16: Heat supply in 2018 | B16: 12397.07 | C16: 13087.222 | D16: 12575.416 | E16: 5467.8344 | F16: 3743.2425 | G16: 3165.3655 | H16: 3043.6242 | I16: 2999.7638 | J16: 3661.2205 | K16: 6796.5152 | L16: 9833.637 | M16: 12263.302 | N16: =SUM(B16:M16) -> 89034.213
A17: Heat supply in 2019 | B17: 14046.377 | C17: 10951.41 | D17: 9402.3984 | E17: 6672.4893 | F17: 6033.9071 | G17: 3097.6823 | H17: 2995.5989 | I17: 2998.0574 | J17: 4052.1428 | K17: 6857.3033 | L17: 9198.7341 | M17: 11460.965 | N17: =SUM(B17:M17) -> 87767.066
A18: Heat supply in 2020 | B18: 12828.653 | C18: 10230.655 | D18: 9811.6372 | E18: 6347.7919 | F18: 5236.2863 | G18: 3234.8365 | H18: 3001.1452 | I18: 2961.1161 | J18: 3737.8987 | K18: 7281.3867 | L18: 9737.8379 | M18: 11519.251 | N18: =SUM(B18:M18) -> 85928.496
A19: Heat supply in 2021 | B19: 13037.75 | C19: 12001.978 | D19: 10844.611 | E19: 8602.3088 | F19: 5992.6151 | G19: 3174.1252 | H19: 2786.1713 | I19: 3049.7826 | J19: 3938.4655 | K19: 7227.6803 | L19: 9693.6752 | M19: 12141.438 | N19: =SUM(B19:M19) -> 92490.601
A20: Heat supply in 2022 | B20: 12108.598 | C20: 9829.5326 | D20: 9943.7774 | E20: 7782.3586 | F20: 3971.3349 | G20: 3002.0463 | H20: 2836.021 | I20: 2853.2196 | J20: 4208.0785 | K20: 5671.6382 | L20: 8529.2031 | M20: 11334.18 | N20: =SUM(B20:M20) -> 82069.989
A21: Heat supply in 2023 | B21: 10502.688 | C21: 10009.644 | D21: 9024.8297 | E21: 7320.4814 | F21: 4273.8043 | G21: 2785.0443 | H21: 2581.8491 | I21: 2663.5396 | J21: 2795.0587 | K21: 5048.097 | L21: 8480.3642 | M21: 10454.153 | N21: =SUM(B21:M21) -> 75939.554
A22: Heat supply in 2024 | B22: 11768.184 | C22: 8188.6469 | D22: 7516.904 | E22: 5510.6873 | F22: 3464.0072 | G22: 2740.1639 | H22: 2450.8204 | I22: 2500.1212 | J22: 3222.2796 | K22: 5957.8149 | L22: 9122.2104 | M22: 10560.749 | N22: =SUM(B22:M22) -> 73002.588
A23: Heat supply in 2025 | B23: =+'3'!B14 -> 11343.689 | C23: =+'3'!C14 -> 10404.305 | D23: =+'3'!D14 -> 8262.3241 | E23: =+'3'!E14 -> 5385.6958 | F23: =+'3'!F14 -> 4431.3835 | G23: =+'3'!G14 -> 2675.2117 | H23: =+'3'!H14 -> 2529.183 | I23: =+'3'!I14 -> 2578.0161 | ... M23: =+'3'!M14 -> 10502.239 | N23: =SUM(B23:M23) -> 77093.091
A24: Year-on-year change - heat supply | B24: =+B23-B22 -> -424.49414 | C24: =+C23-C22 -> 2215.6584 | D24: =+D23-D22 -> 745.42011 | E24: =+E23-E22 -> -124.99154 | F24: =+F23-F22 -> 967.37628 | G24: =+G23-G22 -> -64.952149 | H24: =+H23-H22 -> 78.36258 | I24: =+I23-I22 -> 77.894893 | ... N24: =+N23-N22 -> 4090.5026
A25: Year-on-year change - heat supply | B25: =+(B23-B22)/B22 -> -0.036071339 | C25: =+(C23-C22)/C22 -> 0.27057686 | D25: =+(D23-D22)/D22 -> 0.099165842 | E25: =+(E23-E22)/E22 -> -0.022681661 | F25: =+(F23-F22)/F22 -> 0.27926509 | G25: =+(G23-G22)/G22 -> -0.023703746 | H25: =+(H23-H22)/H22 -> 0.031974019 | I25: =+(I23-I22)/I22 -> 0.031156447 | ... N25: =+(N23-N22)/N22 -> 0.056032295
B29: 1 | C29: 2 | D29: 3 | E29: 4 | F29: 5 | G29: 6 | H29: 7 | I29: 8 | J29: 9 | K29: 10 | L29: 11 | M29: 12
A30: Výroba tepla brutto | B30: Leden | C30: Únor | D30: Březen | E30: Duben | F30: Květen | G30: Červen | H30: Červenec | I30: Srpen | J30: Září | K30: Říjen | L30: Listopad | M30: Prosinec
A31: max | B31: =+MAX(B4:B11) -> 24789.614 | C31: =+MAX(C4:C11) -> 19893.166 | D31: =+MAX(D4:D11) -> 19662.326 | E31: =+MAX(E4:E11) -> 14288.328 | F31: =+MAX(F4:F11) -> 11948.674 | G31: =+MAX(G4:G11) -> 8582.7396 | H31: =+MAX(H4:H11) -> 8024.1054 | I31: =+MAX(I4:I11) -> 8048.3981 | ... M31: =+MAX(M4:M11) -> 20131.119
A32: min | B32: =+MIN(B4:B11) -> 17271.859 | C32: =+MIN(C4:C11) -> 13612.465 | D32: =+MIN(D4:D11) -> 12876.707 | E32: =+MIN(E4:E11) -> 10308.783 | F32: =+MIN(F4:F11) -> 8104.0155 | G32: =+MIN(G4:G11) -> 7020.1474 | H32: =+MIN(H4:H11) -> 6486.0418 | I32: =+MIN(I4:I11) -> 6271.9956 | ... M32: =+MIN(M4:M11) -> 16772.036
A33: Range 2017-2024 | B33: =+B31-B32 -> 7517.7557 | C33: =+C31-C32 -> 6280.7015 | D33: =+D31-D32 -> 6785.6198 | E33: =+E31-E32 -> 3979.5453 | F33: =+F31-F32 -> 3844.6588 | G33: =+G31-G32 -> 1562.5922 | H33: =+H31-H32 -> 1538.0636 | I33: =+I31-I32 -> 1776.4025 | ... M33: =+M31-M32 -> 3359.0828
A34: 2024 | B34: =+B11 -> 18457.259 | C34: =+C11 -> 13612.465 | D34: =+D11 -> 12876.707 | E34: =+E11 -> 10308.783 | F34: =+F11 -> 8104.0155 | G34: =+G11 -> 7020.1474 | H34: =+H11 -> 6486.0418 | I34: =+I11 -> 6271.9956 | ... M34: =+M11 -> 16772.036
A35: 2025 | B35: =+B12 -> 17776.669 | C35: =+C12 -> 16072.979 | D35: =+D12 -> 13890.679 | E35: =+E12 -> 10129.228 | F35: =+F12 -> 9074.5859 | G35: =+G12 -> 6821.9288 | H35: =+H12 -> 6698.5726 | I35: =+I12 -> 6715.0381 | ... M35: =+M12 -> 16406.202
A37: Dodávky tepla
A38: max | B38: =+MAX(B15:B22) -> 16476.822 | C38: =+MAX(C15:C22) -> 13087.222 | D38: =+MAX(D15:D22) -> 12575.416 | E38: =+MAX(E15:E22) -> 8602.3088 | F38: =+MAX(F15:F22) -> 6033.9071 | G38: =+MAX(G15:G22) -> 3234.8365 | H38: =+MAX(H15:H22) -> 3043.6242 | I38: =+MAX(I15:I22) -> 3096.8377 | ... M38: =+MAX(M15:M22) -> 12429.309
A39: min | B39: =+MIN(B15:B22) -> 10502.688 | C39: =+MIN(C15:C22) -> 8188.6469 | D39: =+MIN(D15:D22) -> 7516.904 | E39: =+MIN(E15:E22) -> 5467.8344 | F39: =+MIN(F15:F22) -> 3464.0072 | G39: =+MIN(G15:G22) -> 2740.1639 | H39: =+MIN(H15:H22) -> 2450.8204 | I39: =+MIN(I15:I22) -> 2500.1212 | ... M39: =+MIN(M15:M22) -> 10454.153
A40: Range 2017-2024 | B40: =+B38-B39 -> 5974.1337 | C40: =+C38-C39 -> 4898.5749 | D40: =+D38-D39 -> 5058.5124 | E40: =+E38-E39 -> 3134.4744 | F40: =+F38-F39 -> 2569.8999 | G40: =+G38-G39 -> 494.67259 | H40: =+H38-H39 -> 592.80372 | I40: =+I38-I39 -> 596.71647 | ... M40: =+M38-M39 -> 1975.1563
A41: 2024 | B41: =+B22 -> 11768.184 | C41: =+C22 -> 8188.6469 | D41: =+D22 -> 7516.904 | E41: =+E22 -> 5510.6873 | F41: =+F22 -> 3464.0072 | G41: =+G22 -> 2740.1639 | H41: =+H22 -> 2450.8204 | I41: =+I22 -> 2500.1212 | ... M41: =+M22 -> 10560.749
A42: 2025 | B42: =+B23 -> 11343.689 | C42: =+C23 -> 10404.305 | D42: =+D23 -> 8262.3241 | E42: =+E23 -> 5385.6958 | F42: =+F23 -> 4431.3835 | G42: =+G23 -> 2675.2117 | H42: =+H23 -> 2529.183 | I42: =+I23 -> 2578.0161 | ... M42: =+M23 -> 10502.239

Sheet 10.3
A1: 10.3 Gross heat production by fuel and Czech Regions [TJ]
B3: 2017 | C3: 2018 | D3: 2019 | E3: 2020 | F3: 2021 | G3: 2022 | H3: 2023 | I3: 2024 | J3: 2025 | K3: Difference (2025-2024) | L3: Year-on-year change
A4: Gross heat production | B4: =SUM(B5:B20) -> 170167.77 | C4: =SUM(C5:C20) -> 162924.26 | D4: =SUM(D5:D20) -> 161913.57 | E4: =SUM(E5:E20) -> 156917.71 | F4: =SUM(F5:F20) -> 161705.21 | G4: =SUM(G5:G20) -> 151093.47 | H4: =SUM(H5:H20) -> 141075.52 | I4: =SUM(I5:I20) -> 132836.86 | J4: =SUM(J5:J20) -> 137334.46 | K4: =+J4-I4 -> 4497.5948 | L4: =+J4/I4-1 -> 0.033858032
